BEGIN:VCALENDAR
VERSION:2.0
PRODID:-//Illinois Certified Domestic Violence Professionals - ECPv6.15.20//NONSGML v1.0//EN
CALSCALE:GREGORIAN
METHOD:PUBLISH
X-WR-CALNAME:Illinois Certified Domestic Violence Professionals
X-ORIGINAL-URL:https://ilcdvp.org
X-WR-CALDESC:Events for Illinois Certified Domestic Violence Professionals
REFRESH-INTERVAL;VALUE=DURATION:PT1H
X-Robots-Tag:noindex
X-PUBLISHED-TTL:PT1H
BEGIN:VTIMEZONE
TZID:America/Chicago
BEGIN:DAYLIGHT
TZOFFSETFROM:-0600
TZOFFSETTO:-0500
TZNAME:CDT
DTSTART:20250309T080000
END:DAYLIGHT
BEGIN:STANDARD
TZOFFSETFROM:-0500
TZOFFSETTO:-0600
TZNAME:CST
DTSTART:20251102T070000
END:STANDARD
BEGIN:DAYLIGHT
TZOFFSETFROM:-0600
TZOFFSETTO:-0500
TZNAME:CDT
DTSTART:20260308T080000
END:DAYLIGHT
BEGIN:STANDARD
TZOFFSETFROM:-0500
TZOFFSETTO:-0600
TZNAME:CST
DTSTART:20261101T070000
END:STANDARD
BEGIN:DAYLIGHT
TZOFFSETFROM:-0600
TZOFFSETTO:-0500
TZNAME:CDT
DTSTART:20270314T080000
END:DAYLIGHT
BEGIN:STANDARD
TZOFFSETFROM:-0500
TZOFFSETTO:-0600
TZNAME:CST
DTSTART:20271107T070000
END:STANDARD
END:VTIMEZONE
BEGIN:VEVENT
DTSTART;TZID=America/Chicago:20261109T080000
DTEND;TZID=America/Chicago:20261118T170000
DTSTAMP:20260422T071552
CREATED:20260108T170931Z
LAST-MODIFIED:20260108T170931Z
UID:4136-1794211200-1795021200@ilcdvp.org
SUMMARY:ANEW Domestic Violence 40-Hour Training
DESCRIPTION:This training will provide attendees with a greater understanding of domestic violence and how to best support those impacted by it. This complies with the Illinois Certified Domestic Violence Professional Board\, Inc.’s training requirements for the CDVP or CPAIP certification. \nTo register\, please visit https://web.charityengine.net/Default.aspx?tsid=37124
URL:https://ilcdvp.org/event/anew-domestic-violence-40-hour-training-3/
LOCATION:Anew: Building Beyond Violence and Abuse Administrative Office\, 18137 Harwood Ave\, Homewood\, IL\, 60430\, United States
CATEGORIES:40-Hour DV Training
ORGANIZER;CN="Susan Soda":MAILTO:susan.s@anewdv.org
END:VEVENT
END:VCALENDAR