BEGIN:VCALENDAR
VERSION:2.0
PRODID:-//Illinois Certified Domestic Violence Professionals - ECPv6.15.20//NONSGML v1.0//EN
CALSCALE:GREGORIAN
METHOD:PUBLISH
X-WR-CALNAME:Illinois Certified Domestic Violence Professionals
X-ORIGINAL-URL:https://ilcdvp.org
X-WR-CALDESC:Events for Illinois Certified Domestic Violence Professionals
REFRESH-INTERVAL;VALUE=DURATION:PT1H
X-Robots-Tag:noindex
X-PUBLISHED-TTL:PT1H
BEGIN:VTIMEZONE
TZID:America/Chicago
BEGIN:DAYLIGHT
TZOFFSETFROM:-0600
TZOFFSETTO:-0500
TZNAME:CDT
DTSTART:20250309T080000
END:DAYLIGHT
BEGIN:STANDARD
TZOFFSETFROM:-0500
TZOFFSETTO:-0600
TZNAME:CST
DTSTART:20251102T070000
END:STANDARD
BEGIN:DAYLIGHT
TZOFFSETFROM:-0600
TZOFFSETTO:-0500
TZNAME:CDT
DTSTART:20260308T080000
END:DAYLIGHT
BEGIN:STANDARD
TZOFFSETFROM:-0500
TZOFFSETTO:-0600
TZNAME:CST
DTSTART:20261101T070000
END:STANDARD
BEGIN:DAYLIGHT
TZOFFSETFROM:-0600
TZOFFSETTO:-0500
TZNAME:CDT
DTSTART:20270314T080000
END:DAYLIGHT
BEGIN:STANDARD
TZOFFSETFROM:-0500
TZOFFSETTO:-0600
TZNAME:CST
DTSTART:20271107T070000
END:STANDARD
END:VTIMEZONE
BEGIN:VEVENT
DTSTART;TZID=America/Chicago:20260427T080000
DTEND;TZID=America/Chicago:20260521T170000
DTSTAMP:20260419T234400
CREATED:20250917T151519Z
LAST-MODIFIED:20250917T152045Z
UID:3829-1777276800-1779382800@ilcdvp.org
SUMMARY:Between Friends 40HR Training Spring 2026
DESCRIPTION:The Domestic Violence 40-Hour Training provides participants with the movement’s philosophical and political framework and a solid foundation for supporting folks who experience violence. In order for confidential communication to be protected\, the Illinois Domestic Violence Act (IDVA) requires that individuals working directly with survivors have a minimum of 40 hours of domestic violence training. Our training fulfills this requirement. The 40-hour training at Between Friends also fulfills the requirements to become an Illinois Certified Domestic Violence Professional (ICDVP). \nLocation:  TBD \nClick below for training flyer: \nBetween Friends SPRING 2025-2026-40HR-Schedule-Flyer-5
URL:https://ilcdvp.org/event/between-friends-40hr-training-winter-2025-2/
CATEGORIES:40-Hour DV Training
END:VEVENT
BEGIN:VEVENT
DTSTART;TZID=America/Chicago:20260505T080000
DTEND;TZID=America/Chicago:20260527T170000
DTSTAMP:20260419T234400
CREATED:20260406T145143Z
LAST-MODIFIED:20260406T145627Z
UID:4521-1777968000-1779901200@ilcdvp.org
SUMMARY:CAWC 40HR Domestic Violence Foundations Trainings
DESCRIPTION:Click link below for training information and registration: \nhttps://cawcspring2026.givesmart.com \nTraining Format:  20Hrs over zoom and 20Hrs in-person
URL:https://ilcdvp.org/event/cawc-40hr-domestic-violence-foundations-trainings/
LOCATION:CAWC\, 1116 N. Kedzie\, Chicago\, IL\, 60651
CATEGORIES:40-Hour DV Training
ORGANIZER;CN="Susan Pieters":MAILTO:spieters@cawc.org
END:VEVENT
BEGIN:VEVENT
DTSTART;TZID=America/Chicago:20260518T080000
DTEND;TZID=America/Chicago:20260527T170000
DTSTAMP:20260419T234400
CREATED:20260108T171506Z
LAST-MODIFIED:20260108T171506Z
UID:4142-1779091200-1779901200@ilcdvp.org
SUMMARY:ANEW Domestic Violence 40-Hour Training
DESCRIPTION:This training will provide attendees with a greater understanding of domestic violence and how to best support those impacted by it. This complies with the Illinois Certified Domestic Violence Professional Board\, Inc.’s training requirements for the CDVP or CPAIP certification. \nTo register\, please visit https://web.charityengine.net/Default.aspx?tsid=37117
URL:https://ilcdvp.org/event/anew-domestic-violence-40-hour-training-4/
LOCATION:Anew: Building Beyond Violence and Abuse Administrative Office\, 18137 Harwood Ave\, Homewood\, IL\, 60430\, United States
CATEGORIES:40-Hour DV Training
ORGANIZER;CN="Susan Soda":MAILTO:susan.s@anewdv.org
END:VEVENT
BEGIN:VEVENT
DTSTART;TZID=America/Chicago:20260518T083000
DTEND;TZID=America/Chicago:20260522T170000
DTSTAMP:20260419T234400
CREATED:20260310T131709Z
LAST-MODIFIED:20260310T131709Z
UID:4405-1779093000-1779469200@ilcdvp.org
SUMMARY:Guardian Angel Community Services 40 Hour Domestic Violence Training
DESCRIPTION:See training flyer below for training details: \nGuardian Angel Community Services May-FY26-40-Hour-DV-Training-Flyer-
URL:https://ilcdvp.org/event/guardian-angel-community-services-40-hour-domestic-violence-training-5/
LOCATION:Guardian Angel Community Services\, 168 N. Ottawa Street\, Joliet\, IL\, 60432\, United States
CATEGORIES:40-Hour DV Training
END:VEVENT
BEGIN:VEVENT
DTSTART;TZID=America/Chicago:20260518T090000
DTEND;TZID=America/Chicago:20260520T170000
DTSTAMP:20260419T234400
CREATED:20260216T202201Z
LAST-MODIFIED:20260216T202201Z
UID:4288-1779094800-1779296400@ilcdvp.org
SUMMARY:Healthy Soul Talk PLLC (PAIP) Facilitator 20-Hour Training
DESCRIPTION:*This training is required to co-facilitate Partner Abuse Intervention Groups that are recognized in Illinois under a protocol established and monitored by the Illinois Department of Human Services.* \n*This training is also a requirement for persons seeking to become certified as CPAIP (Certified Partner Abuse Intervention Professionals) by the ICDVP.* \nExpect to learn:\nThe foundation of the Partner Abuse Intervention Program\nBest practices for facilitating groups with various dynamics\nEvidence-based intervention models\nProtocol of PAIP- Il Administrative Code
URL:https://ilcdvp.org/event/healthy-soul-talk-pllc-paip-facilitator-20-hour-training/
LOCATION:Healthy Soul Talk PLLC\, 1701 S. 1st Ave Suite 208 2nd Fl Conference Room\, Maywood\, Illinois\, 60153
CATEGORIES:20-Hour PAIP Training
ORGANIZER;CN="Healthy Soul Talk PLLC":MAILTO:drthomas@healthysoultalk.com
END:VEVENT
END:VCALENDAR