BEGIN:VCALENDAR
VERSION:2.0
PRODID:-//Illinois Certified Domestic Violence Professionals - ECPv6.15.20//NONSGML v1.0//EN
CALSCALE:GREGORIAN
METHOD:PUBLISH
X-WR-CALNAME:Illinois Certified Domestic Violence Professionals
X-ORIGINAL-URL:https://ilcdvp.org
X-WR-CALDESC:Events for Illinois Certified Domestic Violence Professionals
REFRESH-INTERVAL;VALUE=DURATION:PT1H
X-Robots-Tag:noindex
X-PUBLISHED-TTL:PT1H
BEGIN:VTIMEZONE
TZID:America/Chicago
BEGIN:DAYLIGHT
TZOFFSETFROM:-0600
TZOFFSETTO:-0500
TZNAME:CDT
DTSTART:20240310T080000
END:DAYLIGHT
BEGIN:STANDARD
TZOFFSETFROM:-0500
TZOFFSETTO:-0600
TZNAME:CST
DTSTART:20241103T070000
END:STANDARD
BEGIN:DAYLIGHT
TZOFFSETFROM:-0600
TZOFFSETTO:-0500
TZNAME:CDT
DTSTART:20250309T080000
END:DAYLIGHT
BEGIN:STANDARD
TZOFFSETFROM:-0500
TZOFFSETTO:-0600
TZNAME:CST
DTSTART:20251102T070000
END:STANDARD
BEGIN:DAYLIGHT
TZOFFSETFROM:-0600
TZOFFSETTO:-0500
TZNAME:CDT
DTSTART:20260308T080000
END:DAYLIGHT
BEGIN:STANDARD
TZOFFSETFROM:-0500
TZOFFSETTO:-0600
TZNAME:CST
DTSTART:20261101T070000
END:STANDARD
END:VTIMEZONE
BEGIN:VEVENT
DTSTART;TZID=America/Chicago:20251027T090000
DTEND;TZID=America/Chicago:20251105T170000
DTSTAMP:20260420T041908
CREATED:20241120T165425Z
LAST-MODIFIED:20241120T165425Z
UID:2984-1761555600-1762362000@ilcdvp.org
SUMMARY:Center for Prevention of Abuse 63.5 hour combined DV/SA Training
DESCRIPTION:Training dates: \nOct 27 – Nov 5 \nClick below for the training flyer: \nDVSA Training Flyer 2025
URL:https://ilcdvp.org/event/center-for-prevention-of-abuse-63-5-hour-combined-dv-sa-training/
LOCATION:CFPA\, Peoria\, IL\, 61614
CATEGORIES:40-Hour DV Training
END:VEVENT
BEGIN:VEVENT
DTSTART;TZID=America/Chicago:20251103T090000
DTEND;TZID=America/Chicago:20251106T160000
DTSTAMP:20260420T041908
CREATED:20250514T181500Z
LAST-MODIFIED:20250514T181517Z
UID:3563-1762160400-1762444800@ilcdvp.org
SUMMARY:Family Shelter Service of Metropolitan Family Services DuPage 20/20 online modules\, 20hr in-person training
DESCRIPTION:20/20 ICADV online modules\, 20hr in-person. Downers Grove\, IL \nClick below for training information: \nFSS-November-2025-DV-Training-20-20
URL:https://ilcdvp.org/event/family-shelter-service-of-metropolitan-family-services-dupage-20-20-online-modules-20hr-in-person-training/
LOCATION:Family Shelter Service Community Center\, 7300 Main Street\, Downers Grove\, IL\, 60516\, United States
CATEGORIES:40-Hour DV Training
ORGANIZER;CN="Alexandra Milkent":MAILTO:milkenta@metrofamily.org
END:VEVENT
BEGIN:VEVENT
DTSTART;TZID=America/Chicago:20251104T080000
DTEND;TZID=America/Chicago:20251120T170000
DTSTAMP:20260420T041908
CREATED:20251014T194504Z
LAST-MODIFIED:20251014T194504Z
UID:3944-1762243200-1763658000@ilcdvp.org
SUMMARY:Family Rescue's 40HR DV Training
DESCRIPTION:
URL:https://ilcdvp.org/event/family-rescues-40hr-dv-training/
LOCATION:Family Rescue\, 8811 S. Stony Island Ave.\, Chicago\, Illinois\, 60617
CATEGORIES:40-Hour DV Training
ORGANIZER;CN="Family Rescue":MAILTO:r.murphy@familyrescueinc.org
END:VEVENT
BEGIN:VEVENT
DTSTART;TZID=America/Chicago:20251104T080000
DTEND;TZID=America/Chicago:20251205T170000
DTSTAMP:20260420T041908
CREATED:20250917T150538Z
LAST-MODIFIED:20250917T150538Z
UID:3817-1762243200-1764954000@ilcdvp.org
SUMMARY:Between Friends 40HR Training Fall 2025
DESCRIPTION:The Domestic Violence 40-hour training provides participants with the movement’s philosophical and political framework and a solid foundation for supporting folks who experience violence. In order for confidential communication to be protected\, the Illinois Domestic Violence Act (IDVA) requires that individuals working directly with survivors have a minimum of 40 hours of domestic violence training. Our training fulfills this requirement. The 40-hour training at Between Friends also fulfills the requirements to become an Illinois Certified Domestic Violence Professional (ICDVP). \n  \nClick link below for training flyer: \nBetween Friends 2025-2026-40HR-Schedule-Flyer-5
URL:https://ilcdvp.org/event/between-friends-40hr-training-fall-2025/
LOCATION:Between Friends at World Relief\, 3507 W. Lawrence Ave.\, Chicago\, IL\, 60625
CATEGORIES:40-Hour DV Training
ORGANIZER;CN="Between Friends at World Relief":MAILTO:spieters@betweenfriendschicago.org
END:VEVENT
BEGIN:VEVENT
DTSTART;TZID=America/Chicago:20251112T090000
DTEND;TZID=America/Chicago:20251120T170000
DTSTAMP:20260420T041908
CREATED:20250707T171904Z
LAST-MODIFIED:20250707T171937Z
UID:3635-1762938000-1763658000@ilcdvp.org
SUMMARY:ANEW Domestic Violence 40-Hour Training
DESCRIPTION:Anew: Building Beyond Violence and Abuse offers Domestic Violence 40-Hour Training. This training provides 40 hours of in-person domestic violence related training in compliance with the Illinois Domestic Violence Act. Counseling and Social Work CEUs are available.
URL:https://ilcdvp.org/event/anew-domestic-violence-40-hour-training-2/
LOCATION:Anew: Building Beyond Violence and Abuse Administrative Office\, 18137 Harwood Ave\, Homewood\, IL\, 60430\, United States
CATEGORIES:40-Hour DV Training
ORGANIZER;CN="Susan Soda":MAILTO:susan.s@anewdv.org
END:VEVENT
BEGIN:VEVENT
DTSTART;TZID=America/Chicago:20251114T090000
DTEND;TZID=America/Chicago:20251114T120000
DTSTAMP:20260420T041908
CREATED:20250919T183742Z
LAST-MODIFIED:20250919T183742Z
UID:3856-1763110800-1763121600@ilcdvp.org
SUMMARY:Leadership and Emotional Intelligence for Mental Health Professionals
DESCRIPTION:Effective leadership in mental health care settings requires more\nthan clinical expertise—it demands emotional intelligence (EQ).\nThis course is designed for mental health professionals seeking\nto strengthen their leadership capacity in clinics\, hospitals\,\ncommunity organizations\, faith-based agencies\, or private\npractices. Participants will explore how EQ enhances self-\nawareness\, empathy\, decision-making\, and team collaboration.
URL:https://ilcdvp.org/event/leadership-and-emotional-intelligence-for-mental-health-professionals/
CATEGORIES:CEU Training
ORGANIZER;CN="Oakton College":MAILTO:cehp@oakton.edu
END:VEVENT
END:VCALENDAR