BEGIN:VCALENDAR
VERSION:2.0
PRODID:-//Illinois Certified Domestic Violence Professionals - ECPv6.15.20//NONSGML v1.0//EN
CALSCALE:GREGORIAN
METHOD:PUBLISH
X-WR-CALNAME:Illinois Certified Domestic Violence Professionals
X-ORIGINAL-URL:https://ilcdvp.org
X-WR-CALDESC:Events for Illinois Certified Domestic Violence Professionals
REFRESH-INTERVAL;VALUE=DURATION:PT1H
X-Robots-Tag:noindex
X-PUBLISHED-TTL:PT1H
BEGIN:VTIMEZONE
TZID:America/Chicago
BEGIN:DAYLIGHT
TZOFFSETFROM:-0600
TZOFFSETTO:-0500
TZNAME:CDT
DTSTART:20240310T080000
END:DAYLIGHT
BEGIN:STANDARD
TZOFFSETFROM:-0500
TZOFFSETTO:-0600
TZNAME:CST
DTSTART:20241103T070000
END:STANDARD
BEGIN:DAYLIGHT
TZOFFSETFROM:-0600
TZOFFSETTO:-0500
TZNAME:CDT
DTSTART:20250309T080000
END:DAYLIGHT
BEGIN:STANDARD
TZOFFSETFROM:-0500
TZOFFSETTO:-0600
TZNAME:CST
DTSTART:20251102T070000
END:STANDARD
BEGIN:DAYLIGHT
TZOFFSETFROM:-0600
TZOFFSETTO:-0500
TZNAME:CDT
DTSTART:20260308T080000
END:DAYLIGHT
BEGIN:STANDARD
TZOFFSETFROM:-0500
TZOFFSETTO:-0600
TZNAME:CST
DTSTART:20261101T070000
END:STANDARD
END:VTIMEZONE
BEGIN:VEVENT
DTSTART;TZID=America/Chicago:20250805T090000
DTEND;TZID=America/Chicago:20250821T170000
DTSTAMP:20260424T032841
CREATED:20250610T194558Z
LAST-MODIFIED:20250610T194558Z
UID:3600-1754384400-1755795600@ilcdvp.org
SUMMARY:Family Rescue August 20V/20 Hour Domestic Violence Training
DESCRIPTION:TRAINING SCHEDULE\nTuesday\, August 5th: 9 am to 5 pm\nThursday\, August 7th: 9:30 am to 5 pm\nTuesday\, August 12th: 9 am to 5 pm\nThursday\, August 14th: 9 am to 5 pm\nTuesday\, August 19th: 9 am to 5 pm\nThursday\, August 21st: 9 am to 5 pm \nThe first (3) sessions are virtual over Zoom. The last (3) sessions are in-person at 8811 S Stony Island Ave. Chicago\, IL 60617. For more information\, visit familyrescueinc.org/get-involved/trainings/ \nFULL TRAINING COST\n$250*\n*if paying with check\, cash\, or money order \nTo register\, please visit\nhttps://forms.gle/ETDys4bqduJgESrg8
URL:https://ilcdvp.org/event/family-rescue-august-20v-20-hour-domestic-violence-training/
LOCATION:Family Rescue\, 8811 S. Stony Island Ave.\, Chicago\, Illinois\, 60617
CATEGORIES:40-Hour DV Training
END:VEVENT
BEGIN:VEVENT
DTSTART;TZID=America/Chicago:20250806T090000
DTEND;TZID=America/Chicago:20250815T170000
DTSTAMP:20260424T032841
CREATED:20250707T190157Z
LAST-MODIFIED:20250707T190157Z
UID:3641-1754470800-1755277200@ilcdvp.org
SUMMARY:Between Friend 40-Hour Domestic Violence Training (In-Person/Live Virtual Hybrid)
DESCRIPTION:What is the 40-Hour Training? \nThe Domestic Violence 40-hour training provides participants with the movement’s philosophical and political framework and a solid foundation for supporting folks who experience violence. In order for confidential communication to be protected\, the Illinois Domestic Violence Act (IDVA) requires that individuals working directly with survivors have a minimum of 40 hours of domestic violence training.  Our training fulfills this requirement.  The 40-hour training at Between Friends also fulfills the requirements to become an Illinois Certified Domestic Violence Professional (ICDVP). \nWhen will the training happen? \nPlease note: All training days need to be attended in order for participants to receive a certificate.  If you recognize that a participant will need to miss any portion of this training please find another training opportunity for them by clicking here. \nTraining Day 1 (In-Person at Galter Life Center):\nWednesday- August 6\, 2025 | 9:30am-4:00pm \nTraining Day 2 (via Zoom):\nThursday- August 7\, 2025 | 2:30pm-5:00pm \nTraining Day 3 (In-Person at Galter Life Center):\nFriday- August 8\, 2025 | 9:30am-4:00pm \nTraining Day 4 (In-Person at Galter Life Center):\nSaturday- August 9\, 2025 | 9:30am-4:00pm \nTraining Day 5 (via Zoom):\nMonday- August 11\, 2025 | 9:00am-11:30am and 2:30pm-5:00pm \nTraining Day 6 (via Zoom):\nTuesday- August 12\, 2025 | 9:00am-11:30am and 2:30pm-5:00pm \nTraining Day 7 (via Zoom):\nWednesday- August 13\, 2025 | 9:00am-11:30am and 2:30pm-5:00pm \nTraining Day 8 (via Zoom):\nThursday- August 14\, 2025 | 2:30pm-5:00pm \nTraining Day 9 (In-Person at Galter Life Center):\nFriday- August 15\, 2025 | 9:30am-4:00pm \nClick below for training flyer: \nBetween Friends Summer-2025-40-Hour-Training-Flyer-2
URL:https://ilcdvp.org/event/between-friend-40-hour-domestic-violence-training-in-person-live-virtual-hybrid-2/
LOCATION:Between Friends at World Relief\, 3507 W. Lawrence Ave.\, Chicago\, IL\, 60625
CATEGORIES:40-Hour DV Training
ORGANIZER;CN="Susan Pieters":MAILTO:spieters@cawc.org
END:VEVENT
BEGIN:VEVENT
DTSTART;TZID=America/Chicago:20250807T090000
DTEND;TZID=America/Chicago:20250807T120000
DTSTAMP:20260424T032841
CREATED:20250513T193012Z
LAST-MODIFIED:20250513T193012Z
UID:3541-1754557200-1754568000@ilcdvp.org
SUMMARY:Safeguarding Operations: An Interpersonal Cognitive Approach to Defense Mechanisms
DESCRIPTION:This workshop will examine over twenty different operations\nclients use to resist change. Aggression\, distance\, and symptoms\n(amongst others) will be detailed\, as well as ways to cope with\nthem. Emphasis will be placed upon using them to facilitate\ntreatment along three dimensions: behavioral\, cognitive\, and\nearly learning. The course is offered in person or virtually (hybrid).
URL:https://ilcdvp.org/event/safeguarding-operations-an-interpersonal-cognitive-approach-to-defense-mechanisms/
CATEGORIES:CEU Training
ORGANIZER;CN="Oakton College":MAILTO:cehp@oakton.edu
END:VEVENT
BEGIN:VEVENT
DTSTART;TZID=America/Chicago:20250811T090000
DTEND;TZID=America/Chicago:20250813T170000
DTSTAMP:20260424T032841
CREATED:20250403T150854Z
LAST-MODIFIED:20250403T150854Z
UID:3443-1754902800-1755104400@ilcdvp.org
SUMMARY:Healthy Soul Talk Abuser Intervention (PAIP) Facilitator 20-Hour Training
DESCRIPTION:Are you interested in working with aggressors of domestic violence? \n*This training is required to co-facilitate Partner Abuse Intervention Groups that are recognized in Illinois under a protocol established and monitored by the Illinois Department of Human Services.* \n*This training is also a requirement for persons seeking to become certified as CPAIP (Certified Partner Abuse Intervention Professionals) by the ICDVP.* \nExpect to learn: \nThe foundation of the Partner Abuse Intervention Program\nBest practices for facilitating groups with various dynamics\nEvidence-based intervention models\nProtocol of PAIP- Il Administrative Code \nParking: FREE Parking \nHealthy Soul Talk PLLC is an approved and certified training site by the Illinois Domestic Violence Professionals Board (ICDVP). \n**All materials included. Continental breakfast and lunch provided **\nCE Sponsor: LCPC\, LCSW\, CPAIP\, IAODAPCA
URL:https://ilcdvp.org/event/healthy-soul-talk-abuser-intervention-paip-facilitator-20-hour-training/
LOCATION:Healthy Soul Talk PLLC\, 1701 S. 1st Ave Suite 208 2nd Fl Conference Room\, Maywood\, Illinois\, 60153
CATEGORIES:20-Hour PAIP Training
ORGANIZER;CN="Dr. Kimberly Thomas":MAILTO:healthysoultalk@gmail.com
END:VEVENT
BEGIN:VEVENT
DTSTART;TZID=America/Chicago:20250814T090000
DTEND;TZID=America/Chicago:20250814T120000
DTSTAMP:20260424T032841
CREATED:20250513T192757Z
LAST-MODIFIED:20250513T192757Z
UID:3539-1755162000-1755172800@ilcdvp.org
SUMMARY:Treating Pregnant Clients 101
DESCRIPTION:In this course\, we will learn about the various perinatal mood and\nanxiety disorders (PMADs) that pregnant individuals often\nexperience in order to understand how to appropriately treat\nthese conditions. This course is offered in person and virtually (hybrid).
URL:https://ilcdvp.org/event/treating-pregnant-clients-101/
CATEGORIES:CEU Training
ORGANIZER;CN="Oakton College":MAILTO:cehp@oakton.edu
END:VEVENT
BEGIN:VEVENT
DTSTART;TZID=America/Chicago:20250818T083000
DTEND;TZID=America/Chicago:20250822T170000
DTSTAMP:20260424T032841
CREATED:20250707T172730Z
LAST-MODIFIED:20250707T172730Z
UID:3638-1755505800-1755882000@ilcdvp.org
SUMMARY:Guardian Angel Community Services 40 Hour Domestic Violence Training
DESCRIPTION:Participants will leave with a thorough understanding of domestic violence\, along with the knowledge of best practices for providing safe and effective support to survivors and their families. \nClick below for training flyer: \nGuardian Angel August-40-Hour-DV-Training-Flyer-
URL:https://ilcdvp.org/event/guardian-angel-community-services-40-hour-domestic-violence-training-3/
LOCATION:Guardian Angel Community Services\, 168 N. Ottawa Street\, Joliet\, IL\, 60432\, United States
CATEGORIES:40-Hour DV Training
ORGANIZER;CN="Brigid Marcoux":MAILTO:bmarcoux@gacsprograms.org
END:VEVENT
BEGIN:VEVENT
DTSTART;TZID=America/Chicago:20250818T090000
DTEND;TZID=America/Chicago:20250827T170000
DTSTAMP:20260424T032841
CREATED:20241120T165513Z
LAST-MODIFIED:20241120T165513Z
UID:2982-1755507600-1756314000@ilcdvp.org
SUMMARY:Center for Prevention of Abuse 63.5 hour combined DV/SA Training
DESCRIPTION:Training dates: \nAug 18 – Aug 27 \nClick below for the training flyer: \nDVSA Training Flyer 2025
URL:https://ilcdvp.org/event/center-for-prevention-of-abuse-63-5-hour-combined-dv-sa-training-2/
LOCATION:CFPA\, Peoria\, IL\, 61614
CATEGORIES:40-Hour DV Training
END:VEVENT
BEGIN:VEVENT
DTSTART;TZID=America/Chicago:20250818T173000
DTEND;TZID=America/Chicago:20250826T203000
DTSTAMP:20260424T032841
CREATED:20250514T175136Z
LAST-MODIFIED:20250514T182323Z
UID:3548-1755538200-1756240200@ilcdvp.org
SUMMARY:Family Shelter Service of Metropolitan Family Services DuPage 40-hour in person training
DESCRIPTION:40hr in-person domestic violence training in Downers Grove\, IL \nClick link below for training information \nFSS-August-2025-DV-Training-In-Person
URL:https://ilcdvp.org/event/family-shelter-service-of-metropolitan-family-services-dupage-20-20-icadv-online-modules-in-person-training/
LOCATION:Family Shelter Service Community Center\, 7300 Main Street\, Downers Grove\, IL\, 60516\, United States
CATEGORIES:40-Hour DV Training
ORGANIZER;CN="Alexandra Milkent":MAILTO:milkenta@metrofamily.org
END:VEVENT
BEGIN:VEVENT
DTSTART;TZID=America/Chicago:20250819T090000
DTEND;TZID=America/Chicago:20250821T170000
DTSTAMP:20260424T032841
CREATED:20250705T125054Z
LAST-MODIFIED:20250705T125054Z
UID:3627-1755594000-1755795600@ilcdvp.org
SUMMARY:ANEW 20/20 Domestic Violence Training
DESCRIPTION:Anew: Building Beyond Violence and Abuse offers a 20-hour in-person domestic violence related training in compliance with the Illinois Domestic Violence Act. Participants MUST complete the 20-hour online modules on the ICADV’s website prior to the first day of the in-person training. Proof of completion will be required. The cost of the online modules is a SEPARATE fee of $250 paid directly on the ICADV website.
URL:https://ilcdvp.org/event/anew-20-20-domestic-violence-training/
LOCATION:Anew: Building Beyond Violence and Abuse Administrative Office\, 18137 Harwood Ave\, Homewood\, IL\, 60430\, United States
CATEGORIES:40-Hour DV Training
ORGANIZER;CN="Susan Soda":MAILTO:susan.s@anewdv.org
END:VEVENT
END:VCALENDAR