BEGIN:VCALENDAR
VERSION:2.0
PRODID:-//Illinois Certified Domestic Violence Professionals - ECPv6.15.20//NONSGML v1.0//EN
CALSCALE:GREGORIAN
METHOD:PUBLISH
X-ORIGINAL-URL:https://ilcdvp.org
X-WR-CALDESC:Events for Illinois Certified Domestic Violence Professionals
REFRESH-INTERVAL;VALUE=DURATION:PT1H
X-Robots-Tag:noindex
X-PUBLISHED-TTL:PT1H
BEGIN:VTIMEZONE
TZID:America/Chicago
BEGIN:DAYLIGHT
TZOFFSETFROM:-0600
TZOFFSETTO:-0500
TZNAME:CDT
DTSTART:20240310T080000
END:DAYLIGHT
BEGIN:STANDARD
TZOFFSETFROM:-0500
TZOFFSETTO:-0600
TZNAME:CST
DTSTART:20241103T070000
END:STANDARD
BEGIN:DAYLIGHT
TZOFFSETFROM:-0600
TZOFFSETTO:-0500
TZNAME:CDT
DTSTART:20250309T080000
END:DAYLIGHT
BEGIN:STANDARD
TZOFFSETFROM:-0500
TZOFFSETTO:-0600
TZNAME:CST
DTSTART:20251102T070000
END:STANDARD
BEGIN:DAYLIGHT
TZOFFSETFROM:-0600
TZOFFSETTO:-0500
TZNAME:CDT
DTSTART:20260308T080000
END:DAYLIGHT
BEGIN:STANDARD
TZOFFSETFROM:-0500
TZOFFSETTO:-0600
TZNAME:CST
DTSTART:20261101T070000
END:STANDARD
END:VTIMEZONE
BEGIN:VEVENT
DTSTART;TZID=America/Chicago:20250324T090000
DTEND;TZID=America/Chicago:20250402T170000
DTSTAMP:20260422T103105
CREATED:20241120T165726Z
LAST-MODIFIED:20241120T165726Z
UID:2978-1742806800-1743613200@ilcdvp.org
SUMMARY:Center for Prevention of Abuse 63.5 hour combined DV/SA Training
DESCRIPTION:Training dates: \nMarch 24 – April 2 \nClick below for the training flyer: \nDVSA Training Flyer 2025
URL:https://ilcdvp.org/event/center-for-prevention-of-abuse-63-5-hour-combined-dv-sa-training-4/
LOCATION:CFPA\, Peoria\, IL\, 61614
CATEGORIES:40-Hour DV Training
END:VEVENT
BEGIN:VEVENT
DTSTART;TZID=America/Chicago:20250407T090000
DTEND;TZID=America/Chicago:20250415T160000
DTSTAMP:20260422T103105
CREATED:20250219T160606Z
LAST-MODIFIED:20250219T160606Z
UID:3274-1744016400-1744732800@ilcdvp.org
SUMMARY:Family Shelter Service 40hr Training
DESCRIPTION:40hr in-person training\, day-time schedule at Downers Grove location. Registration fee in addition to $300 \nClick the link below for the training flyer: \nFamily Shelter Service 40hr Training
URL:https://ilcdvp.org/event/family-shelter-service-40hr-training-2/
LOCATION:Family Shelter Service\, 7300 Main St.\, Downers Grove\, Illinois\, 60516
CATEGORIES:40-Hour DV Training
ORGANIZER;CN="Alexandra Milkent":MAILTO:milkenta@metrofamily.org
END:VEVENT
BEGIN:VEVENT
DTSTART;TZID=America/Chicago:20250411T100000
DTEND;TZID=America/Chicago:20250411T120000
DTSTAMP:20260422T103105
CREATED:20250110T162022Z
LAST-MODIFIED:20250110T162445Z
UID:3126-1744365600-1744372800@ilcdvp.org
SUMMARY:Mental Health Continuum of Care
DESCRIPTION:This course describes the access and barriers to the mental health continuum of care. We will outline stepped levels of care\, from the most acute being inpatient hospitalization to the least restrictive outpatient treatment. We will discuss community mental health\, and the services offered as well as resources available to provide access to care. \nCEUs: 2.0 \nClick below for training flyer: \nOakton CEHP-Spring-2025-Flyer
URL:https://ilcdvp.org/event/mental-health-continuum-of-care/
CATEGORIES:CEU Training
END:VEVENT
BEGIN:VEVENT
DTSTART;TZID=America/Chicago:20250424T130000
DTEND;TZID=America/Chicago:20250424T150000
DTSTAMP:20260422T103105
CREATED:20250414T204900Z
LAST-MODIFIED:20250414T204900Z
UID:3466-1745499600-1745506800@ilcdvp.org
SUMMARY:Red Flag Laws Overview
DESCRIPTION:Join us as Kane County State’s Attorney\, Jamie L. Mosser\, walks us through the current Red Flag Laws in the State of Illinois: \n\nFirearm Restraining Orders\n• Clear and Present Danger\n• Karina’s Law (Goes into effect May 11)/Emergency Orders of Protection\n\nLearn how each law is implemented in Illinois\, when each should be used and by whom\, and what each discipline’s role is in the implementation process. \nPresentation includes common case scenarios and practical information on how to complete common forms/applications. \nIdeal for law enforcement\, mental health professionals\, advocates\, medical professionals\, social service providers\, court personnel\, etc. \nContinuing Education Units available for Certified Domestic Violence Professionals (CDVP) and Certified Partner Abuse Intervention Professionals (CPAIP)\nCEUs provided by Guardian Angel Community Services \nTo register\, visit\nhttps://us06web.zoom.us/meeting/register/_BboVS26SCKs-wgrPJGmQg \nFREE TRAINING \n4.24.25-Red-Flag-Laws-Training
URL:https://ilcdvp.org/event/red-flag-laws-overview/
CATEGORIES:CEU Training
ORGANIZER;CN="12th Judicial Family Violence Coordinating Council":MAILTO:amirrah@il12thcourt.gov
END:VEVENT
END:VCALENDAR