BEGIN:VCALENDAR
VERSION:2.0
PRODID:-//Illinois Certified Domestic Violence Professionals - ECPv6.15.20//NONSGML v1.0//EN
CALSCALE:GREGORIAN
METHOD:PUBLISH
X-ORIGINAL-URL:https://ilcdvp.org
X-WR-CALDESC:Events for Illinois Certified Domestic Violence Professionals
REFRESH-INTERVAL;VALUE=DURATION:PT1H
X-Robots-Tag:noindex
X-PUBLISHED-TTL:PT1H
BEGIN:VTIMEZONE
TZID:America/Chicago
BEGIN:DAYLIGHT
TZOFFSETFROM:-0600
TZOFFSETTO:-0500
TZNAME:CDT
DTSTART:20240310T080000
END:DAYLIGHT
BEGIN:STANDARD
TZOFFSETFROM:-0500
TZOFFSETTO:-0600
TZNAME:CST
DTSTART:20241103T070000
END:STANDARD
BEGIN:DAYLIGHT
TZOFFSETFROM:-0600
TZOFFSETTO:-0500
TZNAME:CDT
DTSTART:20250309T080000
END:DAYLIGHT
BEGIN:STANDARD
TZOFFSETFROM:-0500
TZOFFSETTO:-0600
TZNAME:CST
DTSTART:20251102T070000
END:STANDARD
BEGIN:DAYLIGHT
TZOFFSETFROM:-0600
TZOFFSETTO:-0500
TZNAME:CDT
DTSTART:20260308T080000
END:DAYLIGHT
BEGIN:STANDARD
TZOFFSETFROM:-0500
TZOFFSETTO:-0600
TZNAME:CST
DTSTART:20261101T070000
END:STANDARD
END:VTIMEZONE
BEGIN:VEVENT
DTSTART;TZID=America/Chicago:20250303T080000
DTEND;TZID=America/Chicago:20250303T170000
DTSTAMP:20260422T120048
CREATED:20250303T200621Z
LAST-MODIFIED:20250303T200621Z
UID:3325-1740988800-1741021200@ilcdvp.org
SUMMARY:Between Friends 40-Hour Domestic Violence Training
DESCRIPTION:  \nThe Domestic Violence 40-hour training provides participants with the movement’s philosophical and political framework and a solid foundation for supporting folks who experience violence. In order for confidential communication to be protected\, the Illinois Domestic Violence Act (IDVA) requires that individuals working directly with survivors have a minimum of 40 hours of domestic violence training.  Our training fulfills this requirement.  The 40-hour training at Between Friends also fulfills the requirements to become an Illinois Certified Domestic Violence Professional (ICDVP). \nWhen will the training happen? \nPlease note: All training days need to be attended in order for participants to receive a certificate.  If you recognize that a participant will need to miss any portion of this training please find another training opportunity for them by clicking here. \n\nTraining Day 1 (In-Person at 200 W. Madison):\nMonday\, March 17\, 2025\n9:30am-4:00pm \nTraining Day 2 (In-Person at 200 W. Madison):\nFriday\, March 21\, 2025\n9:30am-4:00pm \nTraining Day 3 (via Zoom):\nMonday\, March 24\, 2025\n9:00am-11:30am and 2:30pm-5:00pm\n\nTraining Day 4 (via Zoom):\nWednesday\, March 26\, 2025\n9:00am-11:30am and 2:30pm-5:00pm\n\nTraining Day 5 (via Zoom):\nFriday\, March 28\, 2025\n9:00am-11:30am and 2:30pm-5:00pm\n\nTraining Day 6 (via Zoom):\nMonday\, March 31\, 2025\n9:00am-11:30am and 2:30pm-5:00pm\n\nTraining Day 7 (In-Person at 200 W. Madison):\nThursday\, April 3\, 2025\n9:30am-4:00pm\n\nTraining Day 8 (In-Person at 200 W. Madison):\nMonday\, April 7\, 2025\n9:30am-4:00pm\n\n\nPlease contact Susan with any questions.  Her email is susanp@betweenfriendschicago.org and her phone number is 312-857-4665.\n\n  \nClick on link below for the training flyer: \nSpring-40-Hour-Training-Flyer
URL:https://ilcdvp.org/event/between-friends-40-hour-domestic-violence-training-11/
LOCATION:Between Friends at World Relief\, 3507 W. Lawrence Ave.\, Chicago\, IL\, 60625
CATEGORIES:40-Hour DV Training
ORGANIZER;CN="Between Friends":MAILTO:spieters@betweenfriendschicago.org
END:VEVENT
BEGIN:VEVENT
DTSTART;TZID=America/Chicago:20250304T090000
DTEND;TZID=America/Chicago:20250320T170000
DTSTAMP:20260422T120048
CREATED:20250205T142811Z
LAST-MODIFIED:20250205T142811Z
UID:3225-1741078800-1742490000@ilcdvp.org
SUMMARY:Family Rescue March 20V/20 Domestic Violence Training
DESCRIPTION:Family Rescue if offering their next 40 Hour Domestic Violence Training in the 20hrs virtual/ 20hrs in-person format. The training will be Tuesdays and Thursdays\, March 4th through March 20th during traditional work hours. The first 3 sessions will be facilitated over Zoom and the last 3 sessions will be facilitated in person at our administration office at 8811 S Stony Island Ave. Chicago\, IL 60617. Interested participants can register at https://forms.gle/6LhYdMEpybCiDkUQ6 \n 
URL:https://ilcdvp.org/event/family-rescue-march-20v-20-domestic-violence-training/
LOCATION:Family Rescue\, 8811 S. Stony Island Ave.\, Chicago\, Illinois\, 60617
CATEGORIES:40-Hour DV Training
ORGANIZER;CN="Family Rescue":MAILTO:r.murphy@familyrescueinc.org
END:VEVENT
BEGIN:VEVENT
DTSTART;TZID=America/Chicago:20250307T090000
DTEND;TZID=America/Chicago:20250307T120000
DTSTAMP:20260422T120048
CREATED:20250110T162044Z
LAST-MODIFIED:20250110T162059Z
UID:3124-1741338000-1741348800@ilcdvp.org
SUMMARY:The Dynamics and Treatment of Panic
DESCRIPTION:The course will break down the cognitive\, historical\, and interpersonal dynamics of panic and its diagnostic manifestation\, Panic Disorder. The role of anticipatory thinking\, pessimism\, and early learning in low frustration tolerance will be detailed\, as will cognitive\, behavioral\, and interpersonal approaches to helping such individuals. \nThis course will be offered in person and virtually. \nCEUs: 3.0 \nClick below for training flyer: \nOakton CEHP-Spring-2025-Flyer
URL:https://ilcdvp.org/event/the-dynamics-and-treatment-of-panic/
CATEGORIES:CEU Training
ORGANIZER;CN="Aisha Achesah":MAILTO:cehp@oakton.edu
END:VEVENT
BEGIN:VEVENT
DTSTART;TZID=America/Chicago:20250324T090000
DTEND;TZID=America/Chicago:20250402T170000
DTSTAMP:20260422T120048
CREATED:20241120T165726Z
LAST-MODIFIED:20241120T165726Z
UID:2978-1742806800-1743613200@ilcdvp.org
SUMMARY:Center for Prevention of Abuse 63.5 hour combined DV/SA Training
DESCRIPTION:Training dates: \nMarch 24 – April 2 \nClick below for the training flyer: \nDVSA Training Flyer 2025
URL:https://ilcdvp.org/event/center-for-prevention-of-abuse-63-5-hour-combined-dv-sa-training-4/
LOCATION:CFPA\, Peoria\, IL\, 61614
CATEGORIES:40-Hour DV Training
END:VEVENT
END:VCALENDAR