BEGIN:VCALENDAR
VERSION:2.0
PRODID:-//Illinois Certified Domestic Violence Professionals - ECPv6.15.20//NONSGML v1.0//EN
CALSCALE:GREGORIAN
METHOD:PUBLISH
X-ORIGINAL-URL:https://ilcdvp.org
X-WR-CALDESC:Events for Illinois Certified Domestic Violence Professionals
REFRESH-INTERVAL;VALUE=DURATION:PT1H
X-Robots-Tag:noindex
X-PUBLISHED-TTL:PT1H
BEGIN:VTIMEZONE
TZID:America/Chicago
BEGIN:DAYLIGHT
TZOFFSETFROM:-0600
TZOFFSETTO:-0500
TZNAME:CDT
DTSTART:20230312T080000
END:DAYLIGHT
BEGIN:STANDARD
TZOFFSETFROM:-0500
TZOFFSETTO:-0600
TZNAME:CST
DTSTART:20231105T070000
END:STANDARD
BEGIN:DAYLIGHT
TZOFFSETFROM:-0600
TZOFFSETTO:-0500
TZNAME:CDT
DTSTART:20240310T080000
END:DAYLIGHT
BEGIN:STANDARD
TZOFFSETFROM:-0500
TZOFFSETTO:-0600
TZNAME:CST
DTSTART:20241103T070000
END:STANDARD
BEGIN:DAYLIGHT
TZOFFSETFROM:-0600
TZOFFSETTO:-0500
TZNAME:CDT
DTSTART:20250309T080000
END:DAYLIGHT
BEGIN:STANDARD
TZOFFSETFROM:-0500
TZOFFSETTO:-0600
TZNAME:CST
DTSTART:20251102T070000
END:STANDARD
END:VTIMEZONE
BEGIN:VEVENT
DTSTART;TZID=America/Chicago:20240914T090000
DTEND;TZID=America/Chicago:20241005T170000
DTSTAMP:20260422T202427
CREATED:20240819T140801Z
LAST-MODIFIED:20240819T140801Z
UID:2680-1726304400-1728147600@ilcdvp.org
SUMMARY:40-Hour Domestic Violence Foundations Training
DESCRIPTION:Fall 2024 40-Hour Training\nDays & Times: Training sessions will take place on the following dates and times. Attendance at all sessions is required to receive certificate of completion. \nIn-Person @ 1116 N Kedzie\, Chicago\n9am-3:30pm on Saturdays 9/14\, 9/21\, 9/28 & 10/5\n6pm – 9:30pm on Tuesday 9/17\n6pm – 9:30pm on Thursday 10/3\nVirtual via Zoom\n6pm – 9:30pm on Tuesdays 9/24 & 10/1\n6pm – 9:30pm on Thursdays 9/19 & 9/26 \nhttps://www.canva.com/design/DAGNHU5EtAw/OwCoK76rMN9LFXQ3Sho-kA/view?utm_content=DAGNHU5EtAw&utm_campaign=designshare&utm_medium=link&utm_source=viewer \nClick below for training flyer: \nCAWC – 40-Hour Training Flyer
URL:https://ilcdvp.org/event/40-hour-domestic-violence-foundations-training/
LOCATION:CAWC\, 1116 N. Kedzie\, Chicago\, IL\, 60651
CATEGORIES:40-Hour DV Training
ORGANIZER;CN="CAWC":MAILTO:mrosado@cawc.org
END:VEVENT
BEGIN:VEVENT
DTSTART;TZID=America/Chicago:20241008T173000
DTEND;TZID=America/Chicago:20241022T203000
DTSTAMP:20260422T202427
CREATED:20240903T153038Z
LAST-MODIFIED:20240903T153328Z
UID:2724-1728408600-1729629000@ilcdvp.org
SUMMARY:Family Shelter Service 40hr Training 20/20
DESCRIPTION:40hr domestic violence training. 20/20 session\, 20hr online modules and 20hrs in-person.\nDiscounted rate for Domestic Violence Awareness Month! \nClick link below for flyer: \nJz9S9aHBNn2q-October-2024-DV-Training-20-20
URL:https://ilcdvp.org/event/family-shelter-service-40hr-training-20-20/
LOCATION:Family Shelter Service\, 7300 Main St.\, Downers Grove\, Illinois\, 60516
CATEGORIES:40-Hour DV Training
ORGANIZER;CN="Family Shelter Service of Metropolitan Family Services":MAILTO:milkenta@metrofamily.org
END:VEVENT
BEGIN:VEVENT
DTSTART;TZID=America/Chicago:20241015T090000
DTEND;TZID=America/Chicago:20241016T150000
DTSTAMP:20260422T202427
CREATED:20241014T003042Z
LAST-MODIFIED:20241014T003042Z
UID:2885-1728982800-1729090800@ilcdvp.org
SUMMARY:Building the Bridge Between PAIP Providers and the Courts
DESCRIPTION:The Illinois Coalition Against Domestic Violence (ICADV) Training Institute invites you to “Building the Bridge Between PAIP Providers and the Courts.” \nIf you are interested in attending this training\, please use the link below to find more information and register for the training. Registration closes on October 14\, 2024. \nRegistration Link: https://ilcadv.coalitionmanager.org/eventmanager/trainingevent/details/424 \nVirtual Training \nCEUs awarded: 5.5 \nFREE TRAINING
URL:https://ilcdvp.org/event/building-the-bridge-between-paip-providers-and-the-courts/
CATEGORIES:CEU Training
ORGANIZER;CN="ICADV Training Institute":MAILTO:strickland@ilcadv.org
END:VEVENT
BEGIN:VEVENT
DTSTART;TZID=America/Chicago:20241025T090000
DTEND;TZID=America/Chicago:20241025T120000
DTSTAMP:20260422T202427
CREATED:20240731T212243Z
LAST-MODIFIED:20240731T212243Z
UID:2626-1729846800-1729857600@ilcdvp.org
SUMMARY:Improving Professional and Personal Well-Being: An Overview of Nontraditional Methods
DESCRIPTION:Did you know that counselors\, caseworkers\, and health care professionals have an ethical responsibility to monitor their level of well-being to prevent burnout? This interactive seminar will address strategies and techniques to recognize well-being and build resources for professional and personal self-care. \nIn-Person Training \n3.0 CEUs \nClink link below for flyer \nCEHP Fall 2024 Flyer
URL:https://ilcdvp.org/event/improving-professional-and-personal-well-being-an-overview-of-nontraditional-methods/
CATEGORIES:CEU Training
ORGANIZER;CN="Aisha Achesah":MAILTO:cehp@oakton.edu
END:VEVENT
END:VCALENDAR