BEGIN:VCALENDAR
VERSION:2.0
PRODID:-//Illinois Certified Domestic Violence Professionals - ECPv6.15.20//NONSGML v1.0//EN
CALSCALE:GREGORIAN
METHOD:PUBLISH
X-WR-CALNAME:Illinois Certified Domestic Violence Professionals
X-ORIGINAL-URL:https://ilcdvp.org
X-WR-CALDESC:Events for Illinois Certified Domestic Violence Professionals
REFRESH-INTERVAL;VALUE=DURATION:PT1H
X-Robots-Tag:noindex
X-PUBLISHED-TTL:PT1H
BEGIN:VTIMEZONE
TZID:America/Chicago
BEGIN:DAYLIGHT
TZOFFSETFROM:-0600
TZOFFSETTO:-0500
TZNAME:CDT
DTSTART:20230312T080000
END:DAYLIGHT
BEGIN:STANDARD
TZOFFSETFROM:-0500
TZOFFSETTO:-0600
TZNAME:CST
DTSTART:20231105T070000
END:STANDARD
BEGIN:DAYLIGHT
TZOFFSETFROM:-0600
TZOFFSETTO:-0500
TZNAME:CDT
DTSTART:20240310T080000
END:DAYLIGHT
BEGIN:STANDARD
TZOFFSETFROM:-0500
TZOFFSETTO:-0600
TZNAME:CST
DTSTART:20241103T070000
END:STANDARD
BEGIN:DAYLIGHT
TZOFFSETFROM:-0600
TZOFFSETTO:-0500
TZNAME:CDT
DTSTART:20250309T080000
END:DAYLIGHT
BEGIN:STANDARD
TZOFFSETFROM:-0500
TZOFFSETTO:-0600
TZNAME:CST
DTSTART:20251102T070000
END:STANDARD
END:VTIMEZONE
BEGIN:VEVENT
DTSTART;TZID=America/Chicago:20240715T090000
DTEND;TZID=America/Chicago:20240726T170000
DTSTAMP:20260423T003554
CREATED:20240607T143753Z
LAST-MODIFIED:20240607T144746Z
UID:2515-1721034000-1722013200@ilcdvp.org
SUMMARY:Family Rescue July 20-Hour Virtual /20-Hour In-Person Domestic Violence Training
DESCRIPTION:Event Timing: Mon/Wed/Fri\, July 15th to July 26th\, 2024 between the hours of 9 AM and 5 PM\nEvent Address: First 3 sessions over Zoom. Last 3 sessions at 8811 S Stony Island Ave. Chicago\, IL 60617
URL:https://ilcdvp.org/event/family-rescue-july-20-hour-virtual-20-hour-in-person-domestic-violence-training/
LOCATION:Family Rescue\, 8811 S. Stony Island Ave.\, Chicago\, Illinois\, 60617
CATEGORIES:40-Hour DV Training
END:VEVENT
BEGIN:VEVENT
DTSTART;TZID=America/Chicago:20240731T150000
DTEND;TZID=America/Chicago:20240731T163000
DTSTAMP:20260423T003554
CREATED:20240730T013241Z
LAST-MODIFIED:20240730T013241Z
UID:2594-1722438000-1722443400@ilcdvp.org
SUMMARY:ICADV Informal CDVP Study Group
DESCRIPTION:The Illinois Coalition Against Domestic Violence (ICADV) is hosting four informal study group sessions to help people prepare for the Certified Domestic Violence Professional (CDVP) exam. This is NOT a formal test prep course. This is an opportunity for upcoming test-takers from across the state to meet virtually to discuss the resources provided on the study guide\, share test-taking tips\, and ask clarifying questions. The sessions will be facilitated by ICADV’s Director of Training\, Emily Hinrichsen. \nTo join\, please contact Emily at hinrichsen@ilcadv.org to receive the meeting link. \nFREE! \nNo CEUs awarded
URL:https://ilcdvp.org/event/icadv-informal-cdvp-study-group-2/
ORGANIZER;CN="ICADV Training Institute":MAILTO:strickland@ilcadv.org
END:VEVENT
END:VCALENDAR