BEGIN:VCALENDAR
VERSION:2.0
PRODID:-//Illinois Certified Domestic Violence Professionals - ECPv6.15.20//NONSGML v1.0//EN
CALSCALE:GREGORIAN
METHOD:PUBLISH
X-ORIGINAL-URL:https://ilcdvp.org
X-WR-CALDESC:Events for Illinois Certified Domestic Violence Professionals
REFRESH-INTERVAL;VALUE=DURATION:PT1H
X-Robots-Tag:noindex
X-PUBLISHED-TTL:PT1H
BEGIN:VTIMEZONE
TZID:America/Chicago
BEGIN:DAYLIGHT
TZOFFSETFROM:-0600
TZOFFSETTO:-0500
TZNAME:CDT
DTSTART:20230312T080000
END:DAYLIGHT
BEGIN:STANDARD
TZOFFSETFROM:-0500
TZOFFSETTO:-0600
TZNAME:CST
DTSTART:20231105T070000
END:STANDARD
BEGIN:DAYLIGHT
TZOFFSETFROM:-0600
TZOFFSETTO:-0500
TZNAME:CDT
DTSTART:20240310T080000
END:DAYLIGHT
BEGIN:STANDARD
TZOFFSETFROM:-0500
TZOFFSETTO:-0600
TZNAME:CST
DTSTART:20241103T070000
END:STANDARD
BEGIN:DAYLIGHT
TZOFFSETFROM:-0600
TZOFFSETTO:-0500
TZNAME:CDT
DTSTART:20250309T080000
END:DAYLIGHT
BEGIN:STANDARD
TZOFFSETFROM:-0500
TZOFFSETTO:-0600
TZNAME:CST
DTSTART:20251102T070000
END:STANDARD
END:VTIMEZONE
BEGIN:VEVENT
DTSTART;VALUE=DATE:20240518
DTEND;VALUE=DATE:20240616
DTSTAMP:20260423T021835
CREATED:20240423T162206Z
LAST-MODIFIED:20240423T162410Z
UID:2358-1715990400-1718495999@ilcdvp.org
SUMMARY:CAWC 40-Hour Domestic Violence Foundations Training
DESCRIPTION:This training meets ICDVP requirements. Sessions will be a combination of in-person and virtual and will take place evenings and weekends. \nDates & Times: Training sessions will take place on the following dates and times. You must attend all sessions to receive certificate of completion. \nSaturdays 9am – 3:30pm on 5/18 & 6/15 (In-Person)\nTuesdays 6pm – 9:30pm on 5/21\, 5/28\, 6/4\, 6/11\, & 6/18 (In-Person)\nThursdays 6pm – 9:30pm on 5/23\, 5/30\, 6/6\, & 6/13 (Virtual via Zoom) \nEvent Address for In-Person Sessions: 1116 N Kedzie\, Chicago\, IL \nContact Megan Rosado\, Training & Education Coordinator with questions or to register. Email mrosado@cawc.org or complete this form https://forms.office.com/r/LqWeTmuGif \nClick link below for training flyer: \nZzt10UmjYATX-CAWC_40-Hour-Flyer_Spring-2024 (002)
URL:https://ilcdvp.org/event/cawc-40-hour-domestic-violence-foundations-training/
CATEGORIES:40-Hour DV Training
END:VEVENT
BEGIN:VEVENT
DTSTART;TZID=America/Chicago:20240603T090000
DTEND;TZID=America/Chicago:20240604T170000
DTSTAMP:20260423T021835
CREATED:20240514T140344Z
LAST-MODIFIED:20240514T141901Z
UID:2435-1717405200-1717520400@ilcdvp.org
SUMMARY:ICADV 40-Hour Train-the-Trainer
DESCRIPTION:The Illinois Coalition Against Domestic Violence (ICADV) Training Institute invites you to “ICADV 40-Hour Train-the-Trainer.” \nIf you are interested in attending this training\, please use the link below to find more information and register for the training. Registration closes on May 31\, 2024. \nRegistration Link: https://ilcadv.coalitionmanager.org/eventmanager/trainingevent/details/388 \nIn-Person Training \nCEUs awarded:  11
URL:https://ilcdvp.org/event/icadv-40-hour-train-the-trainer/
LOCATION:ICADV Training Institute\, Springfield\, Illinois
CATEGORIES:CEU Training
ORGANIZER;CN="ICADV Training Institute":MAILTO:strickland@ilcadv.org
END:VEVENT
BEGIN:VEVENT
DTSTART;TZID=America/Chicago:20240605T100000
DTEND;TZID=America/Chicago:20240605T120000
DTSTAMP:20260423T021835
CREATED:20240514T140539Z
LAST-MODIFIED:20240514T140843Z
UID:2439-1717581600-1717588800@ilcdvp.org
SUMMARY:TA Webinar | Software for Survivors Panel: Exploring Technology for Clients\, Programs\, and Survivors
DESCRIPTION:The Illinois Coalition Against Domestic Violence (ICADV) Training Institute invites you to “TA Webinar | Software for Survivors Panel: Exploring Technology for Clients\, Programs\, and Survivors.” \nIf you are interested in attending this training\, please use the link below to find more information and register for the training. Registration closes on June 3\, 2024. \nRegistration Link: https://ilcadv.coalitionmanager.org/eventmanager/trainingevent/details/386 \nVirtual Training \nCEUs awarded:  2 \n 
URL:https://ilcdvp.org/event/ta-webinar-software-for-survivors-panel-exploring-technology-for-clients-programs-and-survivors/
CATEGORIES:CEU Training
ORGANIZER;CN="ICADV Training Institute":MAILTO:strickland@ilcadv.org
END:VEVENT
BEGIN:VEVENT
DTSTART;TZID=America/Chicago:20240612T090000
DTEND;TZID=America/Chicago:20240612T110000
DTSTAMP:20260423T021835
CREATED:20240514T155001Z
LAST-MODIFIED:20240514T155001Z
UID:2448-1718182800-1718190000@ilcdvp.org
SUMMARY:From A to Z: Providing Optimal Culturally Responsive Services to Individuals who are Deaf\, DeafBlind and Hard of Hearing
DESCRIPTION:The Illinois Coalition Against Domestic Violence (ICADV) Training Institute invites you to “From A to Z: Providing Optimal Culturally Responsive Services to Individuals who are Deaf\, DeafBlind and Hard of Hearing.” \nIf you are interested in attending this training\, please use the link below to find more information and register for the training. Registration closes on June 7\, 2024. \nRegistration Link: https://ilcadv.coalitionmanager.org/eventmanager/trainingevent/details/391 \nVirtual Training \nCEUs awarded: 5
URL:https://ilcdvp.org/event/from-a-to-z-providing-optimal-culturally-responsive-services-to-individuals-who-are-deaf-deafblind-and-hard-of-hearing/
CATEGORIES:CEU Training
ORGANIZER;CN="ICADV Training Institute":MAILTO:strickland@ilcadv.org
END:VEVENT
BEGIN:VEVENT
DTSTART;TZID=America/Chicago:20240621T093000
DTEND;TZID=America/Chicago:20240621T153000
DTSTAMP:20260423T021835
CREATED:20240517T175942Z
LAST-MODIFIED:20240517T181316Z
UID:2479-1718962200-1718983800@ilcdvp.org
SUMMARY:GOING BEYOND VICTIM SUPPORT: THE PROTECT APPROACH TO MALE ENGAGEMENT AND PREVENTION
DESCRIPTION:This session equips participants to engage men effectively\, encouraging accountability and active participation. Participants will learn to merge preventive strategies with fatherhood programs for greater impact and gain skills in implementing the PROTECT program to foster personal and behavioral growth. \nMaximize Male Engagement: Train participants to effectively engage men in proactive and meaningful ways. Focus on strategies that encourage self-reflection\, accountability\, and active participation. \nFoster Collaborative Prevention Strategies: Train participants on integrating collaborative programs and services with fatherhood programs. \nDevelop Skills for Implementing PROTECT Principles: Provide practical training on implementing the PROTECT program’s methodologies while personally growing from the inside out. \nEmpower Men as Allies in IPV Prevention: Educate participants on the vital role men can play as allies for women who have experienced IPV and as protectors against child abuse and neglect. \nFree training \nClick below for flyer: \nPAIP Facilitator Training Flyer_June 2024
URL:https://ilcdvp.org/event/going-beyond-victim-support-the-protect-approach-to-male-engagement-and-prevention/
LOCATION:Illinois Wesleyan University – Memorial Center Turfler Room\, 104 E University Ave\, Bloomington\, IL\, 61701
CATEGORIES:CEU Training
ORGANIZER;CN="Center for Prevention of Abuse":MAILTO:knowlan@centerforpreventionofabuse.org
END:VEVENT
END:VCALENDAR