BEGIN:VCALENDAR
VERSION:2.0
PRODID:-//Illinois Certified Domestic Violence Professionals - ECPv6.15.20//NONSGML v1.0//EN
CALSCALE:GREGORIAN
METHOD:PUBLISH
X-WR-CALNAME:Illinois Certified Domestic Violence Professionals
X-ORIGINAL-URL:https://ilcdvp.org
X-WR-CALDESC:Events for Illinois Certified Domestic Violence Professionals
REFRESH-INTERVAL;VALUE=DURATION:PT1H
X-Robots-Tag:noindex
X-PUBLISHED-TTL:PT1H
BEGIN:VTIMEZONE
TZID:America/Chicago
BEGIN:DAYLIGHT
TZOFFSETFROM:-0600
TZOFFSETTO:-0500
TZNAME:CDT
DTSTART:20230312T080000
END:DAYLIGHT
BEGIN:STANDARD
TZOFFSETFROM:-0500
TZOFFSETTO:-0600
TZNAME:CST
DTSTART:20231105T070000
END:STANDARD
BEGIN:DAYLIGHT
TZOFFSETFROM:-0600
TZOFFSETTO:-0500
TZNAME:CDT
DTSTART:20240310T080000
END:DAYLIGHT
BEGIN:STANDARD
TZOFFSETFROM:-0500
TZOFFSETTO:-0600
TZNAME:CST
DTSTART:20241103T070000
END:STANDARD
BEGIN:DAYLIGHT
TZOFFSETFROM:-0600
TZOFFSETTO:-0500
TZNAME:CDT
DTSTART:20250309T080000
END:DAYLIGHT
BEGIN:STANDARD
TZOFFSETFROM:-0500
TZOFFSETTO:-0600
TZNAME:CST
DTSTART:20251102T070000
END:STANDARD
END:VTIMEZONE
BEGIN:VEVENT
DTSTART;VALUE=DATE:20240404
DTEND;VALUE=DATE:20240420
DTSTAMP:20260423T051710
CREATED:20231221T152549Z
LAST-MODIFIED:20231221T152549Z
UID:1927-1712188800-1713571199@ilcdvp.org
SUMMARY:Between Friends 40-Hour DV Training
DESCRIPTION:What is a 40-hour training? \nThe Domestic Violence 40-hour training provides participants with the movement’s philosophical and political framework and a solid foundation for supporting folks who experience violence. \nWhat is the 40-hour requirement? \nIn order for confidential communication to be protected\, the Illinois Domestic Violence Act (IDVA) requires that individuals working directly with domestic violence survivors have a minimum of 40 hours of domestic violence training. This training fulfills this requirement. \nWhat about certification? \nCompleting 40 hours of domestic violence training is the first step toward becoming an Illinois Certified Domestic Violence Professional (ICDVP). Between Friends is an ICDVP approved training and supervision site. For more information on becoming a Certified Domestic Violence Professional go to http://www.ilcdvp.org. \nWhat does the training cover? \nDynamics of DV | Empowerment Counseling | Criminal and Civil Legal Issues | Safety Planning | Risk Assessment | Confidentiality | Teen Dating Violence | Impact of DV on Children | Introduction to Partner Abuse Intervention Strategies | Connection to Mental Health and Substance Abuse | Dynamics within LGBTQ Communities | Building an Anti-Oppression Framework | Elder Abuse | Supporting People with Disabilities | Self and Community Care | And more! \nWhen will the training happen? \nThe following ten sessions during the spring of 2024 (all sessions must be attended in order to receive a certificate): \nApril 4: In-Person Session: 9:30am-3:45pm\nApril 5: In-Person Session: 9:30am-3:45pm\nApril 8: Virtual Session: 10am-2pm\nApril 9: Virtual Session: 10am-2pm\nApril 11: Virtual Session: 10am-2pm\nApril 12: In-Person Session: 9:30am-3:45pm\nApril 15: Virtual Session: 10am-2pm\nApril 16: Virtual Session: 10am-2pm\nApril 18: Virtual Session: 10am-2pm\nApril 19: In-Person Session: 9:30am-3:45pm \n*SAVE THESE DATES for possible make-up sessions (in case of group cancellation or absence):\nApril 25: In-Person Session: 9:30am-3:45pm\nApril 26: In-Person Session: 9:30am-3:45pm \nDo I need to attend all 10 sessions? \nIf you would like to receive a certificate you will need to be present at all of the sessions. Please do not sign up for this training if you know you will need to miss any portion of it. Please visit http://www.ilcdvp.org/approvedsites/training_calendar.html to find another 40-hour training opportunity. \nWhat about the make-up sessions? \nIf any of our in-person sessions need to be cancelled\, or if any in-person time is missed by individuals during the training\, this content will need to be made up in person. Please save these dates on your calendar (April 25 and April 26) to make up missed content as needed. These are the only days make-up sessions will be offered\, so keep them open just in case. \nWhere will the training happen? \nAll virtual sessions will be conducted live\, via zoom\, and participants will need access to a camera for full participation – please contact Susan at spieters@betweenfriendschicago.org if you need a device or wifi access in order to participate on camera. All in-person sessions will be held at Impact House (200 W. Madison Street\, Chicago). \nHow much does the training cost? \nThe training is $255 for a single participant or $200 per participant for organizations sending more than one person. \nHave more questions? \nNo problem! If you have more questions about the training\, you can reach out to Zury at zuryr@betweenfriendschicago.org or (312) 775-2158.
URL:https://ilcdvp.org/event/between-friends-40-hour-dv-training-2/
LOCATION:Impact House\, 200 W. Madison St.\, Chicago\, IL\, 60606
CATEGORIES:40-Hour DV Training
ORGANIZER;CN="Between Friends":MAILTO:spieters@betweenfriendschicago.org
END:VEVENT
BEGIN:VEVENT
DTSTART;TZID=America/Chicago:20240411T083000
DTEND;TZID=America/Chicago:20240411T163000
DTSTAMP:20260423T051710
CREATED:20240229T210220Z
LAST-MODIFIED:20240306T141634Z
UID:2202-1712824200-1712853000@ilcdvp.org
SUMMARY:Technology Safety Training: A Survivor Centered Approach to Technology Abuse and Safety Planning
DESCRIPTION:This 6-hour course has been designed by the Safety Net Project of the National Network to End Domestic Violence to support professionals working with survivors of domestic violence\, sexual assault\, and stalking in: \nUnderstanding the technology safety concerns facing survivors in an ever-changing technology landscape \nIncreasing knowledge of the safer use of technology to discuss options with survivors looking to increase their privacy when using technology. \nPrioritizing empowerment of survivors in developing safety plans with survivors of violence \nCEUs available for: \nCertified Domestic Violence Professionals\nCertified Partner Abuse Intervention Professionals\nLicensed Clinical Social Workers ($10)\nLicensed Professional Counselors ($10)\nLicensed Marriage and Family Therapists ($10)\n(Pending) Law Enforcement \nCDVP/CPAIP CEUs provided by Guardian Angel Community Services\nLCSW\, LCPC\, & LMFT CEUs sponsored by Illinois Affiliation of Marriage and Family Therapists\n(Pending) Law Enforcement through Tri-River Police Training. \nRegister here: \nyGnM45BleVVG-4.11.24-NNEDV-Training-Flier
URL:https://ilcdvp.org/event/technology-safety-training-a-survivor-centered-approach-to-technology-abuse-and-safety-planning/
LOCATION:Lewis University – The Flight Deck (North Campus)\, 101 Airport Road\, Romeoville\, Illinois\, 60446
CATEGORIES:CEU Training
ORGANIZER;CN="12th Judicial Family Violence Coordinating Council":MAILTO:amirrah@il12thcourt.gov
END:VEVENT
BEGIN:VEVENT
DTSTART;TZID=America/Chicago:20240412T090000
DTEND;TZID=America/Chicago:20240412T120000
DTSTAMP:20260423T051710
CREATED:20240130T150938Z
LAST-MODIFIED:20240130T151105Z
UID:2080-1712912400-1712923200@ilcdvp.org
SUMMARY:Risk Management Practices
DESCRIPTION:Learn suicide and threat assessment and clinical best practices for at-risk clients. Risk profiles are examined considering means\, access\, and the nature of specific pathologies. Also demographics\, diversity issues\, as well as clinical and secular trends are discussed. Additional topics include risk management practices\, standards of care\, law and ethical responsibility as applicable to individually practicing clinicians\, and to mental health professionals who work on threat assessment teams.\nOffered in person or virtually. \n3.0 CEUs
URL:https://ilcdvp.org/event/risk-management-practices/
CATEGORIES:CEU Training
ORGANIZER;CN="Aisha Achesah":MAILTO:cehp@oakton.edu
END:VEVENT
BEGIN:VEVENT
DTSTART;TZID=America/Chicago:20240415T080000
DTEND;TZID=America/Chicago:20240426T170000
DTSTAMP:20260423T051710
CREATED:20240405T202520Z
LAST-MODIFIED:20240405T202520Z
UID:2340-1713168000-1714150800@ilcdvp.org
SUMMARY:YWCA 40-Hour Domestic Violence Training
DESCRIPTION:YWCA Evanston/North Shore is an approved ICDVP training site for the 40-hour domestic violence training\, which provides a solid base of knowledge for anyone working with individuals affected by domestic violence. The training covers all ICDVP required topics using a trauma informed lens including: \nDynamics of Domestic Violence\nEmpowerment Counseling\nCriminal and Civil Legal Issues\nSafety Planning\nRisk Assessment\nConfidentiality\nTeen Dating Violence\nImpact of Domestic Violence on Children\nIntroduction to Partner Abuse Intervention Strategies\nConnection to Mental Health and Substance Abuse\nDynamics within LGBTQ Communities\nElder Abuse\nSupporting People with Disabilities\nSelf and Community Care \nOur trainers all have years of experience\, both as educators and as service providers. Where beneficial\, we bring in guest trainers with more in-depth knowledge on specific topics. Click here to learn more about how the training is conducted. \nQUESTIONS…? CONTACT:\nHannah Gunter\, Violence Prevention Training Manager\nhgunter@ywca-ens.org\n847-864-8445 ext. 1128.
URL:https://ilcdvp.org/event/ywca-40-hour-domestic-violence-training-2/
LOCATION:YWCA Evanston/Northshore\, 1215 Church St\, Evanston\, Illinois
ORGANIZER;CN="YWCA Evanston/North Shore":MAILTO:hgunter@ywca-ens.org
END:VEVENT
BEGIN:VEVENT
DTSTART;TZID=America/Chicago:20240416T090000
DTEND;TZID=America/Chicago:20240418T170000
DTSTAMP:20260423T051710
CREATED:20240227T155303Z
LAST-MODIFIED:20240227T155303Z
UID:2177-1713258000-1713459600@ilcdvp.org
SUMMARY:20-Hour Partner Abuse Intervention Program (PAIP) Facilitator Training
DESCRIPTION:This training provides individuals with the essential skills and tools necessary to facilitate partner abuse intervention groups\, review the Illinois Partner Abuse Protocol\, and teaches the best practices for group co-facilitation. Sarah’s Inn’s PAIP Training fulfills IDHS’s training requirements for protocol approved PAIP programs. Sarah’s Inn is also an ICDVP-approved PAIP Training site (in-person only). \n20 hours of Social Work\, Counseling\, and CDVP CEUs
URL:https://ilcdvp.org/event/20-hour-partner-abuse-intervention-program-paip-facilitator-training-4/
LOCATION:Sarah’s Inn\, 1547 Circle Ave.\, Forest Park\, IL\, 60130\, United States
CATEGORIES:20-Hour PAIP Training
END:VEVENT
BEGIN:VEVENT
DTSTART;TZID=America/Chicago:20240419T090000
DTEND;TZID=America/Chicago:20240420T163000
DTSTAMP:20260423T051710
CREATED:20240315T202036Z
LAST-MODIFIED:20240315T202036Z
UID:2268-1713517200-1713630600@ilcdvp.org
SUMMARY:PARTNER IN THE JOURNEY & FAITH BASE DOMESTIC VIOLENCE
DESCRIPTION:BRIEF DESCRIPTION: Day 1: This training is for church leaders\, lay people\, and professionals.\nAs a lay person or professional\, are you interested in starting a support group for women who experience domestic violence and abusive relationships? FOCUS Ministries offers a certificate program for support group leaders in our Partners in the Journey Seminars. The training includes an extensive training manual that covers all the aspects of starting a support group\, the dynamics of support groups\, domestic violence training\, how to help a victim\, and information on how to provide spiritual direction for victims of abuse. Day 2: FOCUS faith based DV training is a training program designed for those interested in working with domestic violence victims/ survivors within the Christian community. Participants can expect to learn the dynamics of domestic abuse and best practices in co-facilitation of groups and/or a role of an advocate. God delights in restoration of shattered souls. Healing comes by fully understanding the nature and ramifications of abuse. FOCUS believes that following a biblical path of restoration allows God’s grace to touch the heart’s deepest wounds. Training fee includes the training manual. \nCOST: $135.00 (with CEU’s additional $40) \nClick here for the flyer: \nosK0DhtlrJJj-Partners-in-the-Journey-flyer-April-2024
URL:https://ilcdvp.org/event/partner-in-the-journey-faith-base-domestic-violence-3/
LOCATION:Focus Ministries\, 57 E. Park Blvd.\, Villa Park\, IL\, 60181\, United States
CATEGORIES:CEU Training
END:VEVENT
BEGIN:VEVENT
DTSTART;TZID=America/Chicago:20240420T090000
DTEND;TZID=America/Chicago:20240420T163000
DTSTAMP:20260423T051710
CREATED:20240315T202830Z
LAST-MODIFIED:20240315T202830Z
UID:2272-1713603600-1713630600@ilcdvp.org
SUMMARY:FAITH BASED DOMESTIC VIOLENCE
DESCRIPTION:BRIEF DESCRIPTION: FOCUS faith based DV training is a training program designed for those interested in working with domestic violence victims/ survivors within the Christian community. Participants can expect to learn the dynamics of domestic abuse and best practices in co-facilitation of groups and/or a role of an advocate. God delights in restoration of shattered souls. Healing comes by fully understanding the nature and ramifications of abuse. FOCUS believes that following a biblical path of restoration allows God’s grace to touch the heart’s deepest wounds. Training fee includes the training manual. \n6 CEUs for Licensed Counselors\, Social Workers\, & CDVP \nCost: \n$45 (with CEU’s additional $20) \nClick link for flyer: \nMuQFR2devTJd-FaithBasedDV-Training-Flyer-April-2024
URL:https://ilcdvp.org/event/faith-based-domestic-violence-2/
LOCATION:Focus Ministries\, 57 E. Park Blvd.\, Villa Park\, IL\, 60181\, United States
CATEGORIES:CEU Training
END:VEVENT
END:VCALENDAR