BEGIN:VCALENDAR
VERSION:2.0
PRODID:-//Illinois Certified Domestic Violence Professionals - ECPv6.15.20//NONSGML v1.0//EN
CALSCALE:GREGORIAN
METHOD:PUBLISH
X-ORIGINAL-URL:https://ilcdvp.org
X-WR-CALDESC:Events for Illinois Certified Domestic Violence Professionals
REFRESH-INTERVAL;VALUE=DURATION:PT1H
X-Robots-Tag:noindex
X-PUBLISHED-TTL:PT1H
BEGIN:VTIMEZONE
TZID:America/Chicago
BEGIN:DAYLIGHT
TZOFFSETFROM:-0600
TZOFFSETTO:-0500
TZNAME:CDT
DTSTART:20230312T080000
END:DAYLIGHT
BEGIN:STANDARD
TZOFFSETFROM:-0500
TZOFFSETTO:-0600
TZNAME:CST
DTSTART:20231105T070000
END:STANDARD
BEGIN:DAYLIGHT
TZOFFSETFROM:-0600
TZOFFSETTO:-0500
TZNAME:CDT
DTSTART:20240310T080000
END:DAYLIGHT
BEGIN:STANDARD
TZOFFSETFROM:-0500
TZOFFSETTO:-0600
TZNAME:CST
DTSTART:20241103T070000
END:STANDARD
BEGIN:DAYLIGHT
TZOFFSETFROM:-0600
TZOFFSETTO:-0500
TZNAME:CDT
DTSTART:20250309T080000
END:DAYLIGHT
BEGIN:STANDARD
TZOFFSETFROM:-0500
TZOFFSETTO:-0600
TZNAME:CST
DTSTART:20251102T070000
END:STANDARD
END:VTIMEZONE
BEGIN:VEVENT
DTSTART;TZID=America/Chicago:20240308T100000
DTEND;TZID=America/Chicago:20240308T120000
DTSTAMP:20260423T065552
CREATED:20240130T150001Z
LAST-MODIFIED:20240130T150423Z
UID:2072-1709892000-1709899200@ilcdvp.org
SUMMARY:Motivational Training
DESCRIPTION:PowerPoint presentation detailing the principles of motivational interviewing. Participants will learn how to use motivational interviewing in their clinical practice and practical daily life as a way to communicate and approach challenging situations. Through change talk\, we will role play different strategies and exercises to practice the motivational interviewing principles. \nIn-Person \n2.0 CEUs
URL:https://ilcdvp.org/event/motivational-training/
CATEGORIES:CEU Training
ORGANIZER;CN="Aisha Achesah":MAILTO:cehp@oakton.edu
END:VEVENT
BEGIN:VEVENT
DTSTART;TZID=America/Chicago:20240311T090000
DTEND;TZID=America/Chicago:20240322T170000
DTSTAMP:20260423T065552
CREATED:20240227T153306Z
LAST-MODIFIED:20240227T153306Z
UID:2167-1710147600-1711126800@ilcdvp.org
SUMMARY:Family Rescue March 40 Hour Domestic Violence Training
DESCRIPTION:Our March Domestic Violence 40-Hour Training will be during traditional work hours from March 11th to the 22nd on Mondays\, Wednesdays\, and Fridays between 9 am and 5 pm. \nThe first three sessions of this training will be done over Zoom while the remaining three sessions must be done in-person to comply with ICDVP’s training standards for those pursuing ICDVP certification. \nYou can learn more at https://familyrescueinc.org/get-involved/trainings/ To register visit https://forms.gle/1goziBsKKWEq44ki7 \nTraining Flyer: \nBEk83S7D6Phv-Family-Rescue-March-2024-DV-40-Hour-Training-Flyer
URL:https://ilcdvp.org/event/family-rescue-march-40-hour-domestic-violence-training/
LOCATION:Family Rescue\, 8811 S. Stony Island Ave.\, Chicago\, Illinois\, 60617
CATEGORIES:40-Hour DV Training
ORGANIZER;CN="Rose Murphy":MAILTO:r.murphy@familyrescueinc.org
END:VEVENT
BEGIN:VEVENT
DTSTART;TZID=America/Chicago:20240315T090000
DTEND;TZID=America/Chicago:20240315T120000
DTSTAMP:20260423T065552
CREATED:20240130T150628Z
LAST-MODIFIED:20240130T150628Z
UID:2078-1710493200-1710504000@ilcdvp.org
SUMMARY:Exploring Diversity\, Multicultural Issues\, and Implicit Bias
DESCRIPTION:In an increasingly interconnected and diverse world\, the ability to navigate and engage with various cultures\, perspectives\, and backgrounds is essential as a mental health professional. The “Exploring Diversity\, Multicultural Issues\, and Implicit Bias” an interactive course offers a comprehensive exploration of these crucial topics\, designed to enhance your awareness\, and knowledge\, and build best practice counseling skills. \nIn Person \n2.0 CEUs
URL:https://ilcdvp.org/event/exploring-diversity-multicultural-issues-and-implicit-bias/
CATEGORIES:CEU Training
ORGANIZER;CN="Aisha Achesah":MAILTO:cehp@oakton.edu
END:VEVENT
END:VCALENDAR