BEGIN:VCALENDAR
VERSION:2.0
PRODID:-//Illinois Certified Domestic Violence Professionals - ECPv6.15.20//NONSGML v1.0//EN
CALSCALE:GREGORIAN
METHOD:PUBLISH
X-WR-CALNAME:Illinois Certified Domestic Violence Professionals
X-ORIGINAL-URL:https://ilcdvp.org
X-WR-CALDESC:Events for Illinois Certified Domestic Violence Professionals
REFRESH-INTERVAL;VALUE=DURATION:PT1H
X-Robots-Tag:noindex
X-PUBLISHED-TTL:PT1H
BEGIN:VTIMEZONE
TZID:America/Chicago
BEGIN:DAYLIGHT
TZOFFSETFROM:-0600
TZOFFSETTO:-0500
TZNAME:CDT
DTSTART:20230312T080000
END:DAYLIGHT
BEGIN:STANDARD
TZOFFSETFROM:-0500
TZOFFSETTO:-0600
TZNAME:CST
DTSTART:20231105T070000
END:STANDARD
BEGIN:DAYLIGHT
TZOFFSETFROM:-0600
TZOFFSETTO:-0500
TZNAME:CDT
DTSTART:20240310T080000
END:DAYLIGHT
BEGIN:STANDARD
TZOFFSETFROM:-0500
TZOFFSETTO:-0600
TZNAME:CST
DTSTART:20241103T070000
END:STANDARD
BEGIN:DAYLIGHT
TZOFFSETFROM:-0600
TZOFFSETTO:-0500
TZNAME:CDT
DTSTART:20250309T080000
END:DAYLIGHT
BEGIN:STANDARD
TZOFFSETFROM:-0500
TZOFFSETTO:-0600
TZNAME:CST
DTSTART:20251102T070000
END:STANDARD
END:VTIMEZONE
BEGIN:VEVENT
DTSTART;TZID=America/Chicago:20240122T090000
DTEND;TZID=America/Chicago:20240202T140000
DTSTAMP:20260423T082310
CREATED:20240110T145529Z
LAST-MODIFIED:20240110T145529Z
UID:1973-1705914000-1706882400@ilcdvp.org
SUMMARY:YWCA 40-Hour Domestic Violence Training
DESCRIPTION:YWCA Evanston/North Shore is an approved ICDVP training site for the 40-hour domestic violence training\, which provides a solid base of knowledge for anyone working with individuals affected by domestic violence. The training covers all ICDVP required topics using a trauma informed lens including: \nDynamics of Domestic Violence\nEmpowerment Counseling\nCriminal and Civil Legal Issues\nSafety Planning\nRisk Assessment\nConfidentiality\nTeen Dating Violence\nImpact of Domestic Violence on Children\nIntroduction to Partner Abuse Intervention Strategies\nConnection to Mental Health and Substance Abuse\nDynamics within LGBTQ Communities\nElder Abuse\nSupporting People with Disabilities\nSelf and Community Care \nOur trainers all have years of experience\, both as educators and as service providers. Where beneficial\, we bring in guest trainers with more in-depth knowledge on specific topics. Click here to learn more about how the training is conducted. \nhttps://www.ywca-ens.org/what-we-do/domestic-violence/40-hour-dv-training/
URL:https://ilcdvp.org/event/ywca-40-hour-domestic-violence-training/
LOCATION:YWCA Evanston/Northshore\, 1215 Church St\, Evanston\, Illinois
CATEGORIES:40-Hour DV Training
ORGANIZER;CN="YWCA Evanston/North Shore":MAILTO:hgunter@ywca-ens.org
END:VEVENT
BEGIN:VEVENT
DTSTART;TZID=America/Chicago:20240209T090000
DTEND;TZID=America/Chicago:20240209T103000
DTSTAMP:20260423T082310
CREATED:20240130T145418Z
LAST-MODIFIED:20240130T145418Z
UID:2065-1707469200-1707474600@ilcdvp.org
SUMMARY:QPR Gatekeeper Training
DESCRIPTION:QPR stands for Question\, Persuade\, and Refer the 3 simple steps anyone can learn to help save a life from suicide. Just as people trained in CPR and the Heimlich Maneuver help save thousands of lives each year\, people trained in QPR learn how to recognize the warning signs of a suicide crisis and how to question\, persuade and refer someone to help. Each year thousands of Americans\, like you\, are saying “yes” to saving the life of a friend\, colleague\, sibling\, or neighbor QPR can be learned in this one-hour QPR Gatekeeper Training. \nVirtual via zoom \n1.5 CEUs
URL:https://ilcdvp.org/event/qpr-gatekeeper-training/
CATEGORIES:CEU Training
ORGANIZER;CN="Aisha Achesah":MAILTO:cehp@oakton.edu
END:VEVENT
BEGIN:VEVENT
DTSTART;TZID=America/Chicago:20240209T100000
DTEND;TZID=America/Chicago:20240209T120000
DTSTAMP:20260423T082310
CREATED:20231222T183847Z
LAST-MODIFIED:20231222T183847Z
UID:1950-1707472800-1707480000@ilcdvp.org
SUMMARY:Motivating Change: Lessons from PAIP
DESCRIPTION:How can we motivate attitude and behavior change in people who have caused harm? Learn about the Partner Abuse Intervention Program (PAIP)\, an intervention that works with individuals who have perpetrated intimate partner violence (IPV). Identify common myths and facts about individuals who perpetrate violence and how those myths hinder work to end violence in our communities. Deep-dive into the tools that we use in PAIP to facilitate change and accountability so that individuals can begin to identify harmful\, learned behaviors and make safer\, healthier choices in the future. \nThe Sarah’s Inn Winter Training Series is a four-part\, virtual training series for persons who are interested in learning more about domestic violence and the various services for survivors\, their children\, and individuals who have perpetrated violence. This series will be particularly relevant to social service and other professionals who may encounter domestic violence (DV) in their work and are seeking to better understand the dynamics of DV and the options available. Participants can register for individual sessions or for all four for a discounted rate. CEUs will be provided. \nsXNCeOMn24YN-Winter-Training-Session-2024-Square
URL:https://ilcdvp.org/event/motivating-change-lessons-from-paip/
CATEGORIES:CEU Training
END:VEVENT
BEGIN:VEVENT
DTSTART;TZID=America/Chicago:20240216T100000
DTEND;TZID=America/Chicago:20240216T120000
DTSTAMP:20260423T082310
CREATED:20231222T184215Z
LAST-MODIFIED:20231222T184215Z
UID:1952-1708077600-1708084800@ilcdvp.org
SUMMARY:Understanding Teen Dating Violence
DESCRIPTION:How do teens experience intimate partner violence differently than adults? Learn about how teens can be impacted by dating violence and the unique challenges and barriers they may encounter. We will discuss dating and domestic violence amongst youth\, as well as harassment\, sexual assault\, digital abuse\, and tips for healthy relationships. February is Teen Dating Violence Awareness Month. \nThe Sarah’s Inn Winter Training Series is a four-part\, virtual training series for persons who are interested in learning more about domestic violence and the various services for survivors\, their children\, and individuals who have perpetrated violence. This series will be particularly relevant to social service and other professionals who may encounter domestic violence (DV) in their work and are seeking to better understand the dynamics of DV and the options available. Participants can register for individual sessions or for all four for a discounted rate. CEUs will be provided. \nsXNCeOMn24YN-Winter-Training-Session-2024-Square
URL:https://ilcdvp.org/event/understanding-teen-dating-violence-2/
CATEGORIES:CEU Training
END:VEVENT
BEGIN:VEVENT
DTSTART;TZID=America/Chicago:20240228T100000
DTEND;TZID=America/Chicago:20240228T120000
DTSTAMP:20260423T082310
CREATED:20250205T160116Z
LAST-MODIFIED:20250205T160116Z
UID:2103-1709114400-1709121600@ilcdvp.org
SUMMARY:A Conversation on Teen Dating Violence: How Can We Support Young People to Have Healthy Relationships?
DESCRIPTION:Adolescents have romantic and intimate relationships and adults are sometimes hesitant or nervous to discuss this with them. This workshop is designed to give parents\, and other trusted adults\, tools to talk about relationships\, safety\, sexuality\, and healthy dating with the young people in our lives. We can be trusted resources and a source of accurate and protective information\, so that young people have a strong and healthy foundation when they begin dating. \nFree\, $10 for ICDVP CEUs\, $20 for LCPC CEs \n1.75 CEUs \nEvent will happen via Zoom – Link to join: https://tinyurl.com/TDV2024
URL:https://ilcdvp.org/event/a-conversation-on-teen-dating-violence-how-can-we-support-young-people-to-have-healthy-relationships/
CATEGORIES:CEU Training
ORGANIZER;CN="Susan Pieters":MAILTO:spieters@cawc.org
END:VEVENT
END:VCALENDAR