BEGIN:VCALENDAR
VERSION:2.0
PRODID:-//Illinois Certified Domestic Violence Professionals - ECPv6.15.20//NONSGML v1.0//EN
CALSCALE:GREGORIAN
METHOD:PUBLISH
X-WR-CALNAME:Illinois Certified Domestic Violence Professionals
X-ORIGINAL-URL:https://ilcdvp.org
X-WR-CALDESC:Events for Illinois Certified Domestic Violence Professionals
REFRESH-INTERVAL;VALUE=DURATION:PT1H
X-Robots-Tag:noindex
X-PUBLISHED-TTL:PT1H
BEGIN:VTIMEZONE
TZID:America/Chicago
BEGIN:DAYLIGHT
TZOFFSETFROM:-0600
TZOFFSETTO:-0500
TZNAME:CDT
DTSTART:20220313T080000
END:DAYLIGHT
BEGIN:STANDARD
TZOFFSETFROM:-0500
TZOFFSETTO:-0600
TZNAME:CST
DTSTART:20221106T070000
END:STANDARD
BEGIN:DAYLIGHT
TZOFFSETFROM:-0600
TZOFFSETTO:-0500
TZNAME:CDT
DTSTART:20230312T080000
END:DAYLIGHT
BEGIN:STANDARD
TZOFFSETFROM:-0500
TZOFFSETTO:-0600
TZNAME:CST
DTSTART:20231105T070000
END:STANDARD
BEGIN:DAYLIGHT
TZOFFSETFROM:-0600
TZOFFSETTO:-0500
TZNAME:CDT
DTSTART:20240310T080000
END:DAYLIGHT
BEGIN:STANDARD
TZOFFSETFROM:-0500
TZOFFSETTO:-0600
TZNAME:CST
DTSTART:20241103T070000
END:STANDARD
END:VTIMEZONE
BEGIN:VEVENT
DTSTART;TZID=America/Chicago:20231103T090000
DTEND;TZID=America/Chicago:20231103T120000
DTSTAMP:20260423T124712
CREATED:20230905T132811Z
LAST-MODIFIED:20230905T132811Z
UID:1721-1699002000-1699012800@ilcdvp.org
SUMMARY:Introduction to Mental Wellness
DESCRIPTION:In recent years\, we have focused on living healthier\, more well-rounded\nlives. This has brought a particular focus on our mental wellness.\nThere are various definitions for mental wellness\, but the truth is\,\none’s mental wellness varies from person to person. Ones’ culture\nand geographical location can significantly impact these views.\nStigma also has a major effect on one’s view and likelihood of seeking\ntreatment. This presentation will explore the concept of mental\nwellness\, discuss the worldwide prevalence\, and provide an overview\nof some of the more common mental health and substance use\ndisorders\, and suicide. \nZoom Training \n3.0 CEUs
URL:https://ilcdvp.org/event/introduction-to-mental-wellness/
CATEGORIES:CEU Training
ORGANIZER;CN="Oakton College":MAILTO:cehp@oakton.edu
END:VEVENT
BEGIN:VEVENT
DTSTART;TZID=America/Chicago:20231109T090000
DTEND;TZID=America/Chicago:20231109T120000
DTSTAMP:20260423T124712
CREATED:20231017T204539Z
LAST-MODIFIED:20231017T204539Z
UID:1830-1699520400-1699531200@ilcdvp.org
SUMMARY:Cognitive Behavioral Therapy for Children and Adolescents
DESCRIPTION:This course is designed as a basic overview of the CBT (Cognitive Behavioral Therapy) model of treatment. By examining thoughts\, behavior and actions\, we will uncover efficacy based treatment for childhood depression and anxiety by utilizing and practicing those skills. \n3.0 CDVP/CPAIP CEUs
URL:https://ilcdvp.org/event/cognitive-behavioral-therapy-for-children-and-adolescents/
LOCATION:Oakton College – Skokie Campus\, 7701 N. Lincoln Ave.\, Skokie\, IL\, 60077
CATEGORIES:CEU Training
ORGANIZER;CN="Oakton College":MAILTO:cehp@oakton.edu
END:VEVENT
BEGIN:VEVENT
DTSTART;TZID=America/Chicago:20231116T093000
DTEND;TZID=America/Chicago:20231202T154500
DTSTAMP:20260423T124712
CREATED:20231030T211403Z
LAST-MODIFIED:20231030T211403Z
UID:1862-1700127000-1701531900@ilcdvp.org
SUMMARY:Between Friends 40-Hour DV Training
DESCRIPTION:The Domestic Violence 40-hour training provides participants with the movement’s philosophical and political framework and a solid foundation for supporting folks who experience violence. \nIn order for confidential communication to be protected\, the Illinois Domestic Violence Act (IDVA) requires that individuals working directly with domestic violence survivors have a minimum of 40 hours of domestic violence training. This training fulfills this requirement. \nCompleting 40 hours of domestic violence training is the first step toward becoming an Illinois Certified Domestic Violence Professional (ICDVP). Between Friends is an ICDVP approved training and supervision site. \nThe training will cover:\nDynamics of DV | Empowerment Counseling | Criminal and Civil Legal Issues | Safety Planning | Risk Assessment | Confidentiality | Teen Dating Violence | Impact of DV on Children | Introduction to Partner Abuse Intervention Strategies | Connection to Mental Health and Substance Abuse | Dynamics within LGBTQ Communities | Building an Anti-Oppression Framework | Elder Abuse | Supporting People with Disabilities | Self and Community Care | And more! \nThe following eight sessions during the Winter of 2023 (all sessions must be attended in order to receive a certificate): \nSession Dates: 11/16/23\, 11/17/23\, 11/20/23\, 11/21/23\, 11/27/23\, 11/29/23\, 12/01/23\, 12/02/23 \nAll Sessions are in-person from 9:30am-3:45pm at Apna Ghar (4350 N. Broadway\, Chicago\, IL 60613). \nhttps://tinyurl.com/WINTER40HR
URL:https://ilcdvp.org/event/between-friends-40-hour-dv-training/
LOCATION:Apna Ghar\, 4350 N. Broadway\, Chicago\, IL\, 60613
CATEGORIES:40-Hour DV Training
ORGANIZER;CN="Zury Rodriguez":MAILTO:zuryr@betweenfriendschicago.org
END:VEVENT
END:VCALENDAR