BEGIN:VCALENDAR
VERSION:2.0
PRODID:-//Illinois Certified Domestic Violence Professionals - ECPv6.15.20//NONSGML v1.0//EN
CALSCALE:GREGORIAN
METHOD:PUBLISH
X-ORIGINAL-URL:https://ilcdvp.org
X-WR-CALDESC:Events for Illinois Certified Domestic Violence Professionals
REFRESH-INTERVAL;VALUE=DURATION:PT1H
X-Robots-Tag:noindex
X-PUBLISHED-TTL:PT1H
BEGIN:VTIMEZONE
TZID:America/Chicago
BEGIN:DAYLIGHT
TZOFFSETFROM:-0600
TZOFFSETTO:-0500
TZNAME:CDT
DTSTART:20220313T080000
END:DAYLIGHT
BEGIN:STANDARD
TZOFFSETFROM:-0500
TZOFFSETTO:-0600
TZNAME:CST
DTSTART:20221106T070000
END:STANDARD
BEGIN:DAYLIGHT
TZOFFSETFROM:-0600
TZOFFSETTO:-0500
TZNAME:CDT
DTSTART:20230312T080000
END:DAYLIGHT
BEGIN:STANDARD
TZOFFSETFROM:-0500
TZOFFSETTO:-0600
TZNAME:CST
DTSTART:20231105T070000
END:STANDARD
BEGIN:DAYLIGHT
TZOFFSETFROM:-0600
TZOFFSETTO:-0500
TZNAME:CDT
DTSTART:20240310T080000
END:DAYLIGHT
BEGIN:STANDARD
TZOFFSETFROM:-0500
TZOFFSETTO:-0600
TZNAME:CST
DTSTART:20241103T070000
END:STANDARD
END:VTIMEZONE
BEGIN:VEVENT
DTSTART;TZID=America/Chicago:20230901T093000
DTEND;TZID=America/Chicago:20230901T154500
DTSTAMP:20260423T153618
CREATED:20230704T152951Z
LAST-MODIFIED:20230704T152951Z
UID:1423-1693560600-1693583100@ilcdvp.org
SUMMARY:Between Friends 40-Hour Training - Summer 2023
DESCRIPTION:The Domestic Violence 40-hour training provides participants with the movement’s philosophical and political framework and a solid foundation for supporting folks who experience violence. \nIn order for confidential communication to be protected\, the Illinois Domestic Violence Act (IDVA) requires that individuals working directly with domestic violence survivors have a minimum of 40 hours of domestic violence training. This training fulfills this requirement. \nCompleting 40 hours of domestic violence training is the first step toward becoming an Illinois Certified Domestic Violence Professional (ICDVP). Between Friends is an ICDVP approved training and supervision site. \nThe training will cover:\nDynamics of DV | Empowerment Counseling | Criminal and Civil Legal Issues | Safety Planning | Risk Assessment | Confidentiality | Teen Dating Violence | Impact of DV on Children | Introduction to Partner Abuse Intervention Strategies | Connection to Mental Health and Substance Abuse | Dynamics within LGBTQ Communities | Building an Anti-Oppression Framework | Elder Abuse | Supporting People with Disabilities | Self and Community Care | And more! \nAug 18: In-Person Session: 9:30am-3:45pm\nAug 22: Virtual Session: 10am-2pm\nAug 23: Virtual Session: 10am-2pm\nAug 24: Virtual Session: 10am-2pm\nAug 25: In-Person Session: 9:30am-3:45pm\nAug 28: Virtual Session: 10am-2pm\nAug 29: Virtual Session: 10am-2pm\nAug 30: Virtual Session: 10am-2pm\nAug 31: In-Person Session: 9:30am-3:45pm\nSept 1: In-Person Session: 9:30am-3:45pm\n*SAVE THESE DATES for potential\nmake-up sessions:\nSept 8: In-Person Session (group): 9:30am-3:45pm\nSept 11: In-Person Session (individuals): 9:30am-3:45pm \nDuPKd0YxhdKi-Summer-2023-40-Hour
URL:https://ilcdvp.org/event/between-friends-40-hour-training-summer-2023-2/
LOCATION:Between Friends at World Relief\, 3507 W. Lawrence Ave.\, Chicago\, IL\, 60625
CATEGORIES:40-Hour DV Training
ORGANIZER;CN="Between Friends at World Relief":MAILTO:spieters@betweenfriendschicago.org
END:VEVENT
BEGIN:VEVENT
DTSTART;TZID=America/Chicago:20230905T170000
DTEND;TZID=America/Chicago:20230905T210000
DTSTAMP:20260423T153618
CREATED:20230731T194101Z
LAST-MODIFIED:20230731T194101Z
UID:1606-1693933200-1693947600@ilcdvp.org
SUMMARY:Safe Passage - 60 Hour Domestic Violence and Sexual Assault Training
DESCRIPTION:Safe Passage Inc.\, will be providing their 3rd and FINAL 60 Hour Domestic Violence and Sexual Assault Training for the year of 2023. \nSafe Passage September-2023-Training-Schedule \n 
URL:https://ilcdvp.org/event/safe-passage-60-hour-domestic-violence-and-sexual-assault-training/
LOCATION:Safe Passage\, 217 S. 4th Street\, DeKalb\, IL\, 60115\, United States
CATEGORIES:40-Hour DV Training
END:VEVENT
BEGIN:VEVENT
DTSTART;TZID=America/Chicago:20230906T090000
DTEND;TZID=America/Chicago:20230906T170000
DTSTAMP:20260423T153618
CREATED:20230809T201006Z
LAST-MODIFIED:20230809T201006Z
UID:1667-1693990800-1694019600@ilcdvp.org
SUMMARY:20-Hour Partner Abuse Intervention Program (PAIP) Facilitator Training
DESCRIPTION:– Comprehend the key objectives of the Illinois Department of Human Services Protocol\n– Demonstrate an understanding of essential PAIP curriculum components\n– Exhibit an understanding of an effective group process with appropriate co-facilitation skills\n– Understand and gain the tools to engage with difficult participants\n– Be familiar with PAIP Requirements and Reporting \n20 hours of Social Work and ICDVP CEUs (CDVP certification only)
URL:https://ilcdvp.org/event/20-hour-partner-abuse-intervention-program-paip-facilitator-training/
CATEGORIES:20-Hour PAIP Training
END:VEVENT
BEGIN:VEVENT
DTSTART;TZID=America/Chicago:20230906T170000
DTEND;TZID=America/Chicago:20230906T210000
DTSTAMP:20260423T153618
CREATED:20230731T194142Z
LAST-MODIFIED:20230731T194142Z
UID:1610-1694019600-1694034000@ilcdvp.org
SUMMARY:Safe Passage - 60 Hour Domestic Violence and Sexual Assault Training
DESCRIPTION:Safe Passage Inc.\, will be providing their 3rd and FINAL 60 Hour Domestic Violence and Sexual Assault Training for the year of 2023. \nSafe Passage September-2023-Training-Schedule
URL:https://ilcdvp.org/event/safe-passage-60-hour-domestic-violence-and-sexual-assault-training-2/
LOCATION:Safe Passage\, 217 S. 4th Street\, DeKalb\, IL\, 60115\, United States
CATEGORIES:40-Hour DV Training
END:VEVENT
BEGIN:VEVENT
DTSTART;TZID=America/Chicago:20230907T090000
DTEND;TZID=America/Chicago:20230907T170000
DTSTAMP:20260423T153618
CREATED:20230809T201044Z
LAST-MODIFIED:20230809T201044Z
UID:1672-1694077200-1694106000@ilcdvp.org
SUMMARY:20-Hour Partner Abuse Intervention Program (PAIP) Facilitator Training
DESCRIPTION:– Comprehend the key objectives of the Illinois Department of Human Services Protocol\n– Demonstrate an understanding of essential PAIP curriculum components\n– Exhibit an understanding of an effective group process with appropriate co-facilitation skills\n– Understand and gain the tools to engage with difficult participants\n– Be familiar with PAIP Requirements and Reporting \n20 hours of Social Work and ICDVP CEUs (CDVP certification only)
URL:https://ilcdvp.org/event/20-hour-partner-abuse-intervention-program-paip-facilitator-training-2/
LOCATION:Sarah’s Inn\, 1547 Circle Ave.\, Forest Park\, IL\, 60130\, United States
CATEGORIES:20-Hour PAIP Training
END:VEVENT
BEGIN:VEVENT
DTSTART;TZID=America/Chicago:20230908T090000
DTEND;TZID=America/Chicago:20230908T170000
DTSTAMP:20260423T153618
CREATED:20230809T201149Z
LAST-MODIFIED:20230809T201149Z
UID:1674-1694163600-1694192400@ilcdvp.org
SUMMARY:20-Hour Partner Abuse Intervention Program (PAIP) Facilitator Training
DESCRIPTION:– Comprehend the key objectives of the Illinois Department of Human Services Protocol\n– Demonstrate an understanding of essential PAIP curriculum components\n– Exhibit an understanding of an effective group process with appropriate co-facilitation skills\n– Understand and gain the tools to engage with difficult participants\n– Be familiar with PAIP Requirements and Reporting \n20 hours of Social Work and ICDVP CEUs (CDVP certification only)
URL:https://ilcdvp.org/event/20-hour-partner-abuse-intervention-program-paip-facilitator-training-3/
CATEGORIES:20-Hour PAIP Training
END:VEVENT
BEGIN:VEVENT
DTSTART;TZID=America/Chicago:20230909T083000
DTEND;TZID=America/Chicago:20230909T160000
DTSTAMP:20260423T153618
CREATED:20230731T194202Z
LAST-MODIFIED:20230731T194202Z
UID:1612-1694248200-1694275200@ilcdvp.org
SUMMARY:Safe Passage - 60 Hour Domestic Violence and Sexual Assault Training
DESCRIPTION:Safe Passage Inc.\, will be providing their 3rd and FINAL 60 Hour Domestic Violence and Sexual Assault Training for the year of 2023. \nSafe Passage September-2023-Training-Schedule
URL:https://ilcdvp.org/event/safe-passage-60-hour-domestic-violence-and-sexual-assault-training-3/
LOCATION:Safe Passage\, 217 S. 4th Street\, DeKalb\, IL\, 60115\, United States
CATEGORIES:40-Hour DV Training
END:VEVENT
BEGIN:VEVENT
DTSTART;TZID=America/Chicago:20230911T000000
DTEND;TZID=America/Chicago:20230930T000000
DTSTAMP:20260423T153618
CREATED:20230905T132056Z
LAST-MODIFIED:20230905T132056Z
UID:1714-1694390400-1696032000@ilcdvp.org
SUMMARY:Cultural Competency: Exploring Socio-Economic Status Mental Health
DESCRIPTION:Socio-economic status can influence a person’s thoughts\, attitudes\,\nand behaviors. Understanding the cultural aspects of socio-economic\nstatus can be beneficial to health care and mental health care providers\nwhen interacting with clients. This online class will incorporate videos\nand online resources to explore various aspects of socio-economic\nstatus. Participants will gain a deeper understanding of meeting the\nneeds of clients from all levels of socio-economic status\, with a goal\nof reducing misunderstandings and disparities in services. \nOnline Asynchronous \n6.0 CEUs
URL:https://ilcdvp.org/event/cultural-competency-exploring-socio-economic-status-mental-health/
CATEGORIES:CEU Training
ORGANIZER;CN="Oakton College":MAILTO:cehp@oakton.edu
END:VEVENT
BEGIN:VEVENT
DTSTART;TZID=America/Chicago:20230912T170000
DTEND;TZID=America/Chicago:20230912T210000
DTSTAMP:20260423T153618
CREATED:20230731T194411Z
LAST-MODIFIED:20230731T194411Z
UID:1614-1694538000-1694552400@ilcdvp.org
SUMMARY:Safe Passage - 60 Hour Domestic Violence and Sexual Assault Training
DESCRIPTION:Safe Passage Inc.\, will be providing their 3rd and FINAL 60 Hour Domestic Violence and Sexual Assault Training for the year of 2023. \nSafe Passage September-2023-Training-Schedule
URL:https://ilcdvp.org/event/safe-passage-60-hour-domestic-violence-and-sexual-assault-training-11/
LOCATION:Safe Passage\, 217 S. 4th Street\, DeKalb\, IL\, 60115\, United States
CATEGORIES:40-Hour DV Training
END:VEVENT
BEGIN:VEVENT
DTSTART;TZID=America/Chicago:20230913T170000
DTEND;TZID=America/Chicago:20230913T210000
DTSTAMP:20260423T153618
CREATED:20230731T194354Z
LAST-MODIFIED:20230731T194354Z
UID:1616-1694624400-1694638800@ilcdvp.org
SUMMARY:Safe Passage - 60 Hour Domestic Violence and Sexual Assault Training
DESCRIPTION:Safe Passage Inc.\, will be providing their 3rd and FINAL 60 Hour Domestic Violence and Sexual Assault Training for the year of 2023. \nSafe Passage September-2023-Training-Schedule
URL:https://ilcdvp.org/event/safe-passage-60-hour-domestic-violence-and-sexual-assault-training-10/
LOCATION:Safe Passage\, 217 S. 4th Street\, DeKalb\, IL\, 60115\, United States
CATEGORIES:40-Hour DV Training
END:VEVENT
BEGIN:VEVENT
DTSTART;TZID=America/Chicago:20230916T083000
DTEND;TZID=America/Chicago:20230916T170000
DTSTAMP:20260423T153618
CREATED:20230731T194336Z
LAST-MODIFIED:20230731T194336Z
UID:1618-1694853000-1694883600@ilcdvp.org
SUMMARY:Safe Passage - 60 Hour Domestic Violence and Sexual Assault Training
DESCRIPTION:Safe Passage Inc.\, will be providing their 3rd and FINAL 60 Hour Domestic Violence and Sexual Assault Training for the year of 2023. \nSafe Passage September-2023-Training-Schedule
URL:https://ilcdvp.org/event/safe-passage-60-hour-domestic-violence-and-sexual-assault-training-9/
LOCATION:Safe Passage\, 217 S. 4th Street\, DeKalb\, IL\, 60115\, United States
CATEGORIES:40-Hour DV Training
END:VEVENT
BEGIN:VEVENT
DTSTART;TZID=America/Chicago:20230919T170000
DTEND;TZID=America/Chicago:20230919T210000
DTSTAMP:20260423T153618
CREATED:20230731T194324Z
LAST-MODIFIED:20230731T194324Z
UID:1621-1695142800-1695157200@ilcdvp.org
SUMMARY:Safe Passage - 60 Hour Domestic Violence and Sexual Assault Training
DESCRIPTION:Safe Passage Inc.\, will be providing their 3rd and FINAL 60 Hour Domestic Violence and Sexual Assault Training for the year of 2023. \nSafe Passage September-2023-Training-Schedule
URL:https://ilcdvp.org/event/safe-passage-60-hour-domestic-violence-and-sexual-assault-training-8/
LOCATION:Safe Passage\, 217 S. 4th Street\, DeKalb\, IL\, 60115\, United States
CATEGORIES:40-Hour DV Training
END:VEVENT
BEGIN:VEVENT
DTSTART;TZID=America/Chicago:20230922T090000
DTEND;TZID=America/Chicago:20230922T120000
DTSTAMP:20260423T153618
CREATED:20230710T202358Z
LAST-MODIFIED:20230710T202358Z
UID:1510-1695373200-1695384000@ilcdvp.org
SUMMARY:The Impact of Domestic Violence on Victims\, their Families\, and The Community
DESCRIPTION:Biography: Renee is a Certified Domestic Violence\nProfessional with a master’s is Social Work from Aurora University. Before joining Family Counseling Service\, Renee worked with survivors of domestic and sexual violence for more than 10 years. This experience has provided Renee with insights into the consequences of intimate partner violence on mental health and how professionals can effectively support survivors. She looks forward to sharing her knowledge and engaging in this important conversation. \nObjectives: Participants will gain an understanding of the impacts of domestic violence on the survivor\, domestic violence on families and communities. Participants will also gain the knowledge of the complex barriers survivors face when navigating systems and learn trauma informed strategies to use when working with survivors in a clinical setting. \nCEUs:  3.0 \n 
URL:https://ilcdvp.org/event/the-impact-of-domestic-violence-on-victims-their-families-and-the-community/
LOCATION:Family Counseling Service\, 70 S River St\, Aurora\, IL\, 60506
CATEGORIES:CEU Training
END:VEVENT
BEGIN:VEVENT
DTSTART;TZID=America/Chicago:20230922T090000
DTEND;TZID=America/Chicago:20230922T170000
DTSTAMP:20260423T153618
CREATED:20230905T132542Z
LAST-MODIFIED:20230905T132542Z
UID:1717-1695373200-1695402000@ilcdvp.org
SUMMARY:A Comprehensive Initial Interview in Counseling and Therapy
DESCRIPTION:A Comprehensive Initial Interview in Counseling and Therapy will\nexamine how to conduct a comprehensive initial interview covering\nfive key domains. Course will include how to summarize the material\nand write a five-part treatment plan. \nIn-Person Training \n6.0 CEUs
URL:https://ilcdvp.org/event/a-comprehensive-initial-interview-in-counseling-and-therapy/
CATEGORIES:CEU Training
ORGANIZER;CN="Oakton College":MAILTO:cehp@oakton.edu
END:VEVENT
BEGIN:VEVENT
DTSTART;TZID=America/Chicago:20230923T083000
DTEND;TZID=America/Chicago:20230923T170000
DTSTAMP:20260423T153618
CREATED:20230731T194305Z
LAST-MODIFIED:20230731T194305Z
UID:1623-1695457800-1695488400@ilcdvp.org
SUMMARY:Safe Passage - 60 Hour Domestic Violence and Sexual Assault Training
DESCRIPTION:Safe Passage Inc.\, will be providing their 3rd and FINAL 60 Hour Domestic Violence and Sexual Assault Training for the year of 2023. \nSafe Passage September-2023-Training-Schedule
URL:https://ilcdvp.org/event/safe-passage-60-hour-domestic-violence-and-sexual-assault-training-7/
LOCATION:Safe Passage\, 217 S. 4th Street\, DeKalb\, IL\, 60115\, United States
CATEGORIES:40-Hour DV Training
END:VEVENT
BEGIN:VEVENT
DTSTART;TZID=America/Chicago:20230926T170000
DTEND;TZID=America/Chicago:20230926T210000
DTSTAMP:20260423T153618
CREATED:20230731T194247Z
LAST-MODIFIED:20230731T194247Z
UID:1625-1695747600-1695762000@ilcdvp.org
SUMMARY:Safe Passage - 60 Hour Domestic Violence and Sexual Assault Training
DESCRIPTION:Safe Passage Inc.\, will be providing their 3rd and FINAL 60 Hour Domestic Violence and Sexual Assault Training for the year of 2023. \nSafe Passage September-2023-Training-Schedule
URL:https://ilcdvp.org/event/safe-passage-60-hour-domestic-violence-and-sexual-assault-training-6/
LOCATION:Safe Passage\, 217 S. 4th Street\, DeKalb\, IL\, 60115\, United States
CATEGORIES:40-Hour DV Training
END:VEVENT
BEGIN:VEVENT
DTSTART;TZID=America/Chicago:20230927T170000
DTEND;TZID=America/Chicago:20230927T210000
DTSTAMP:20260423T153618
CREATED:20230731T194233Z
LAST-MODIFIED:20230731T194233Z
UID:1627-1695834000-1695848400@ilcdvp.org
SUMMARY:Safe Passage - 60 Hour Domestic Violence and Sexual Assault Training
DESCRIPTION:Safe Passage Inc.\, will be providing their 3rd and FINAL 60 Hour Domestic Violence and Sexual Assault Training for the year of 2023. \nSafe Passage September-2023-Training-Schedule
URL:https://ilcdvp.org/event/safe-passage-60-hour-domestic-violence-and-sexual-assault-training-5/
LOCATION:Safe Passage\, 217 S. 4th Street\, DeKalb\, IL\, 60115\, United States
CATEGORIES:40-Hour DV Training
END:VEVENT
BEGIN:VEVENT
DTSTART;TZID=America/Chicago:20230929T090000
DTEND;TZID=America/Chicago:20230929T120000
DTSTAMP:20260423T153618
CREATED:20230710T203122Z
LAST-MODIFIED:20230710T203122Z
UID:1517-1695978000-1695988800@ilcdvp.org
SUMMARY:The Intersect Between Domestic Violence and Substance Abuse
DESCRIPTION:Biography: Danielle is a Licensed Clinical Social Worker with a master’s in Social Work from Aurora University. Before joining Family Counseling Service in 2018\, Danielle worked eight years as a therapist at an outpatient substance abuse treatment center–primarily working with adolescents and adults with dual diagnosis concerns\, mandated to treatment by court\, DCFS\, or other entities. At FCS\, Danielle is the MISA Program Supervisor and serves as the treatment representative for Kendall County Drug Court and Kendall County Mental Health Court. Danielle facilitates psychoeducational groups for adolescents and adults through the MISA program\, Partner Abuse Intervention Program\, and at Kendall County jail. She is also a trained SMART Recovery facilitator and leads a weekly meeting on-site at FCS\, an available resource for both clients and community members to gain support for any type of addictive behavior. These experiences have provided Danielle with insights into the complexity of both addiction and domestic violence and the role each plays in the other problem behavior. She looks forward to sharing this information with you all and hearing your own experiences in addressing these concerns with the clients you serve. \nObjectives: Participants will be able to identify symptoms of addiction and theories of causes of addiction and gain insight about patterns of domestic violence and the root cause of intimate partner violence. By the end of the presentation\, participants can utilize evidenced-based strategies to address thinking patterns related to both addiction and intimate partner violence\, identify components of the Transtheoretical Model (Stages of Change) and its application to both addiction and domestic violence and analyze possible biases that impact work with this client population and identify self-care strategies to ensure effective working relationship and decrease risk of burnout. \nCEUs:  3.0
URL:https://ilcdvp.org/event/the-intersect-between-domestic-violence-and-substance-abuse/
LOCATION:Family Counseling Service\, 70 S River St\, Aurora\, IL\, 60506
CATEGORIES:CEU Training
END:VEVENT
BEGIN:VEVENT
DTSTART;TZID=America/Chicago:20230930T083000
DTEND;TZID=America/Chicago:20230930T163000
DTSTAMP:20260423T153618
CREATED:20230731T194219Z
LAST-MODIFIED:20230731T194219Z
UID:1629-1696062600-1696091400@ilcdvp.org
SUMMARY:Safe Passage - 60 Hour Domestic Violence and Sexual Assault Training
DESCRIPTION:Safe Passage Inc.\, will be providing their 3rd and FINAL 60 Hour Domestic Violence and Sexual Assault Training for the year of 2023. \nSafe Passage September-2023-Training-Schedule
URL:https://ilcdvp.org/event/safe-passage-60-hour-domestic-violence-and-sexual-assault-training-4/
LOCATION:Safe Passage\, 217 S. 4th Street\, DeKalb\, IL\, 60115\, United States
CATEGORIES:40-Hour DV Training
END:VEVENT
END:VCALENDAR