BEGIN:VCALENDAR
VERSION:2.0
PRODID:-//Illinois Certified Domestic Violence Professionals - ECPv6.15.20//NONSGML v1.0//EN
CALSCALE:GREGORIAN
METHOD:PUBLISH
X-WR-CALNAME:Illinois Certified Domestic Violence Professionals
X-ORIGINAL-URL:https://ilcdvp.org
X-WR-CALDESC:Events for Illinois Certified Domestic Violence Professionals
REFRESH-INTERVAL;VALUE=DURATION:PT1H
X-Robots-Tag:noindex
X-PUBLISHED-TTL:PT1H
BEGIN:VTIMEZONE
TZID:America/Chicago
BEGIN:DAYLIGHT
TZOFFSETFROM:-0600
TZOFFSETTO:-0500
TZNAME:CDT
DTSTART:20220313T080000
END:DAYLIGHT
BEGIN:STANDARD
TZOFFSETFROM:-0500
TZOFFSETTO:-0600
TZNAME:CST
DTSTART:20221106T070000
END:STANDARD
BEGIN:DAYLIGHT
TZOFFSETFROM:-0600
TZOFFSETTO:-0500
TZNAME:CDT
DTSTART:20230312T080000
END:DAYLIGHT
BEGIN:STANDARD
TZOFFSETFROM:-0500
TZOFFSETTO:-0600
TZNAME:CST
DTSTART:20231105T070000
END:STANDARD
BEGIN:DAYLIGHT
TZOFFSETFROM:-0600
TZOFFSETTO:-0500
TZNAME:CDT
DTSTART:20240310T080000
END:DAYLIGHT
BEGIN:STANDARD
TZOFFSETFROM:-0500
TZOFFSETTO:-0600
TZNAME:CST
DTSTART:20241103T070000
END:STANDARD
END:VTIMEZONE
BEGIN:VEVENT
DTSTART;TZID=America/Chicago:20230717T090000
DTEND;TZID=America/Chicago:20230717T140000
DTSTAMP:20260423T181556
CREATED:20230707T183653Z
LAST-MODIFIED:20230707T190026Z
UID:1467-1689584400-1689602400@ilcdvp.org
SUMMARY:YWCA Evanston/Northshore 40-Hour Domestic Violence Training
DESCRIPTION:
URL:https://ilcdvp.org/event/40-hour-domestic-violence-training-16/
LOCATION:YWCA Evanston/Northshore\, 1215 Church St\, Evanston\, Illinois
CATEGORIES:40-Hour DV Training
END:VEVENT
BEGIN:VEVENT
DTSTART;TZID=America/Chicago:20230718T090000
DTEND;TZID=America/Chicago:20230718T140000
DTSTAMP:20260423T181556
CREATED:20230707T183757Z
LAST-MODIFIED:20230707T185907Z
UID:1469-1689670800-1689688800@ilcdvp.org
SUMMARY:YWCA Evanston/Northshore 40-Hour Domestic Violence Training
DESCRIPTION:
URL:https://ilcdvp.org/event/40-hour-domestic-violence-training-17/
LOCATION:YWCA Evanston/Northshore\, 1215 Church St\, Evanston\, Illinois
CATEGORIES:40-Hour DV Training
END:VEVENT
BEGIN:VEVENT
DTSTART;TZID=America/Chicago:20230719T090000
DTEND;TZID=America/Chicago:20230719T140000
DTSTAMP:20260423T181556
CREATED:20230707T183905Z
LAST-MODIFIED:20230707T185817Z
UID:1471-1689757200-1689775200@ilcdvp.org
SUMMARY:YWCA Evanston/Northshore 40-Hour Domestic Violence Training
DESCRIPTION:
URL:https://ilcdvp.org/event/40-hour-domestic-violence-training-18/
LOCATION:YWCA Evanston/Northshore\, 1215 Church St\, Evanston\, Illinois
CATEGORIES:40-Hour DV Training
END:VEVENT
BEGIN:VEVENT
DTSTART;TZID=America/Chicago:20230720T090000
DTEND;TZID=America/Chicago:20230720T140000
DTSTAMP:20260423T181556
CREATED:20230707T184008Z
LAST-MODIFIED:20230707T185715Z
UID:1473-1689843600-1689861600@ilcdvp.org
SUMMARY:YWCA Evanston/Northshore 40-Hour Domestic Violence Training
DESCRIPTION:
URL:https://ilcdvp.org/event/40-hour-domestic-violence-training-19/
LOCATION:YWCA Evanston/Northshore\, 1215 Church St\, Evanston\, Illinois
CATEGORIES:40-Hour DV Training
END:VEVENT
BEGIN:VEVENT
DTSTART;TZID=America/Chicago:20230721T090000
DTEND;TZID=America/Chicago:20230721T140000
DTSTAMP:20260423T181556
CREATED:20230707T184133Z
LAST-MODIFIED:20230707T185606Z
UID:1475-1689930000-1689948000@ilcdvp.org
SUMMARY:YWCA Evanston/Northshore 40-Hour Domestic Violence Training
DESCRIPTION:
URL:https://ilcdvp.org/event/40-hour-domestic-violence-training-20/
LOCATION:YWCA Evanston/Northshore\, 1215 Church St\, Evanston\, Illinois
CATEGORIES:40-Hour DV Training
END:VEVENT
BEGIN:VEVENT
DTSTART;TZID=America/Chicago:20230724T090000
DTEND;TZID=America/Chicago:20230724T140000
DTSTAMP:20260423T181556
CREATED:20230707T184233Z
LAST-MODIFIED:20230707T185459Z
UID:1477-1690189200-1690207200@ilcdvp.org
SUMMARY:YWCA Evanston/Northshore 40-Hour Domestic Violence Training
DESCRIPTION:
URL:https://ilcdvp.org/event/40-hour-domestic-violence-training-21/
LOCATION:YWCA Evanston/Northshore\, 1215 Church St\, Evanston\, Illinois
END:VEVENT
BEGIN:VEVENT
DTSTART;TZID=America/Chicago:20230725T090000
DTEND;TZID=America/Chicago:20230725T140000
DTSTAMP:20260423T181556
CREATED:20230707T184425Z
LAST-MODIFIED:20230707T185404Z
UID:1479-1690275600-1690293600@ilcdvp.org
SUMMARY:YWCA Evanston/Northshore 40-Hour Domestic Violence Training
DESCRIPTION:
URL:https://ilcdvp.org/event/40-hour-domestic-violence-training-22/
LOCATION:YWCA Evanston/Northshore\, 1215 Church St\, Evanston\, Illinois
CATEGORIES:40-Hour DV Training
END:VEVENT
BEGIN:VEVENT
DTSTART;TZID=America/Chicago:20230726T090000
DTEND;TZID=America/Chicago:20230726T140000
DTSTAMP:20260423T181556
CREATED:20230707T184531Z
LAST-MODIFIED:20230707T185317Z
UID:1481-1690362000-1690380000@ilcdvp.org
SUMMARY:YWCA Evanston/Northshore 40-Hour Domestic Violence Training
DESCRIPTION:
URL:https://ilcdvp.org/event/40-hour-domestic-violence-training-23/
LOCATION:YWCA Evanston/Northshore\, 1215 Church St\, Evanston\, Illinois
CATEGORIES:40-Hour DV Training
END:VEVENT
BEGIN:VEVENT
DTSTART;TZID=America/Chicago:20230727T090000
DTEND;TZID=America/Chicago:20230727T140000
DTSTAMP:20260423T181556
CREATED:20230707T184630Z
LAST-MODIFIED:20230707T185226Z
UID:1483-1690448400-1690466400@ilcdvp.org
SUMMARY:YWCA Evanston/Northshore 40-Hour Domestic Violence Training
DESCRIPTION:
URL:https://ilcdvp.org/event/40-hour-domestic-violence-training-24/
LOCATION:YWCA Evanston/Northshore\, 1215 Church St\, Evanston\, Illinois
CATEGORIES:40-Hour DV Training
END:VEVENT
BEGIN:VEVENT
DTSTART;TZID=America/Chicago:20230728T090000
DTEND;TZID=America/Chicago:20230728T140000
DTSTAMP:20260423T181556
CREATED:20230707T184726Z
LAST-MODIFIED:20230707T185030Z
UID:1485-1690534800-1690552800@ilcdvp.org
SUMMARY:YWCA Evanston/Northshore 40-Hour Domestic Violence Training
DESCRIPTION:
URL:https://ilcdvp.org/event/40-hour-domestic-violence-training-25/
LOCATION:YWCA Evanston/Northshore\, 1215 Church St\, Evanston\, Illinois
CATEGORIES:40-Hour DV Training
END:VEVENT
BEGIN:VEVENT
DTSTART;TZID=America/Chicago:20230731T090000
DTEND;TZID=America/Chicago:20230731T173000
DTSTAMP:20260423T181556
CREATED:20230710T212830Z
LAST-MODIFIED:20230710T212830Z
UID:1519-1690794000-1690824600@ilcdvp.org
SUMMARY:Partner Abuse Intervention Program (PAIP) Training – 20 Hours
DESCRIPTION:
URL:https://ilcdvp.org/event/partner-abuse-intervention-program-paip-training-20-hours/
LOCATION:Family Counseling Service\, 70 S River St\, Aurora\, IL\, 60506
CATEGORIES:20-Hour PAIP Training
END:VEVENT
END:VCALENDAR