BEGIN:VCALENDAR
VERSION:2.0
PRODID:-//Illinois Certified Domestic Violence Professionals - ECPv6.15.20//NONSGML v1.0//EN
CALSCALE:GREGORIAN
METHOD:PUBLISH
X-WR-CALNAME:Illinois Certified Domestic Violence Professionals
X-ORIGINAL-URL:https://ilcdvp.org
X-WR-CALDESC:Events for Illinois Certified Domestic Violence Professionals
REFRESH-INTERVAL;VALUE=DURATION:PT1H
X-Robots-Tag:noindex
X-PUBLISHED-TTL:PT1H
BEGIN:VTIMEZONE
TZID:America/Chicago
BEGIN:DAYLIGHT
TZOFFSETFROM:-0600
TZOFFSETTO:-0500
TZNAME:CDT
DTSTART:20220313T080000
END:DAYLIGHT
BEGIN:STANDARD
TZOFFSETFROM:-0500
TZOFFSETTO:-0600
TZNAME:CST
DTSTART:20221106T070000
END:STANDARD
BEGIN:DAYLIGHT
TZOFFSETFROM:-0600
TZOFFSETTO:-0500
TZNAME:CDT
DTSTART:20230312T080000
END:DAYLIGHT
BEGIN:STANDARD
TZOFFSETFROM:-0500
TZOFFSETTO:-0600
TZNAME:CST
DTSTART:20231105T070000
END:STANDARD
BEGIN:DAYLIGHT
TZOFFSETFROM:-0600
TZOFFSETTO:-0500
TZNAME:CDT
DTSTART:20240310T080000
END:DAYLIGHT
BEGIN:STANDARD
TZOFFSETFROM:-0500
TZOFFSETTO:-0600
TZNAME:CST
DTSTART:20241103T070000
END:STANDARD
END:VTIMEZONE
BEGIN:VEVENT
DTSTART;TZID=America/Chicago:20230512T090000
DTEND;TZID=America/Chicago:20230512T160000
DTSTAMP:20260423T205348
CREATED:20230316T171435Z
LAST-MODIFIED:20230316T171435Z
UID:1163-1683882000-1683907200@ilcdvp.org
SUMMARY:Using Battering Motive and a Trauma-Responsive Approach to Support Transformational Change
DESCRIPTION:In this 6-hour presentation\, Dorthy Stucky Halley\, LMSW and Steve Halley\, LSCSW\, co-founders of the Family Peace Initiative\, will share two foundational components of their trauma-responsive approach for intervening with partner abuse. \nCracking the Code: Understanding Different Motives of Those Who Batter and the Connection to Risk and Lethality \nUsing the ‘River of Cruelty’ Model for Partner Abuse Intervention: A Trauma-Responsive Approach \nCost:  FREE \nCEUs:  5.5 \nPAIP-Facilitator-Training (003)
URL:https://ilcdvp.org/event/using-battering-motive-and-a-trauma-responsive-approach-to-support-transformational-change/
CATEGORIES:CEU Training
ORGANIZER;CN="Center for Prevention of Abuse":MAILTO:knowlan@centerforpreventionofabuse.org
END:VEVENT
BEGIN:VEVENT
DTSTART;TZID=America/Chicago:20230524T120000
DTEND;TZID=America/Chicago:20230524T130000
DTSTAMP:20260423T205348
CREATED:20230503T134236Z
LAST-MODIFIED:20230503T135720Z
UID:1264-1684929600-1684933200@ilcdvp.org
SUMMARY:Basics: Partner Abuse Intervention Programs (PAIP) & Hines Jr. VA Intimate Partner Violence (IPV) Assistance Program
DESCRIPTION:Join us for a virtual Lunch and Learn on programs and services available for those who choose harm/violence against intimate partners.\nLearn the basics about PAIP including:\n• Philosophy and Goals of PAIP\n• Who is eligible for services\n• Class Structure\n• Basic Curriculum\n• Difference between PAIP & Anger Management \nLearn the basics about Hines Jr. VA IPV Assistance Program including:\n• Philosophy and Goals of IPV Assistance Program\n• Who is eligible for services\n• Basic Curriculum \nPresenters:\nRebecca Taylor\, MS – Guardian Angel Community Services PAIP Coordinator\nRuben Gonzalez\, CPAIP – Anew: Building Beyond Violence & Abuse PAIP Manager\nErin Hanrahan\, LCSW – Edward Hines Jr. VA Intimate Partner Violence (IPV) Assistance Program Coordinator \n8u9XngAFwXJF-5.24.23-Lunch-and-Learn-Flier
URL:https://ilcdvp.org/event/basics-partner-abuse-intervention-programs-paip-hines-jr-va-intimate-partner-violence-ipv-assistance-program/
CATEGORIES:CEU Training
ORGANIZER;CN="12th Judicial Family Violence Coordinating Council":MAILTO:amirrah@il12thcourt.gov
END:VEVENT
END:VCALENDAR