BEGIN:VCALENDAR
VERSION:2.0
PRODID:-//Illinois Certified Domestic Violence Professionals - ECPv6.15.20//NONSGML v1.0//EN
CALSCALE:GREGORIAN
METHOD:PUBLISH
X-WR-CALNAME:Illinois Certified Domestic Violence Professionals
X-ORIGINAL-URL:https://ilcdvp.org
X-WR-CALDESC:Events for Illinois Certified Domestic Violence Professionals
REFRESH-INTERVAL;VALUE=DURATION:PT1H
X-Robots-Tag:noindex
X-PUBLISHED-TTL:PT1H
BEGIN:VTIMEZONE
TZID:America/Chicago
BEGIN:DAYLIGHT
TZOFFSETFROM:-0600
TZOFFSETTO:-0500
TZNAME:CDT
DTSTART:20220313T080000
END:DAYLIGHT
BEGIN:STANDARD
TZOFFSETFROM:-0500
TZOFFSETTO:-0600
TZNAME:CST
DTSTART:20221106T070000
END:STANDARD
BEGIN:DAYLIGHT
TZOFFSETFROM:-0600
TZOFFSETTO:-0500
TZNAME:CDT
DTSTART:20230312T080000
END:DAYLIGHT
BEGIN:STANDARD
TZOFFSETFROM:-0500
TZOFFSETTO:-0600
TZNAME:CST
DTSTART:20231105T070000
END:STANDARD
BEGIN:DAYLIGHT
TZOFFSETFROM:-0600
TZOFFSETTO:-0500
TZNAME:CDT
DTSTART:20240310T080000
END:DAYLIGHT
BEGIN:STANDARD
TZOFFSETFROM:-0500
TZOFFSETTO:-0600
TZNAME:CST
DTSTART:20241103T070000
END:STANDARD
END:VTIMEZONE
BEGIN:VEVENT
DTSTART;TZID=America/Chicago:20230414T080000
DTEND;TZID=America/Chicago:20230414T160000
DTSTAMP:20260423T215713
CREATED:20230323T142254Z
LAST-MODIFIED:20230411T163004Z
UID:1181-1681459200-1681488000@ilcdvp.org
SUMMARY:STRANGULATION: THE LAST WARNING SHOT
DESCRIPTION:Learn how to: identify the signs and symptoms of non-fatal strangulation cases; understand and recognize the anatomy and medical aspects of surviving and non-surviving victims; investigate and document cases for prosecution; prosecute cases\, including using experts in court; and\, most importantly\, enhance victim safety through trauma-informed advocacy services.\nIntended Audience: Law Enforcement\, Victim Advocates\, Prosecutors\, Medical Professionals\, Attorneys\, Court Personnel\, Public Defenders\, Mental Health Professionals\, Social Workers\, and anyone who regularly comes in contact with victims of domestic and sexual violence. \nEVENT LOCATION \nLewis University – The Flight Deck \n1 University Parkway \nRomeoville\, IL  60446 \n6.5 CEUs available for Certified Domestic Violence Professionals\, Counselors\, Social Workers ($15)\, and (Pending) Law Enforcement \nFree Training \nStrangulation Flyer 4.14.23
URL:https://ilcdvp.org/event/strangulation-the-last-warning-shot/
CATEGORIES:CEU Training
ORGANIZER;CN="12th Judicial Family Violence Coordinating Council":MAILTO:amirrah@il12thcourt.gov
END:VEVENT
BEGIN:VEVENT
DTSTART;TZID=America/Chicago:20230421T090000
DTEND;TZID=America/Chicago:20230421T163000
DTSTAMP:20260423T215713
CREATED:20230328T180518Z
LAST-MODIFIED:20230328T180518Z
UID:1196-1682067600-1682094600@ilcdvp.org
SUMMARY:PARTNER IN THE JOURNEY & FAITH BASE DOMESTIC VIOLENCE - Day 1
DESCRIPTION:Day 1: This training is for church leaders\, lay people\, and professionals.\nAs a lay person or professional\, are you interested in starting a support group for women who experience domestic violence and abusive relationships? FOCUS Ministries offers a certificate program for support group leaders in our Partners in the Journey Seminars. The training includes an extensive training manual that covers all the aspects of starting a support group\, the dynamics of support groups\, domestic violence training\, how to help a victim\, and information on how to provide spiritual direction for victims of abuse. \nDay 2: FOCUS faith based DV training is a training program designed for those interested in working with domestic violence victims/ survivors within the Christian community. Participants can expect to learn the dynamics of domestic abuse and best practices in co-facilitation of groups and/or a role of an advocate. God delights in restoration of shattered souls. Healing comes by fully understanding the nature and ramifications of abuse. FOCUS believes that following a biblical path of restoration allows God’s grace to touch the heart’s deepest wounds. Training fee includes the training manual. \nLunch will be on your own @ 12:00 pm to 1:00 pm \nDeadline to register: April 14th \n$135.00 (with CEU’s additional $40) \n12 CEUs for Licensed Counselors\, Social Workers\, & CDVP \nPartners-in-the-Journey-flyer-April-2023-Rev1
URL:https://ilcdvp.org/event/partner-in-the-journey-faith-base-domestic-violence-day-1/
LOCATION:Focus Ministries\, 57 E. Park Blvd.\, Villa Park\, IL\, 60181\, United States
CATEGORIES:CEU Training
END:VEVENT
BEGIN:VEVENT
DTSTART;TZID=America/Chicago:20230422T090000
DTEND;TZID=America/Chicago:20230422T163000
DTSTAMP:20260423T215713
CREATED:20230328T180402Z
LAST-MODIFIED:20230328T180402Z
UID:1205-1682154000-1682181000@ilcdvp.org
SUMMARY:FAITH BASE DOMESTIC VIOLENCE
DESCRIPTION:FOCUS faith based DV training is a training program designed for those interested in working with domestic violence victims/ survivors within the Christian community. Participants can expect to learn the dynamics of domestic abuse and best practices in co-facilitation of groups and/or a role of an advocate. God delights in restoration of shattered souls. Healing comes by fully understanding the nature and ramifications of abuse. FOCUS believes that following a biblical path of restoration allows God’s grace to touch the heart’s deepest wounds. Training fee includes the training manual. \n(LUNCH WILL BE ON YOUR OWN TIME: 12- 1 PM) \nEvent Cost:  $45 (with CEU’s additional $20)
URL:https://ilcdvp.org/event/faith-base-domestic-violence/
LOCATION:Focus Ministries\, 57 E. Park Blvd.\, Villa Park\, IL\, 60181\, United States
CATEGORIES:CEU Training
END:VEVENT
BEGIN:VEVENT
DTSTART;TZID=America/Chicago:20230422T090000
DTEND;TZID=America/Chicago:20230422T163000
DTSTAMP:20260423T215713
CREATED:20230328T180451Z
LAST-MODIFIED:20230328T180451Z
UID:1200-1682154000-1682181000@ilcdvp.org
SUMMARY:PARTNER IN THE JOURNEY & FAITH BASE DOMESTIC VIOLENCE - Day 2
DESCRIPTION:Day 1: This training is for church leaders\, lay people\, and professionals.\nAs a lay person or professional\, are you interested in starting a support group for women who experience domestic violence and abusive relationships? FOCUS Ministries offers a certificate program for support group leaders in our Partners in the Journey Seminars. The training includes an extensive training manual that covers all the aspects of starting a support group\, the dynamics of support groups\, domestic violence training\, how to help a victim\, and information on how to provide spiritual direction for victims of abuse. \nDay 2: FOCUS faith based DV training is a training program designed for those interested in working with domestic violence victims/ survivors within the Christian community. Participants can expect to learn the dynamics of domestic abuse and best practices in co-facilitation of groups and/or a role of an advocate. God delights in restoration of shattered souls. Healing comes by fully understanding the nature and ramifications of abuse. FOCUS believes that following a biblical path of restoration allows God’s grace to touch the heart’s deepest wounds. Training fee includes the training manual. \nLunch will be on your own @ 12:00 pm to 1:00 pm \nDeadline to register: April 14th \n$135.00 (with CEU’s additional $40) \n12 CEUs for Licensed Counselors\, Social Workers\, & CDVP \nPartners-in-the-Journey-flyer-April-2023-Rev1
URL:https://ilcdvp.org/event/partner-in-the-journey-faith-base-domestic-violence-day-2/
LOCATION:Focus Ministries\, 57 E. Park Blvd.\, Villa Park\, IL\, 60181\, United States
CATEGORIES:CEU Training
END:VEVENT
BEGIN:VEVENT
DTSTART;TZID=America/Chicago:20230427T190000
DTEND;TZID=America/Chicago:20230427T203000
DTSTAMP:20260423T215713
CREATED:20230420T143559Z
LAST-MODIFIED:20230420T150118Z
UID:1250-1682622000-1682627400@ilcdvp.org
SUMMARY:Be a Voice for the Voiceless
DESCRIPTION:Keynote speaker Deanna Hynes\, a survivor of childhood sexual abuse\, is a national public speaker with Childhood Victories. She will share her story of being a victim of childhood sexual abuse by her biological father. Deanna will speak about the impact of that abuse on her life\, including disclosing at age 13 to her mother who did not support her. At age 20 she disclosed to her husband. She will share her journey from the time of her disclosure until she became a public speaker\, including her decision to press charges against her father and the tough legal process she endured to get some sense of justice. \n  \nFree CEUs:  1.5 for CDVP\, CPAIP\, LPC/LCPC\, LSW/LCSW \nSAAM 23 Rally event-speaker event
URL:https://ilcdvp.org/event/be-a-voice-for-the-voiceless/
CATEGORIES:CEU Training
END:VEVENT
END:VCALENDAR