BEGIN:VCALENDAR
VERSION:2.0
PRODID:-//Illinois Certified Domestic Violence Professionals - ECPv6.15.20//NONSGML v1.0//EN
CALSCALE:GREGORIAN
METHOD:PUBLISH
X-WR-CALNAME:Illinois Certified Domestic Violence Professionals
X-ORIGINAL-URL:https://ilcdvp.org
X-WR-CALDESC:Events for Illinois Certified Domestic Violence Professionals
REFRESH-INTERVAL;VALUE=DURATION:PT1H
X-Robots-Tag:noindex
X-PUBLISHED-TTL:PT1H
BEGIN:VTIMEZONE
TZID:America/Chicago
BEGIN:DAYLIGHT
TZOFFSETFROM:-0600
TZOFFSETTO:-0500
TZNAME:CDT
DTSTART:20220313T080000
END:DAYLIGHT
BEGIN:STANDARD
TZOFFSETFROM:-0500
TZOFFSETTO:-0600
TZNAME:CST
DTSTART:20221106T070000
END:STANDARD
BEGIN:DAYLIGHT
TZOFFSETFROM:-0600
TZOFFSETTO:-0500
TZNAME:CDT
DTSTART:20230312T080000
END:DAYLIGHT
BEGIN:STANDARD
TZOFFSETFROM:-0500
TZOFFSETTO:-0600
TZNAME:CST
DTSTART:20231105T070000
END:STANDARD
BEGIN:DAYLIGHT
TZOFFSETFROM:-0600
TZOFFSETTO:-0500
TZNAME:CDT
DTSTART:20240310T080000
END:DAYLIGHT
BEGIN:STANDARD
TZOFFSETFROM:-0500
TZOFFSETTO:-0600
TZNAME:CST
DTSTART:20241103T070000
END:STANDARD
END:VTIMEZONE
BEGIN:VEVENT
DTSTART;TZID=America/Chicago:20230203T093000
DTEND;TZID=America/Chicago:20230203T113000
DTSTAMP:20260424T005158
CREATED:20221221T154202Z
LAST-MODIFIED:20221221T154525Z
UID:961-1675416600-1675423800@ilcdvp.org
SUMMARY:The Impact of Domestic Violence on Children
DESCRIPTION:Sarah’s Inn is hosting a four-part\, virtual training series for persons who are interested in learning more about domestic violence and the various services for survivors\, their children\, and individuals who have perpetrated violence. This series will be particularly relevant to social service and other professionals who may encounter domestic violence (DV) in their work and are seeking to better understand the dynamics of DV and the options available. Participants can register for individual sessions or for all four for a discounted rate. In this session\, learn about how children exposed to domestic violence may be impacted\, including a discussion of trauma and impact on child development. Identify protective factors that help to build resilience in children exposed to DV. \nCEUs:  2.0
URL:https://ilcdvp.org/event/the-impact-of-domestic-violence-on-children/
END:VEVENT
BEGIN:VEVENT
DTSTART;TZID=America/Chicago:20230209T133000
DTEND;TZID=America/Chicago:20230209T144500
DTSTAMP:20260424T005158
CREATED:20230120T143102Z
LAST-MODIFIED:20230208T182705Z
UID:990-1675949400-1675953900@ilcdvp.org
SUMMARY:Teen Dating Violence Awareness Month: Film Screening "The Last Drop"
DESCRIPTION:The Last Drop is a 30-minute film and national engagement campaign designed to reveal the early signs of relationship abuse. \nThe Last Drop is sci-fi film that aims to show young people what abuse looks like before it turns violent\, designed to kickstart a national conversation about relationship safety. The film takes viewers on an emotional ride through the relationship of Sofía and Anthony\, two college students in their early 20s who seem to have a perfect relationship\, one that Anthony hopes to take to the next level with the engagement ring in his pocket. They book a romantic session with Retrospect\, a company that helps couples link minds to relive their favorite shared memories. Retrospect employees connect Sofía and Anthony to a high-tech machine that looks like a turntable to rewind the couple’s collective consciousness back to their earliest memories. Meanwhile\, the purple IVs dripping into their arms keep them sedated through the painful moments to get to the good ones. We watch as they rewind through their favorite memories and experience their love story first hand; however underneath the veneer of seemingly innocuous memories\, Sofía starts to notice things she had forgotten or been made to forget\, revealing increasingly worrying signs of manipulation and abuse – emotional\, digital\, psychological\, sexual. At every step\, Anthony tries to keep his power over the situation and over her by subtly glitching the memories back to “normal\,” gaslighting her perception of reality in real time. \nTogether we will watch the film and use it to deepen our understanding of these dynamics. The screening will be followed by a discussion and Q&A session with the film maker\, Adam Joel. \nTo watch the film trailer visit: https://vimeo.com/593943138/5140908676 \nBetween Friends will provide 1 ICDVP (Illinois Certified Domestic Violence Professional) CEU for attendance at this screening. \nFree event\, $10 for ICDVP CEUs \nThe-last-drop-flyer-3.pdf
URL:https://ilcdvp.org/event/teen-dating-violence-awareness-month-film-screening-the-last-drop/
ORGANIZER;CN="Between Friends":MAILTO:spieters@betweenfriendschicago.org
END:VEVENT
BEGIN:VEVENT
DTSTART;TZID=America/Chicago:20230217T083000
DTEND;TZID=America/Chicago:20230217T120000
DTSTAMP:20260424T005158
CREATED:20220815T232754Z
LAST-MODIFIED:20230120T160606Z
UID:772-1676622600-1676635200@ilcdvp.org
SUMMARY:CDVP Test Prep Workshop
DESCRIPTION:CDVP Test Prep Workshop \nEvent Location:  Virtual only \nCEUs:  3.0 for LPC/LCPC\, LSW/LCSW\, CPAIP
URL:https://ilcdvp.org/event/cdvp-test-prep-workshop/
CATEGORIES:CEU Training
ORGANIZER;CN="Community Crisis Center":MAILTO:kcecil@crisiscenter.org
END:VEVENT
BEGIN:VEVENT
DTSTART;TZID=America/Chicago:20230222T100000
DTEND;TZID=America/Chicago:20230222T150000
DTSTAMP:20260424T005158
CREATED:20230130T193501Z
LAST-MODIFIED:20230130T194752Z
UID:1024-1677060000-1677078000@ilcdvp.org
SUMMARY:Between Friends - Spring 2023 40-Hour Domestic Violence Training
DESCRIPTION:This training meets all ICDVP (Illinois Certified Domestic Violence Professionals) and IDVA (Illinois Domestic Violence Act) guidelines. \nAll virtual sessions will be conducted live\, via Zoom\, and participants will need access to a camera for full participation. Please contact Susan at spieters@betweenfriendschicago.org if you need a device or wifi access in order to participate on camera. \nAll in-person sessions will be held at\nLoyola University’s Downtown Campus\nMaguire Hall – 1 E. Pearson Street\, Chicago \nWinter-2023-40-Hour-Training-JM-edits-2.png \nFebruary 22 In-Person Session: 10am – 3pm \nFebruary 23 In-Person Session: 10am – 3pm \nFebruary 24 Virtual Session: 10am – 2pm \nFebruary 27 Virtual Session: 10am – 2pm \nMarch 1 Virtual Session: 10am – 2pm \nMarch 3 In-Person Session: 11am – 4pm \nMarch 7 Virtual Session: 10am – 2pm \nMarch 9 Virtual Session: 10am – 2pm \nMarch 10 In-Person Session: 11am – 4pm \nMarch 13 Virtual Session: 10am – 2pm \nMarch 15 In-Person Session: 10am – 3pm \n*SAVE THESE DATES for potential make-up sessions: \nMarch 16 In-Person Session (individuals): 11am – 4pm \nMarch 17 In-Person Session (group): 11am – 4pm \nFor more information\, or to register\, please visit: \nhttps://tinyurl.com/BFSpring2023
URL:https://ilcdvp.org/event/between-friends-spring-2023-40-hour-domestic-violence-training-11/
CATEGORIES:40-Hour DV Training
END:VEVENT
BEGIN:VEVENT
DTSTART;TZID=America/Chicago:20230222T120000
DTEND;TZID=America/Chicago:20230222T130000
DTSTAMP:20260424T005158
CREATED:20230201T214907Z
LAST-MODIFIED:20230201T215951Z
UID:1065-1677067200-1677070800@ilcdvp.org
SUMMARY:Lunch and Learn 988 and Will County Mobile Crisis Response by Trinity Services
DESCRIPTION:Join us for a virtual Lunch and Learn on the how Will County is executing the new 988/Mobile Crisis Response initiative.\n• Learn about the new 988 (replaces the national Suicide Hotline)\n• Mobile Crisis Response Team (MCRT)/Co-Response Procedure\n• Services available through Trinity Services\, Inc. \nPresenters:\nOscar Yanes\, MA\, LCPC\, is a counselor with Trinity Services. Oscar has been with Trinity Services for 6 years. Oscar serves as a bilingual therapist assisting the Spanish speaking community and currently directs the Crisis Care Systems program that is partnered with the 988 Suicide and Crisis Lifeline.\nMeaghan South\, MA\, ATR\, SOMB\, is a licensed Art Therapist that has been working in the field of trauma for over eight years. Meaghan has her certification in several areas such as; Trauma Focused CBT\, EMDR\, and EAGALA. During the course of her career\, she has been part of many therapeutic settings such as; residential\, hospitals\, schools\, cancer centers\, and memory care units. Meghan is currently the supervisor for the Joliet location of the Family Counseling Center associated in part of Trinity Services Inc. She currently supervises a team of therapists and interns to provide care and therapeutic services for children\, adults\, and families in need of outpatient mental health services. Meaghan also holds a caseload of her own and provides individual and group art therapy services to teens and young adults with complex trauma experiences. \nCost:  Free \nCDVP 1.0 hour Provided by Guardian Angel Community Services \n2.22.23-Lunch-and-Learn-Flier.docx
URL:https://ilcdvp.org/event/lunch-and-learn-988-and-will-county-mobile-crisis-response-by-trinity-services/
CATEGORIES:CEU Training
ORGANIZER;CN="12th Judicial Family Violence Coordinating Council":MAILTO:amirrah@il12thcourt.gov
END:VEVENT
BEGIN:VEVENT
DTSTART;TZID=America/Chicago:20230223T100000
DTEND;TZID=America/Chicago:20230223T150000
DTSTAMP:20260424T005158
CREATED:20230130T193434Z
LAST-MODIFIED:20230130T194721Z
UID:1021-1677146400-1677164400@ilcdvp.org
SUMMARY:Between Friends - Spring 2023 40-Hour Domestic Violence Training
DESCRIPTION:This training meets all ICDVP (Illinois Certified Domestic Violence Professionals) and IDVA (Illinois Domestic Violence Act) guidelines. \nAll virtual sessions will be conducted live\, via Zoom\, and participants will need access to a camera for full participation. Please contact Susan at spieters@betweenfriendschicago.org if you need a device or wifi access in order to participate on camera. \nAll in-person sessions will be held at\nLoyola University’s Downtown Campus\nMaguire Hall – 1 E. Pearson Street\, Chicago \nWinter-2023-40-Hour-Training-JM-edits-2.png \nFebruary 22 In-Person Session: 10am – 3pm \nFebruary 23 In-Person Session: 10am – 3pm \nFebruary 24 Virtual Session: 10am – 2pm \nFebruary 27 Virtual Session: 10am – 2pm \nMarch 1 Virtual Session: 10am – 2pm \nMarch 3 In-Person Session: 11am – 4pm \nMarch 7 Virtual Session: 10am – 2pm \nMarch 9 Virtual Session: 10am – 2pm \nMarch 10 In-Person Session: 11am – 4pm \nMarch 13 Virtual Session: 10am – 2pm \nMarch 15 In-Person Session: 10am – 3pm \n*SAVE THESE DATES for potential make-up sessions: \nMarch 16 In-Person Session (individuals): 11am – 4pm \nMarch 17 In-Person Session (group): 11am – 4pm \nFor more information\, or to register\, please visit: \nhttps://tinyurl.com/BFSpring2023
URL:https://ilcdvp.org/event/between-friends-spring-2023-40-hour-domestic-violence-training-10/
CATEGORIES:40-Hour DV Training
ORGANIZER;CN="Between Friends":MAILTO:spieters@betweenfriendschicago.org
END:VEVENT
BEGIN:VEVENT
DTSTART;TZID=America/Chicago:20230224T093000
DTEND;TZID=America/Chicago:20230224T113000
DTSTAMP:20260424T005158
CREATED:20221221T154118Z
LAST-MODIFIED:20221221T154118Z
UID:963-1677231000-1677238200@ilcdvp.org
SUMMARY:Understanding Teen Dating Violence
DESCRIPTION:Sarah’s Inn is hosting a four-part\, virtual training series for persons who are interested in learning more about domestic violence and the various services for survivors\, their children\, and individuals who have perpetrated violence. This series will be particularly relevant to social service and other professionals who may encounter domestic violence (DV) in their work and are seeking to better understand the dynamics of DV and the options available. Participants can register for individual sessions or for all four for a discounted rate. CEUs will be provided. In this session\, learn about how teens can be impacted by dating violence. We will discuss dating and domestic violence amongst youth\, as well as harassment\, sexual assault\, digital abuse\, and tips for healthy relationships. February is Teen Dating Violence Awareness Month. \nCEUs:  2.0
URL:https://ilcdvp.org/event/understanding-teen-dating-violence/
CATEGORIES:CEU Training
END:VEVENT
BEGIN:VEVENT
DTSTART;TZID=America/Chicago:20230224T100000
DTEND;TZID=America/Chicago:20230224T140000
DTSTAMP:20260424T005158
CREATED:20230130T193403Z
LAST-MODIFIED:20230130T194644Z
UID:1028-1677232800-1677247200@ilcdvp.org
SUMMARY:Between Friends - Spring 2023 40-Hour Domestic Violence Training
DESCRIPTION:This training meets all ICDVP (Illinois Certified Domestic Violence Professionals) and IDVA (Illinois Domestic Violence Act) guidelines. \nAll virtual sessions will be conducted live\, via Zoom\, and participants will need access to a camera for full participation. Please contact Susan at spieters@betweenfriendschicago.org if you need a device or wifi access in order to participate on camera. \nAll in-person sessions will be held at\nLoyola University’s Downtown Campus\nMaguire Hall – 1 E. Pearson Street\, Chicago \nWinter-2023-40-Hour-Training-JM-edits-2.png \nFebruary 22 In-Person Session: 10am – 3pm \nFebruary 23 In-Person Session: 10am – 3pm \nFebruary 24 Virtual Session: 10am – 2pm \nFebruary 27 Virtual Session: 10am – 2pm \nMarch 1 Virtual Session: 10am – 2pm \nMarch 3 In-Person Session: 11am – 4pm \nMarch 7 Virtual Session: 10am – 2pm \nMarch 9 Virtual Session: 10am – 2pm \nMarch 10 In-Person Session: 11am – 4pm \nMarch 13 Virtual Session: 10am – 2pm \nMarch 15 In-Person Session: 10am – 3pm \n*SAVE THESE DATES for potential make-up sessions: \nMarch 16 In-Person Session (individuals): 11am – 4pm \nMarch 17 In-Person Session (group): 11am – 4pm \nFor more information\, or to register\, please visit: \nhttps://tinyurl.com/BFSpring2023
URL:https://ilcdvp.org/event/between-friends-spring-2023-40-hour-domestic-violence-training-9/
CATEGORIES:40-Hour DV Training
ORGANIZER;CN="Between Friends":MAILTO:spieters@betweenfriendschicago.org
END:VEVENT
BEGIN:VEVENT
DTSTART;TZID=America/Chicago:20230227T100000
DTEND;TZID=America/Chicago:20230227T140000
DTSTAMP:20260424T005158
CREATED:20230130T193339Z
LAST-MODIFIED:20230130T193339Z
UID:1031-1677492000-1677506400@ilcdvp.org
SUMMARY:Between Friends - Spring 2023 40-Hour Domestic Violence Training
DESCRIPTION:This training meets all ICDVP (Illinois Certified Domestic Violence Professionals) and IDVA (Illinois Domestic Violence Act) guidelines. \nAll virtual sessions will be conducted live\, via Zoom\, and participants will need access to a camera for full participation. Please contact Susan at spieters@betweenfriendschicago.org if you need a device or wifi access in order to participate on camera. \nAll in-person sessions will be held at\nLoyola University’s Downtown Campus\nMaguire Hall – 1 E. Pearson Street\, Chicago \nWinter-2023-40-Hour-Training-JM-edits-2.png \nFebruary 22 In-Person Session: 10am – 3pm \nFebruary 23 In-Person Session: 10am – 3pm \nFebruary 24 Virtual Session: 10am – 2pm \nFebruary 27 Virtual Session: 10am – 2pm \nMarch 1 Virtual Session: 10am – 2pm \nMarch 3 In-Person Session: 11am – 4pm \nMarch 7 Virtual Session: 10am – 2pm \nMarch 9 Virtual Session: 10am – 2pm \nMarch 10 In-Person Session: 11am – 4pm \nMarch 13 Virtual Session: 10am – 2pm \nMarch 15 In-Person Session: 10am – 3pm
URL:https://ilcdvp.org/event/between-friends-spring-2023-40-hour-domestic-violence-training-8/
CATEGORIES:40-Hour DV Training
ORGANIZER;CN="Between Friends":MAILTO:spieters@betweenfriendschicago.org
END:VEVENT
END:VCALENDAR