BEGIN:VCALENDAR
VERSION:2.0
PRODID:-//Illinois Certified Domestic Violence Professionals - ECPv6.15.20//NONSGML v1.0//EN
CALSCALE:GREGORIAN
METHOD:PUBLISH
X-ORIGINAL-URL:https://ilcdvp.org
X-WR-CALDESC:Events for Illinois Certified Domestic Violence Professionals
REFRESH-INTERVAL;VALUE=DURATION:PT1H
X-Robots-Tag:noindex
X-PUBLISHED-TTL:PT1H
BEGIN:VTIMEZONE
TZID:America/Chicago
BEGIN:DAYLIGHT
TZOFFSETFROM:-0600
TZOFFSETTO:-0500
TZNAME:CDT
DTSTART:20210314T080000
END:DAYLIGHT
BEGIN:STANDARD
TZOFFSETFROM:-0500
TZOFFSETTO:-0600
TZNAME:CST
DTSTART:20211107T070000
END:STANDARD
BEGIN:DAYLIGHT
TZOFFSETFROM:-0600
TZOFFSETTO:-0500
TZNAME:CDT
DTSTART:20220313T080000
END:DAYLIGHT
BEGIN:STANDARD
TZOFFSETFROM:-0500
TZOFFSETTO:-0600
TZNAME:CST
DTSTART:20221106T070000
END:STANDARD
BEGIN:DAYLIGHT
TZOFFSETFROM:-0600
TZOFFSETTO:-0500
TZNAME:CDT
DTSTART:20230312T080000
END:DAYLIGHT
BEGIN:STANDARD
TZOFFSETFROM:-0500
TZOFFSETTO:-0600
TZNAME:CST
DTSTART:20231105T070000
END:STANDARD
END:VTIMEZONE
BEGIN:VEVENT
DTSTART;TZID=America/Chicago:20221221T120000
DTEND;TZID=America/Chicago:20221221T130000
DTSTAMP:20260424T033339
CREATED:20221013T132119Z
LAST-MODIFIED:20221129T175545Z
UID:887-1671624000-1671627600@ilcdvp.org
SUMMARY:Prevent Burnout
DESCRIPTION:This workshop will look at the reasons counselor’s burnout and find themselves just going thru the motion of providing treatment. The Pandemic overwhelmed many counselors as the struggled to provide services to their clients and deal with their own fears/anxiety about the pandemic. Registration is done at http://www.bridgestoanewday.org
URL:https://ilcdvp.org/event/prevent-burnout/
CATEGORIES:CEU Training
ORGANIZER;CN="Carolyn Khan":MAILTO:carolyn@bridgestoanewday.org
END:VEVENT
END:VCALENDAR