BEGIN:VCALENDAR
VERSION:2.0
PRODID:-//Illinois Certified Domestic Violence Professionals - ECPv6.15.20//NONSGML v1.0//EN
CALSCALE:GREGORIAN
METHOD:PUBLISH
X-ORIGINAL-URL:https://ilcdvp.org
X-WR-CALDESC:Events for Illinois Certified Domestic Violence Professionals
REFRESH-INTERVAL;VALUE=DURATION:PT1H
X-Robots-Tag:noindex
X-PUBLISHED-TTL:PT1H
BEGIN:VTIMEZONE
TZID:America/Chicago
BEGIN:DAYLIGHT
TZOFFSETFROM:-0600
TZOFFSETTO:-0500
TZNAME:CDT
DTSTART:20210314T080000
END:DAYLIGHT
BEGIN:STANDARD
TZOFFSETFROM:-0500
TZOFFSETTO:-0600
TZNAME:CST
DTSTART:20211107T070000
END:STANDARD
BEGIN:DAYLIGHT
TZOFFSETFROM:-0600
TZOFFSETTO:-0500
TZNAME:CDT
DTSTART:20220313T080000
END:DAYLIGHT
BEGIN:STANDARD
TZOFFSETFROM:-0500
TZOFFSETTO:-0600
TZNAME:CST
DTSTART:20221106T070000
END:STANDARD
BEGIN:DAYLIGHT
TZOFFSETFROM:-0600
TZOFFSETTO:-0500
TZNAME:CDT
DTSTART:20230312T080000
END:DAYLIGHT
BEGIN:STANDARD
TZOFFSETFROM:-0500
TZOFFSETTO:-0600
TZNAME:CST
DTSTART:20231105T070000
END:STANDARD
END:VTIMEZONE
BEGIN:VEVENT
DTSTART;TZID=America/Chicago:20221014T090000
DTEND;TZID=America/Chicago:20221015T163000
DTSTAMP:20260423T011041
CREATED:20220810T164425Z
LAST-MODIFIED:20220810T164744Z
UID:715-1665738000-1665851400@ilcdvp.org
SUMMARY:Partner In The Journey & Faith Based Domestic Violence
DESCRIPTION:Day 1: This training is for church leaders\, lay people\, and professionals.  As a lay person or professional\, are you interested in starting a support group for women who experience domestic violence and abusive relationships?  FOCUS Ministries offers a certificate program for support group leaders in our Partners in the Journey Seminars. The training includes an extensive training manual that covers all the aspects of starting a support group\, the dynamics of support groups\, domestic violence training\, how to help a victim\, and information on how to provide spiritual direction for victims of abuse.  Day 2: FOCUS faith based DV training is a training program designed for those interested in working with domestic violence victims/ survivors within the Christian community. Participants can expect to learn the dynamics of domestic abuse and best practices in co-facilitation of groups and/or a role of an advocate. God delights in restoration of shattered souls. Healing comes by fully understanding the nature and ramifications of abuse. FOCUS believes that following a biblical path of restoration allows God’s grace to touch the heart’s deepest wounds. Training fee includes the training manual. \nOctober 14\, 2022 9:00 a.m. – 4:30 p.m. \nOctober 15\, 2022 9:00 a.m. – 4:30 p.m. \n12 CEUs for Licensed Counselors\, Social Workers\, & CDVP  \n$135.00 (with CEUs additional $40)
URL:https://ilcdvp.org/event/partner-in-the-journey-faith-based-domestic-violence/
CATEGORIES:CEU Training
ORGANIZER;CN="FOCUS Ministries%2C Inc.":MAILTO:https://www.focusministries1.org/training/domestic-violence-certificate
END:VEVENT
BEGIN:VEVENT
DTSTART;TZID=America/Chicago:20221014T090000
DTEND;TZID=America/Chicago:20221014T120000
DTSTAMP:20260423T011041
CREATED:20220810T164235Z
LAST-MODIFIED:20220810T164235Z
UID:690-1665738000-1665748800@ilcdvp.org
SUMMARY:Eating Disorder 101
DESCRIPTION:Eating disorders are mental illnesses that are notoriously difficult to treat. The intersection of emotional and physical symptomology presents a unique challenge for even the most experienced clinician. This workshop will provide participants with current diagnostic criteria\, research findings from evidence-based treatments\, culturally inclusive treatment methods\, and information on effectively matching levels of care to the degree of patients’ psychological and medical severity. Clinicians will learn how to best help clients engage with the recovery process in order to make sustainable change. Through the use of didactic and experiential modalities as well as small group work\, participants will leave this workshop more confident in their skills to help individuals who suffer from these complex disorders. Note: this workshop is designed for clinicians newer to eating disorders\, not the experienced eating disorder clinician. \n3.0 CE hours
URL:https://ilcdvp.org/event/eating-disorder-101/
CATEGORIES:CEU Training
ORGANIZER;CN="Oakton College":MAILTO:cehp@oakton.edu
END:VEVENT
BEGIN:VEVENT
DTSTART;TZID=America/Chicago:20221007T090000
DTEND;TZID=America/Chicago:20221007T120000
DTSTAMP:20260423T011041
CREATED:20220810T164301Z
LAST-MODIFIED:20220810T164301Z
UID:688-1665133200-1665144000@ilcdvp.org
SUMMARY:Risk Management Practices: Harm to Self and Others
DESCRIPTION:The focus of this program is on suicide and threat assessment and clinical best practices for these at-risk clients. Risk profiles will be examined considering inoculating factors\, risk factors\, means access and the nature of specific pathologies. Consideration of demographics\, diversity matters\, as well as clinical and secular trends will be discussed. Additional topics include: risk management practices\, standards of care\, pertinent law and ethical responsibility as applicable to individually practicing clinicians as well as mental health professionals who work on Threat Assessment Teams. \n3.0 CE hours
URL:https://ilcdvp.org/event/risk-management-practices-harm-to-self-and-others/
CATEGORIES:CEU Training
ORGANIZER;CN="Oakton College":MAILTO:cehp@oakton.edu
END:VEVENT
BEGIN:VEVENT
DTSTART;TZID=America/Chicago:20220923T090000
DTEND;TZID=America/Chicago:20220923T120000
DTSTAMP:20260423T011041
CREATED:20220810T164329Z
LAST-MODIFIED:20220810T164329Z
UID:685-1663923600-1663934400@ilcdvp.org
SUMMARY:The Use of Emotions in Counseling and Psychotherapy
DESCRIPTION:Emotions have long been understood and misunderstood in the counseling and clinical fields. The workshop will explore what emotions are and how to effectively work with them in clinical practice. The various purposes of common emotions such as anxiety and anger will be addressed\, as will how to change them. \n3.0 CE hours
URL:https://ilcdvp.org/event/the-use-of-emotions-in-counseling-and-psychotherapy/
CATEGORIES:CEU Training
ORGANIZER;CN="Oakton College":MAILTO:cehp@oakton.edu
END:VEVENT
BEGIN:VEVENT
DTSTART;TZID=America/Chicago:20220907T120000
DTEND;TZID=America/Chicago:20220907T130000
DTSTAMP:20260423T011041
CREATED:20220815T231837Z
LAST-MODIFIED:20220815T231837Z
UID:770-1662552000-1662555600@ilcdvp.org
SUMMARY:Virtual Lunch & Learn UVisas\, TVisas\, and VAWA
DESCRIPTION:Attorney Mary Helen Reyna walks us through the nuts and bolts of UVisas\, TVisas\, and self-petitioning under VAWA. \nPresented by 12th Judicial Family Violence Coordinating Council. \nCEUs:  1.0 offered by Guardian Angel Community Services.
URL:https://ilcdvp.org/event/virtual-lunch-learn-uvisas-tvisas-and-vawa/
CATEGORIES:CEU Training
END:VEVENT
BEGIN:VEVENT
DTSTART;VALUE=DATE:20220831
DTEND;VALUE=DATE:20220901
DTSTAMP:20260423T011041
CREATED:20220810T173520Z
LAST-MODIFIED:20220810T174357Z
UID:654-1661904000-1661990399@ilcdvp.org
SUMMARY:Exam Application Deadline - CDVP/CPAIP
DESCRIPTION:Deadline to submit exam materials to the testing company.  Refer to the Continental Testing Services website at www.continentaltesting.org with any questions regarding the application or exam.
URL:https://ilcdvp.org/event/application-deadline-cdvp-exam/
END:VEVENT
BEGIN:VEVENT
DTSTART;TZID=America/Chicago:20220826T090000
DTEND;TZID=America/Chicago:20220826T171500
DTSTAMP:20260423T011041
CREATED:20220810T172036Z
LAST-MODIFIED:20220810T172036Z
UID:742-1661504400-1661534100@ilcdvp.org
SUMMARY:Between Friends: 40-Hour Domestic Violence Training
DESCRIPTION:This training meets all ICDVP (Illinois Certified Domestic Violence Professionals) and IDVA (Illinois Domestic Violence Act) guidelines.  Training will cover: Dynamics of DV | Empowerment Counseling | Criminal and Civil Legal Issues | Safety Planning | Risk Assessment | Confidentiality | Teen Dating Violence | Impact of DV on Children | Introduction to Partner Abuse Intervention Strategies | Connection to Mental Health and Substance Abuse | Dynamics within LGBTQ Communities | Building an Anti-Oppression Framework | Elder Abuse | Supporting People with Disabilities | Self and Community Care | And more! \nAugust 12\, 2022 – In-Person Session: 9am-5:15pm \nAugust 15\, 2022 – Virtual Session: 6pm-9:30pm \nAugust 16\, 2022 – Virtual Session: 10am-2pm \nAugust 17\, 2022 – Virtual Session: 6pm-9:30pm \nAugust 19\, 2022 – In-Person Session: 9am-5:30pm \nAugust 23\, 2022 – Virtual Session: 6pm-9:30pm \nAugust 24\, 2022 – Virtual Session: 10am-2pm \nAugust 25\, 2022 – Virtual Session: 10am- 2pm \nAugust 26\, 2022 – In-Person Session: 9am-5:15pm \nAll virtual sessions will be conducted live\, via Zoom\, and participants will need access to a camera for full participation. Please contact Susan at spieters@betweenfriendschicago.org if you need a device or wifi access in order to participate on camera.  All in-person sessions will be held at Truman College\,1145 W. Wilson Avenue\, Chicago. \n 
URL:https://ilcdvp.org/event/between-friends-40-hour-domestic-violence-training-2/
CATEGORIES:40-Hour DV Training
ORGANIZER;CN="Between Friends":MAILTO:spieters@betweenfriendschicago.org
END:VEVENT
BEGIN:VEVENT
DTSTART;TZID=America/Chicago:20220825T100000
DTEND;TZID=America/Chicago:20220825T140000
DTSTAMP:20260423T011041
CREATED:20220810T172057Z
LAST-MODIFIED:20220810T172057Z
UID:740-1661421600-1661436000@ilcdvp.org
SUMMARY:Between Friends: 40-Hour Domestic Violence Training
DESCRIPTION:This training meets all ICDVP (Illinois Certified Domestic Violence Professionals) and IDVA (Illinois Domestic Violence Act) guidelines.  Training will cover: Dynamics of DV | Empowerment Counseling | Criminal and Civil Legal Issues | Safety Planning | Risk Assessment | Confidentiality | Teen Dating Violence | Impact of DV on Children | Introduction to Partner Abuse Intervention Strategies | Connection to Mental Health and Substance Abuse | Dynamics within LGBTQ Communities | Building an Anti-Oppression Framework | Elder Abuse | Supporting People with Disabilities | Self and Community Care | And more! \nAugust 12\, 2022 – In-Person Session: 9am-5:15pm \nAugust 15\, 2022 – Virtual Session: 6pm-9:30pm \nAugust 16\, 2022 – Virtual Session: 10am-2pm \nAugust 17\, 2022 – Virtual Session: 6pm-9:30pm \nAugust 19\, 2022 – In-Person Session: 9am-5:30pm \nAugust 23\, 2022 – Virtual Session: 6pm-9:30pm \nAugust 24\, 2022 – Virtual Session: 10am-2pm \nAugust 25\, 2022 – Virtual Session: 10am- 2pm \nAugust 26\, 2022 – In-Person Session: 9am-5:15pm \nAll virtual sessions will be conducted live\, via Zoom\, and participants will need access to a camera for full participation. Please contact Susan at spieters@betweenfriendschicago.org if you need a device or wifi access in order to participate on camera.  All in-person sessions will be held at Truman College\,1145 W. Wilson Avenue\, Chicago.
URL:https://ilcdvp.org/event/between-friends-40-hour-domestic-violence-training-3/
CATEGORIES:40-Hour DV Training
ORGANIZER;CN="Between Friends":MAILTO:spieters@betweenfriendschicago.org
END:VEVENT
BEGIN:VEVENT
DTSTART;TZID=America/Chicago:20220824T100000
DTEND;TZID=America/Chicago:20220824T140000
DTSTAMP:20260423T011041
CREATED:20220810T172137Z
LAST-MODIFIED:20220810T172137Z
UID:738-1661335200-1661349600@ilcdvp.org
SUMMARY:Between Friends: 40-Hour Domestic Violence Training
DESCRIPTION:This training meets all ICDVP (Illinois Certified Domestic Violence Professionals) and IDVA (Illinois Domestic Violence Act) guidelines.  Training will cover: Dynamics of DV | Empowerment Counseling | Criminal and Civil Legal Issues | Safety Planning | Risk Assessment | Confidentiality | Teen Dating Violence | Impact of DV on Children | Introduction to Partner Abuse Intervention Strategies | Connection to Mental Health and Substance Abuse | Dynamics within LGBTQ Communities | Building an Anti-Oppression Framework | Elder Abuse | Supporting People with Disabilities | Self and Community Care | And more! \nAugust 12\, 2022 – In-Person Session: 9am-5:15pm \nAugust 15\, 2022 – Virtual Session: 6pm-9:30pm \nAugust 16\, 2022 – Virtual Session: 10am-2pm \nAugust 17\, 2022 – Virtual Session: 6pm-9:30pm \nAugust 19\, 2022 – In-Person Session: 9am-5:30pm \nAugust 23\, 2022 – Virtual Session: 6pm-9:30pm \nAugust 24\, 2022 – Virtual Session: 10am-2pm \nAugust 25\, 2022 – Virtual Session: 10am- 2pm \nAugust 26\, 2022 – In-Person Session: 9am-5:15pm \nAll virtual sessions will be conducted live\, via Zoom\, and participants will need access to a camera for full participation. Please contact Susan at spieters@betweenfriendschicago.org if you need a device or wifi access in order to participate on camera.  All in-person sessions will be held at Truman College\,1145 W. Wilson Avenue\, Chicago.
URL:https://ilcdvp.org/event/between-friends-40-hour-domestic-violence-training-4/
CATEGORIES:40-Hour DV Training
ORGANIZER;CN="Between Friends":MAILTO:spieters@betweenfriendschicago.org
END:VEVENT
BEGIN:VEVENT
DTSTART;TZID=America/Chicago:20220823T180000
DTEND;TZID=America/Chicago:20220823T213000
DTSTAMP:20260423T011041
CREATED:20220810T172223Z
LAST-MODIFIED:20220810T172223Z
UID:736-1661277600-1661290200@ilcdvp.org
SUMMARY:Between Friends: 40-Hour Domestic Violence Training
DESCRIPTION:This training meets all ICDVP (Illinois Certified Domestic Violence Professionals) and IDVA (Illinois Domestic Violence Act) guidelines.  Training will cover: Dynamics of DV | Empowerment Counseling | Criminal and Civil Legal Issues | Safety Planning | Risk Assessment | Confidentiality | Teen Dating Violence | Impact of DV on Children | Introduction to Partner Abuse Intervention Strategies | Connection to Mental Health and Substance Abuse | Dynamics within LGBTQ Communities | Building an Anti-Oppression Framework | Elder Abuse | Supporting People with Disabilities | Self and Community Care | And more! \nAugust 12\, 2022 – In-Person Session: 9am-5:15pm \nAugust 15\, 2022 – Virtual Session: 6pm-9:30pm \nAugust 16\, 2022 – Virtual Session: 10am-2pm \nAugust 17\, 2022 – Virtual Session: 6pm-9:30pm \nAugust 19\, 2022 – In-Person Session: 9am-5:30pm \nAugust 23\, 2022 – Virtual Session: 6pm-9:30pm \nAugust 24\, 2022 – Virtual Session: 10am-2pm \nAugust 25\, 2022 – Virtual Session: 10am- 2pm \nAugust 26\, 2022 – In-Person Session: 9am-5:15pm \nAll virtual sessions will be conducted live\, via Zoom\, and participants will need access to a camera for full participation. Please contact Susan at spieters@betweenfriendschicago.org if you need a device or wifi access in order to participate on camera.  All in-person sessions will be held at Truman College\,1145 W. Wilson Avenue\, Chicago.
URL:https://ilcdvp.org/event/between-friends-40-hour-domestic-violence-training-5/
CATEGORIES:40-Hour DV Training
ORGANIZER;CN="Between Friends":MAILTO:spieters@betweenfriendschicago.org
END:VEVENT
BEGIN:VEVENT
DTSTART;TZID=America/Chicago:20220819T090000
DTEND;TZID=America/Chicago:20220819T173000
DTSTAMP:20260423T011041
CREATED:20220810T172311Z
LAST-MODIFIED:20220810T172311Z
UID:734-1660899600-1660930200@ilcdvp.org
SUMMARY:Between Friends: 40-Hour Domestic Violence Training
DESCRIPTION:This training meets all ICDVP (Illinois Certified Domestic Violence Professionals) and IDVA (Illinois Domestic Violence Act) guidelines.  Training will cover: Dynamics of DV | Empowerment Counseling | Criminal and Civil Legal Issues | Safety Planning | Risk Assessment | Confidentiality | Teen Dating Violence | Impact of DV on Children | Introduction to Partner Abuse Intervention Strategies | Connection to Mental Health and Substance Abuse | Dynamics within LGBTQ Communities | Building an Anti-Oppression Framework | Elder Abuse | Supporting People with Disabilities | Self and Community Care | And more! \nAugust 12\, 2022 – In-Person Session: 9am-5:15pm \nAugust 15\, 2022 – Virtual Session: 6pm-9:30pm \nAugust 16\, 2022 – Virtual Session: 10am-2pm \nAugust 17\, 2022 – Virtual Session: 6pm-9:30pm \nAugust 19\, 2022 – In-Person Session: 9am-5:30pm \nAugust 23\, 2022 – Virtual Session: 6pm-9:30pm \nAugust 24\, 2022 – Virtual Session: 10am-2pm \nAugust 25\, 2022 – Virtual Session: 10am- 2pm \nAugust 26\, 2022 – In-Person Session: 9am-5:15pm \nAll virtual sessions will be conducted live\, via Zoom\, and participants will need access to a camera for full participation. Please contact Susan at spieters@betweenfriendschicago.org if you need a device or wifi access in order to participate on camera.  All in-person sessions will be held at Truman College\,1145 W. Wilson Avenue\, Chicago.
URL:https://ilcdvp.org/event/between-friends-40-hour-domestic-violence-training-6/
CATEGORIES:40-Hour DV Training
ORGANIZER;CN="Between Friends":MAILTO:spieters@betweenfriendschicago.org
END:VEVENT
BEGIN:VEVENT
DTSTART;TZID=America/Chicago:20220817T180000
DTEND;TZID=America/Chicago:20220817T213000
DTSTAMP:20260423T011041
CREATED:20220810T172401Z
LAST-MODIFIED:20220810T172401Z
UID:732-1660759200-1660771800@ilcdvp.org
SUMMARY:Between Friends: 40-Hour Domestic Violence Training
DESCRIPTION:This training meets all ICDVP (Illinois Certified Domestic Violence Professionals) and IDVA (Illinois Domestic Violence Act) guidelines.  Training will cover: Dynamics of DV | Empowerment Counseling | Criminal and Civil Legal Issues | Safety Planning | Risk Assessment | Confidentiality | Teen Dating Violence | Impact of DV on Children | Introduction to Partner Abuse Intervention Strategies | Connection to Mental Health and Substance Abuse | Dynamics within LGBTQ Communities | Building an Anti-Oppression Framework | Elder Abuse | Supporting People with Disabilities | Self and Community Care | And more! \nAugust 12\, 2022 – In-Person Session: 9am-5:15pm \nAugust 15\, 2022 – Virtual Session: 6pm-9:30pm \nAugust 16\, 2022 – Virtual Session: 10am-2pm \nAugust 17\, 2022 – Virtual Session: 6pm-9:30pm \nAugust 19\, 2022 – In-Person Session: 9am-5:30pm \nAugust 23\, 2022 – Virtual Session: 6pm-9:30pm \nAugust 24\, 2022 – Virtual Session: 10am-2pm \nAugust 25\, 2022 – Virtual Session: 10am- 2pm \nAugust 26\, 2022 – In-Person Session: 9am-5:15pm \nAll virtual sessions will be conducted live\, via Zoom\, and participants will need access to a camera for full participation. Please contact Susan at spieters@betweenfriendschicago.org if you need a device or wifi access in order to participate on camera.  All in-person sessions will be held at Truman College\,1145 W. Wilson Avenue\, Chicago.
URL:https://ilcdvp.org/event/between-friends-40-hour-domestic-violence-training-7/
CATEGORIES:40-Hour DV Training
ORGANIZER;CN="Between Friends":MAILTO:spieters@betweenfriendschicago.org
END:VEVENT
BEGIN:VEVENT
DTSTART;TZID=America/Chicago:20220816T100000
DTEND;TZID=America/Chicago:20220816T140000
DTSTAMP:20260423T011041
CREATED:20220810T172435Z
LAST-MODIFIED:20220810T172435Z
UID:730-1660644000-1660658400@ilcdvp.org
SUMMARY:Between Friends:  40-Hour Domestic Violence Training
DESCRIPTION:This training meets all ICDVP (Illinois Certified Domestic Violence Professionals) and IDVA (Illinois Domestic Violence Act) guidelines.  Training will cover: Dynamics of DV | Empowerment Counseling | Criminal and Civil Legal Issues | Safety Planning | Risk Assessment | Confidentiality | Teen Dating Violence | Impact of DV on Children | Introduction to Partner Abuse Intervention Strategies | Connection to Mental Health and Substance Abuse | Dynamics within LGBTQ Communities | Building an Anti-Oppression Framework | Elder Abuse | Supporting People with Disabilities | Self and Community Care | And more! \nAugust 12\, 2022 – In-Person Session: 9am-5:15pm \nAugust 15\, 2022 – Virtual Session: 6pm-9:30pm \nAugust 16\, 2022 – Virtual Session: 10am-2pm \nAugust 17\, 2022 – Virtual Session: 6pm-9:30pm \nAugust 19\, 2022 – In-Person Session: 9am-5:30pm \nAugust 23\, 2022 – Virtual Session: 6pm-9:30pm \nAugust 24\, 2022 – Virtual Session: 10am-2pm \nAugust 25\, 2022 – Virtual Session: 10am- 2pm \nAugust 26\, 2022 – In-Person Session: 9am-5:15pm \nAll virtual sessions will be conducted live\, via Zoom\, and participants will need access to a camera for full participation. Please contact Susan at spieters@betweenfriendschicago.org if you need a device or wifi access in order to participate on camera.  All in-person sessions will be held at Truman College\,1145 W. Wilson Avenue\, Chicago.
URL:https://ilcdvp.org/event/between-friends-40-hour-domestic-violence-training-8/
CATEGORIES:40-Hour DV Training
ORGANIZER;CN="Between Friends":MAILTO:spieters@betweenfriendschicago.org
END:VEVENT
BEGIN:VEVENT
DTSTART;TZID=America/Chicago:20220815T180000
DTEND;TZID=America/Chicago:20220815T213000
DTSTAMP:20260423T011041
CREATED:20220810T172506Z
LAST-MODIFIED:20220810T172506Z
UID:728-1660586400-1660599000@ilcdvp.org
SUMMARY:Between Friends:  40-Hour Domestic Violence Training
DESCRIPTION:This training meets all ICDVP (Illinois Certified Domestic Violence Professionals) and IDVA (Illinois Domestic Violence Act) guidelines.  Training will cover: Dynamics of DV | Empowerment Counseling | Criminal and Civil Legal Issues | Safety Planning | Risk Assessment | Confidentiality | Teen Dating Violence | Impact of DV on Children | Introduction to Partner Abuse Intervention Strategies | Connection to Mental Health and Substance Abuse | Dynamics within LGBTQ Communities | Building an Anti-Oppression Framework | Elder Abuse | Supporting People with Disabilities | Self and Community Care | And more! \nAugust 12\, 2022 – In-Person Session: 9am-5:15pm \nAugust 15\, 2022 – Virtual Session: 6pm-9:30pm \nAugust 16\, 2022 – Virtual Session: 10am-2pm \nAugust 17\, 2022 – Virtual Session: 6pm-9:30pm \nAugust 19\, 2022 – In-Person Session: 9am-5:30pm \nAugust 23\, 2022 – Virtual Session: 6pm-9:30pm \nAugust 24\, 2022 – Virtual Session: 10am-2pm \nAugust 25\, 2022 – Virtual Session: 10am- 2pm \nAugust 26\, 2022 – In-Person Session: 9am-5:15pm \nAll virtual sessions will be conducted live\, via Zoom\, and participants will need access to a camera for full participation. Please contact Susan at spieters@betweenfriendschicago.org if you need a device or wifi access in order to participate on camera.  All in-person sessions will be held at Truman College\, 1145 W. Wilson Avenue\, Chicago.
URL:https://ilcdvp.org/event/between-friends-40-hour-domestic-violence-training-9/
CATEGORIES:40-Hour DV Training
ORGANIZER;CN="Between Friends":MAILTO:spieters@betweenfriendschicago.org
END:VEVENT
BEGIN:VEVENT
DTSTART;VALUE=DATE:20220815
DTEND;VALUE=DATE:20220901
DTSTAMP:20260423T011041
CREATED:20220810T164357Z
LAST-MODIFIED:20220810T164357Z
UID:718-1660521600-1661990399@ilcdvp.org
SUMMARY:Domestic Violence 40-Hour Training
DESCRIPTION:9:00 a.m. – 4:00 p.m. \nSouth Suburban College \n15800 State Street \nSouth Holland\, IL  60473
URL:https://ilcdvp.org/event/domestic-violence-40-hour-training/
CATEGORIES:40-Hour DV Training
ORGANIZER;CN="Anew%3A Building Beyond Violence and Abuse":MAILTO:CommEd@anewdv.org
END:VEVENT
BEGIN:VEVENT
DTSTART;TZID=America/Chicago:20220812T090000
DTEND;TZID=America/Chicago:20220812T171500
DTSTAMP:20260423T011041
CREATED:20220810T165026Z
LAST-MODIFIED:20220810T171947Z
UID:708-1660294800-1660324500@ilcdvp.org
SUMMARY:Between Friends:  40-Hour Domestic Violence Training
DESCRIPTION:This training meets all ICDVP (Illinois Certified Domestic Violence Professionals) and IDVA (Illinois Domestic Violence Act) guidelines.  Training will cover: Dynamics of DV | Empowerment Counseling | Criminal and Civil Legal Issues | Safety Planning | Risk Assessment | Confidentiality | Teen Dating Violence | Impact of DV on Children | Introduction to Partner Abuse Intervention Strategies | Connection to Mental Health and Substance Abuse | Dynamics within LGBTQ Communities | Building an Anti-Oppression Framework | Elder Abuse | Supporting People with Disabilities | Self and Community Care | And more! \nAugust 12\, 2022 – In-Person Session: 9am-5:15pm \nAugust 15\, 2022 – Virtual Session: 6pm-9:30pm \nAugust 16\, 2022 – Virtual Session: 10am-2pm \nAugust 17\, 2022 – Virtual Session: 6pm-9:30pm \nAugust 19\, 2022 – In-Person Session: 9am-5:30pm \nAugust 23\, 2022 – Virtual Session: 6pm-9:30pm \nAugust 24\, 2022 – Virtual Session: 10am-2pm \nAugust 25\, 2022 – Virtual Session: 10am- 2pm \nAugust 26\, 2022 – In-Person Session: 9am-5:15pm \nAll virtual sessions will be conducted live\, via Zoom\, and participants will need access to a camera for full participation. Please contact Susan at spieters@betweenfriendschicago.org if you need a device or wifi access in order to participate on camera.  All in-person sessions will be held at Truman College\,1145 W. Wilson Avenue\, Chicago. \n 
URL:https://ilcdvp.org/event/between-friends-40-hour-domestic-violence-training/
CATEGORIES:40-Hour DV Training
ORGANIZER;CN="Between Friends":MAILTO:spieters@betweenfriendschicago.org
END:VEVENT
END:VCALENDAR