BEGIN:VCALENDAR
VERSION:2.0
PRODID:-//Illinois Certified Domestic Violence Professionals - ECPv6.15.20//NONSGML v1.0//EN
CALSCALE:GREGORIAN
METHOD:PUBLISH
X-ORIGINAL-URL:https://ilcdvp.org
X-WR-CALDESC:Events for Illinois Certified Domestic Violence Professionals
REFRESH-INTERVAL;VALUE=DURATION:PT1H
X-Robots-Tag:noindex
X-PUBLISHED-TTL:PT1H
BEGIN:VTIMEZONE
TZID:America/Chicago
BEGIN:DAYLIGHT
TZOFFSETFROM:-0600
TZOFFSETTO:-0500
TZNAME:CDT
DTSTART:20240310T080000
END:DAYLIGHT
BEGIN:STANDARD
TZOFFSETFROM:-0500
TZOFFSETTO:-0600
TZNAME:CST
DTSTART:20241103T070000
END:STANDARD
BEGIN:DAYLIGHT
TZOFFSETFROM:-0600
TZOFFSETTO:-0500
TZNAME:CDT
DTSTART:20250309T080000
END:DAYLIGHT
BEGIN:STANDARD
TZOFFSETFROM:-0500
TZOFFSETTO:-0600
TZNAME:CST
DTSTART:20251102T070000
END:STANDARD
BEGIN:DAYLIGHT
TZOFFSETFROM:-0600
TZOFFSETTO:-0500
TZNAME:CDT
DTSTART:20260308T080000
END:DAYLIGHT
BEGIN:STANDARD
TZOFFSETFROM:-0500
TZOFFSETTO:-0600
TZNAME:CST
DTSTART:20261101T070000
END:STANDARD
BEGIN:DAYLIGHT
TZOFFSETFROM:-0600
TZOFFSETTO:-0500
TZNAME:CDT
DTSTART:20270314T080000
END:DAYLIGHT
BEGIN:STANDARD
TZOFFSETFROM:-0500
TZOFFSETTO:-0600
TZNAME:CST
DTSTART:20271107T070000
END:STANDARD
END:VTIMEZONE
BEGIN:VEVENT
DTSTART;TZID=America/Chicago:20260403T090000
DTEND;TZID=America/Chicago:20260403T120000
DTSTAMP:20260419T235235
CREATED:20260108T170246Z
LAST-MODIFIED:20260108T170246Z
UID:4130-1775206800-1775217600@ilcdvp.org
SUMMARY:The Ethics of Politics in the Therapy Space
DESCRIPTION:This course examines how issues from today’s political climate inevitably enter the therapy room. Participants will learn strategies for supporting clients while maintaining alignment with professional ethical standards. \nVirtual Training \n3.0 CEUs
URL:https://ilcdvp.org/event/the-ethics-of-politics-in-the-therapy-space/
CATEGORIES:CEU Training
ORGANIZER;CN="Oakton College":MAILTO:cehp@oakton.edu
END:VEVENT
BEGIN:VEVENT
DTSTART;TZID=America/Chicago:20260310T090000
DTEND;TZID=America/Chicago:20260326T170000
DTSTAMP:20260419T235235
CREATED:20251215T210040Z
LAST-MODIFIED:20251215T210428Z
UID:4089-1773133200-1774544400@ilcdvp.org
SUMMARY:Family Rescue March DV 40-Hour Training
DESCRIPTION:Click below for training flyer: \nhttps://ilcdvp.org/wp-content/uploads/2025/12/Family-Rescue-March-DV-40-Hour-Training-Flyer-1.pdf \n 
URL:https://ilcdvp.org/event/family-rescue-march-dv-40-hour-training/
LOCATION:Family Rescue\, 8811 S. Stony Island Ave.\, Chicago\, Illinois\, 60617
CATEGORIES:40-Hour DV Training
END:VEVENT
BEGIN:VEVENT
DTSTART;TZID=America/Chicago:20260227T090000
DTEND;TZID=America/Chicago:20260227T120000
DTSTAMP:20260419T235235
CREATED:20260108T170113Z
LAST-MODIFIED:20260108T170113Z
UID:4128-1772182800-1772193600@ilcdvp.org
SUMMARY:Ethical Practice
DESCRIPTION:Ethics are the standards of conduct an individual uses to make decisions. This training discusses the core values of ethical clinical practice\, as well as the purpose and benefits of adhering to professional code of ethics. This training aims to help licensed clinical professional counselors and social workers explore the nature and origins of value conflicts and how their values impact their decision making. It also aims to build their skills by engaging in rich discussion about how to apply these ethical standards to an ethical decision-making model\, using provided clinical cases. \nVirtual Training \n3.0 CEUs
URL:https://ilcdvp.org/event/ethical-practice/
CATEGORIES:CEU Training
ORGANIZER;CN="Oakton College":MAILTO:cehp@oakton.edu
END:VEVENT
BEGIN:VEVENT
DTSTART;TZID=America/Chicago:20260223T080000
DTEND;TZID=America/Chicago:20260306T170000
DTSTAMP:20260419T235235
CREATED:20250917T151128Z
LAST-MODIFIED:20250917T152127Z
UID:3825-1771833600-1772816400@ilcdvp.org
SUMMARY:Between Friends 40HR Training Winter 2025
DESCRIPTION:The Domestic Violence 40-hour training provides participants with the movement’s philosophical and political framework and a solid foundation for supporting folks who experience violence. In order for confidential communication to be protected\, the Illinois Domestic Violence Act (IDVA) requires that individuals working directly with survivors have a minimum of 40 hours of domestic violence training. Our training fulfills this requirement. The 40-hour training at Between Friends also fulfills the requirements to become an Illinois Certified Domestic Violence Professional (ICDVP). \nLocation:  TBD \nClick on training flyer below: \nBetween Friends WINTER 2025-2026-40HR-Schedule-Flyer-5
URL:https://ilcdvp.org/event/between-friends-40hr-training-winter-2025/
CATEGORIES:40-Hour DV Training
ORGANIZER;CN="Susan Pieters":MAILTO:spieters@cawc.org
END:VEVENT
BEGIN:VEVENT
DTSTART;TZID=America/Chicago:20260220T090000
DTEND;TZID=America/Chicago:20260220T120000
DTSTAMP:20260419T235235
CREATED:20260108T165940Z
LAST-MODIFIED:20260108T165940Z
UID:4126-1771578000-1771588800@ilcdvp.org
SUMMARY:When Bad Things Happen to Good People
DESCRIPTION:This three-hour online course integrates the core principles of Harold Kushner’s “When Bad Things Happen to Good People” with Cognitive Behavioral Therapy (CBT) techniques to support clients coping with loss and adversity. The course will explore how to help clients challenge negative thought patterns and find meaning in adversity\, while maintaining compassion and resilience. \nVirtual Training \n3.0 CEUs
URL:https://ilcdvp.org/event/when-bad-things-happen-to-good-people/
CATEGORIES:CEU Training
ORGANIZER;CN="Oakton College":MAILTO:cehp@oakton.edu
END:VEVENT
BEGIN:VEVENT
DTSTART;TZID=America/Chicago:20260217T080000
DTEND;TZID=America/Chicago:20260219T170000
DTSTAMP:20260419T235235
CREATED:20260108T171129Z
LAST-MODIFIED:20260108T171129Z
UID:4138-1771315200-1771520400@ilcdvp.org
SUMMARY:ANEW Domestic Violence 20-Hour Online Modules/20-Hour In-Person Training
DESCRIPTION:This hybrid training allows participants to gain a deeper understanding of domestic violence and how to support those impacted by it. Participants will complete 20 hours of the training through the Illinois Coalition Against Domestic Violence’s online modules on their own. The remaining 20 hours will be completed in-person at Anew’s training site. Participants will need to pay a registration fee to both the Coalition and Anew. Certificates of completion for the online modules will be required on the first day of in-person training. \nTo register for the in-person training sessions and link to register for the online modules\, please visit https://web.charityengine.net/Default.aspx?tsid=37107
URL:https://ilcdvp.org/event/anew-domestic-violence-20-hour-online-modules-20-hour-in-person-training/
LOCATION:Anew: Building Beyond Violence and Abuse Administrative Office\, 18137 Harwood Ave\, Homewood\, IL\, 60430\, United States
CATEGORIES:40-Hour DV Training
ORGANIZER;CN="Oakton College":MAILTO:cehp@oakton.edu
END:VEVENT
BEGIN:VEVENT
DTSTART;TZID=America/Chicago:20260204T120000
DTEND;TZID=America/Chicago:20260204T130000
DTSTAMP:20260419T235235
CREATED:20260128T154956Z
LAST-MODIFIED:20260128T154956Z
UID:4219-1770206400-1770210000@ilcdvp.org
SUMMARY:The Sexual Assault Services Center at Guardian Angel Community Services
DESCRIPTION:Jackie Simon\, Advocacy Supervisor\, will walk us through what professionals need to know about working with survivors of sexual violence. \nJackie’s presentation will cover:\n• Supporting Survivors of Sexual Violence\n• Guardian Angel Programs\n• Context of Sexual Assault\n• Marginalized Survivors\n• Action and Education\n• Crisis Intervention\n• Medical and Legal Advocacy \nContinuing Education Units available for Certified Domestic Violence Professionals (CDVP) and Certified Partner Abuse Intervention Professionals (CPAIP)\nCEUs provided by Guardian Angel Community Services \n1.0 awarded by Guardian Angel Community Services \nClick on the flyer below: \nSASC-Lunch-and-Learn
URL:https://ilcdvp.org/event/the-sexual-assault-services-center-at-guardian-angel-community-services/
CATEGORIES:CEU Training
END:VEVENT
BEGIN:VEVENT
DTSTART;TZID=America/Chicago:20260130T090000
DTEND;TZID=America/Chicago:20260130T120000
DTSTAMP:20260419T235235
CREATED:20260108T165720Z
LAST-MODIFIED:20260108T165720Z
UID:4123-1769763600-1769774400@ilcdvp.org
SUMMARY:Neurocognitive Disorders and Family Dynamics: A Practitioner's Guide
DESCRIPTION:As the population ages\, counselors and therapists are increasingly becoming involved in the assessment and management of individuals with Neurocognitive Disorders. This category of mental disorders from the DSM involves two principle diagnoses: Delirium and Dementia. This workshop will explore the thirteen different diagnoses with emphasis upon four of the most common: Delirium proper and Neurocognitive disorders of the Alzheimer’s\, Lewy Bodies\, and Frontotemporal types. Additionally\, family management and intervention strategies will be outlined for the referral and management of these very challenging cases. \nVirtual and In-Person Training \n3.0 CEUs
URL:https://ilcdvp.org/event/neurocognitive-disorders-and-family-dynamics-a-practitioners-guide/
CATEGORIES:CEU Training
ORGANIZER;CN="Oakton College":MAILTO:cehp@oakton.edu
END:VEVENT
BEGIN:VEVENT
DTSTART;TZID=America/Chicago:20260126T083000
DTEND;TZID=America/Chicago:20260130T170000
DTSTAMP:20260419T235235
CREATED:20251111T171912Z
LAST-MODIFIED:20251111T171912Z
UID:4014-1769416200-1769792400@ilcdvp.org
SUMMARY:Guardian Angel Community Services 40 Hour Domestic Violence Training
DESCRIPTION:Participants will leave with a thorough understanding of domestic violence\, along with the knowledge of best practices for providing safe and effective support to survivors and their families. The 40-hour training at Guardian Angel Community Services also fulfills the requirements to become an Illinois Certified Domestic Violence Professional (ICDVP). \nClick here to register online and submit payment: https://forms.gle/t3d89BWuxu55izkt9
URL:https://ilcdvp.org/event/guardian-angel-community-services-40-hour-domestic-violence-training-4/
LOCATION:Guardian Angel Community Services\, 168 N. Ottawa Street\, Joliet\, IL\, 60432\, United States
CATEGORIES:40-Hour DV Training
END:VEVENT
BEGIN:VEVENT
DTSTART;TZID=America/Chicago:20260116T100000
DTEND;TZID=America/Chicago:20260116T113000
DTSTAMP:20260419T235235
CREATED:20251223T163631Z
LAST-MODIFIED:20251223T163631Z
UID:4106-1768557600-1768563000@ilcdvp.org
SUMMARY:Understanding Human Trafficking 101
DESCRIPTION:This training is an introduction to ideas and concepts related to trafficking co-facilitated by one of ChicagoCAC’s Human Trafficking specialists. Training will cover\, defining both sex and labor trafficking with examples of each\, identifying myths around trafficking\, exploring some strategies and approaches for trafficking screening\, highlighting vulnerabilities to trafficking and best practices for approaching survivors\, familiarizing audience with Chicago-area trafficking resources\, a trafficking case study from ChicagoCAC\, and discussing prevention vs. intervention \nVirtual Training \n1.5 CEUs
URL:https://ilcdvp.org/event/understanding-human-trafficking-101/
CATEGORIES:CEU Training
END:VEVENT
BEGIN:VEVENT
DTSTART;TZID=America/Chicago:20251212T090000
DTEND;TZID=America/Chicago:20251212T121500
DTSTAMP:20260419T235235
CREATED:20250403T150357Z
LAST-MODIFIED:20250403T150357Z
UID:3434-1765530000-1765541700@ilcdvp.org
SUMMARY:Betrayal Trauma and Domestic Violence Intervention Pt 2 Victimization
DESCRIPTION:Studies show that survivors of betrayal trauma need an approach in support services that focuses on establishing new healthy relationships. Helping them explore various ways that the impact of betrayal trauma manifests itself and acts as a barrier to forming healthy intimate relationships is of clinical significance during the initial stages of recovery. \nThis three-hour workshop will explore how to broach the subject matter of betrayal trauma with survivors and the impact of short- and long-term victimization in intimate relationships. It will also highlight best evidenced-based practices and ethical considerations.
URL:https://ilcdvp.org/event/betrayal-trauma-and-domestic-violence-intervention-pt-2-victimization/
LOCATION:Healthy Soul Talk PLLC\, 1701 S. 1st Ave Suite 208 2nd Fl Conference Room\, Maywood\, Illinois\, 60153
CATEGORIES:CEU Training
ORGANIZER;CN="Dr. Kimberly Thomas":MAILTO:healthysoultalk@gmail.com
END:VEVENT
BEGIN:VEVENT
DTSTART;TZID=America/Chicago:20251114T090000
DTEND;TZID=America/Chicago:20251114T120000
DTSTAMP:20260419T235235
CREATED:20250919T183742Z
LAST-MODIFIED:20250919T183742Z
UID:3856-1763110800-1763121600@ilcdvp.org
SUMMARY:Leadership and Emotional Intelligence for Mental Health Professionals
DESCRIPTION:Effective leadership in mental health care settings requires more\nthan clinical expertise—it demands emotional intelligence (EQ).\nThis course is designed for mental health professionals seeking\nto strengthen their leadership capacity in clinics\, hospitals\,\ncommunity organizations\, faith-based agencies\, or private\npractices. Participants will explore how EQ enhances self-\nawareness\, empathy\, decision-making\, and team collaboration.
URL:https://ilcdvp.org/event/leadership-and-emotional-intelligence-for-mental-health-professionals/
CATEGORIES:CEU Training
ORGANIZER;CN="Oakton College":MAILTO:cehp@oakton.edu
END:VEVENT
BEGIN:VEVENT
DTSTART;TZID=America/Chicago:20251112T090000
DTEND;TZID=America/Chicago:20251120T170000
DTSTAMP:20260419T235235
CREATED:20250707T171904Z
LAST-MODIFIED:20250707T171937Z
UID:3635-1762938000-1763658000@ilcdvp.org
SUMMARY:ANEW Domestic Violence 40-Hour Training
DESCRIPTION:Anew: Building Beyond Violence and Abuse offers Domestic Violence 40-Hour Training. This training provides 40 hours of in-person domestic violence related training in compliance with the Illinois Domestic Violence Act. Counseling and Social Work CEUs are available.
URL:https://ilcdvp.org/event/anew-domestic-violence-40-hour-training-2/
LOCATION:Anew: Building Beyond Violence and Abuse Administrative Office\, 18137 Harwood Ave\, Homewood\, IL\, 60430\, United States
CATEGORIES:40-Hour DV Training
ORGANIZER;CN="Susan Soda":MAILTO:susan.s@anewdv.org
END:VEVENT
BEGIN:VEVENT
DTSTART;TZID=America/Chicago:20251104T080000
DTEND;TZID=America/Chicago:20251205T170000
DTSTAMP:20260419T235235
CREATED:20250917T150538Z
LAST-MODIFIED:20250917T150538Z
UID:3817-1762243200-1764954000@ilcdvp.org
SUMMARY:Between Friends 40HR Training Fall 2025
DESCRIPTION:The Domestic Violence 40-hour training provides participants with the movement’s philosophical and political framework and a solid foundation for supporting folks who experience violence. In order for confidential communication to be protected\, the Illinois Domestic Violence Act (IDVA) requires that individuals working directly with survivors have a minimum of 40 hours of domestic violence training. Our training fulfills this requirement. The 40-hour training at Between Friends also fulfills the requirements to become an Illinois Certified Domestic Violence Professional (ICDVP). \n  \nClick link below for training flyer: \nBetween Friends 2025-2026-40HR-Schedule-Flyer-5
URL:https://ilcdvp.org/event/between-friends-40hr-training-fall-2025/
LOCATION:Between Friends at World Relief\, 3507 W. Lawrence Ave.\, Chicago\, IL\, 60625
CATEGORIES:40-Hour DV Training
ORGANIZER;CN="Between Friends at World Relief":MAILTO:spieters@betweenfriendschicago.org
END:VEVENT
BEGIN:VEVENT
DTSTART;TZID=America/Chicago:20251104T080000
DTEND;TZID=America/Chicago:20251120T170000
DTSTAMP:20260419T235235
CREATED:20251014T194504Z
LAST-MODIFIED:20251014T194504Z
UID:3944-1762243200-1763658000@ilcdvp.org
SUMMARY:Family Rescue's 40HR DV Training
DESCRIPTION:
URL:https://ilcdvp.org/event/family-rescues-40hr-dv-training/
LOCATION:Family Rescue\, 8811 S. Stony Island Ave.\, Chicago\, Illinois\, 60617
CATEGORIES:40-Hour DV Training
ORGANIZER;CN="Family Rescue":MAILTO:r.murphy@familyrescueinc.org
END:VEVENT
BEGIN:VEVENT
DTSTART;TZID=America/Chicago:20251103T090000
DTEND;TZID=America/Chicago:20251106T160000
DTSTAMP:20260419T235235
CREATED:20250514T181500Z
LAST-MODIFIED:20250514T181517Z
UID:3563-1762160400-1762444800@ilcdvp.org
SUMMARY:Family Shelter Service of Metropolitan Family Services DuPage 20/20 online modules\, 20hr in-person training
DESCRIPTION:20/20 ICADV online modules\, 20hr in-person. Downers Grove\, IL \nClick below for training information: \nFSS-November-2025-DV-Training-20-20
URL:https://ilcdvp.org/event/family-shelter-service-of-metropolitan-family-services-dupage-20-20-online-modules-20hr-in-person-training/
LOCATION:Family Shelter Service Community Center\, 7300 Main Street\, Downers Grove\, IL\, 60516\, United States
CATEGORIES:40-Hour DV Training
ORGANIZER;CN="Alexandra Milkent":MAILTO:milkenta@metrofamily.org
END:VEVENT
BEGIN:VEVENT
DTSTART;TZID=America/Chicago:20251031T090000
DTEND;TZID=America/Chicago:20251031T120000
DTSTAMP:20260419T235235
CREATED:20250919T184108Z
LAST-MODIFIED:20250919T184206Z
UID:3860-1761901200-1761912000@ilcdvp.org
SUMMARY:Navigating the Mental Health System
DESCRIPTION:This course will walk you through the Mental Health Continuum\nof Care. You will build confidence as a practitioner making\nrecommendations for your clients and knowing what options are\navailable in the community. We will explore barriers to mental\nhealth treatment and discuss how to break down the stigma with\nthe goal to create more access to care.
URL:https://ilcdvp.org/event/navigating-the-mental-health-system/
CATEGORIES:CEU Training
END:VEVENT
BEGIN:VEVENT
DTSTART;TZID=America/Chicago:20251027T090000
DTEND;TZID=America/Chicago:20251105T170000
DTSTAMP:20260419T235235
CREATED:20241120T165425Z
LAST-MODIFIED:20241120T165425Z
UID:2984-1761555600-1762362000@ilcdvp.org
SUMMARY:Center for Prevention of Abuse 63.5 hour combined DV/SA Training
DESCRIPTION:Training dates: \nOct 27 – Nov 5 \nClick below for the training flyer: \nDVSA Training Flyer 2025
URL:https://ilcdvp.org/event/center-for-prevention-of-abuse-63-5-hour-combined-dv-sa-training/
LOCATION:CFPA\, Peoria\, IL\, 61614
CATEGORIES:40-Hour DV Training
END:VEVENT
BEGIN:VEVENT
DTSTART;TZID=America/Chicago:20251020T090000
DTEND;TZID=America/Chicago:20251023T160000
DTSTAMP:20260419T235235
CREATED:20250514T175501Z
LAST-MODIFIED:20250514T180806Z
UID:3552-1760950800-1761235200@ilcdvp.org
SUMMARY:Family Shelter Service of Metropolitan Family Services DuPage 20/20 ICADV online modules/in person training
DESCRIPTION:20/20 ICADV online modules\, 20hrs in-person. \nClick link below for training information: \nFSS-October-2025-DV-Training-20-20
URL:https://ilcdvp.org/event/family-shelter-service-of-metropolitan-family-services-dupage-20-20-icadv-online-modules-in-person-training-2/
LOCATION:Family Shelter Service Community Center\, 7300 Main Street\, Downers Grove\, IL\, 60516\, United States
CATEGORIES:40-Hour DV Training
ORGANIZER;CN="Alexandra Milkent":MAILTO:milkenta@metrofamily.org
END:VEVENT
BEGIN:VEVENT
DTSTART;TZID=America/Chicago:20251017T090000
DTEND;TZID=America/Chicago:20251017T120000
DTSTAMP:20260419T235235
CREATED:20250919T183907Z
LAST-MODIFIED:20250919T183907Z
UID:3858-1760691600-1760702400@ilcdvp.org
SUMMARY:If They Walked Through The Door: Fictional Treatment Planning
DESCRIPTION:Although they were conceived in the minds of their authors more\nthan a hundred years ago\, many of literature’s most well-known\ncharacters bear a strong resemblance to the clients who walk\nthrough the doors of our offices today. What diagnoses and\ntreatment goals would you identify if Emma Bovary\, Anna\nKarenina\, Don Quixote\, or other characters from literature walked\ninto your office?
URL:https://ilcdvp.org/event/if-they-walked-through-the-door-fictional-treatment-planning/
CATEGORIES:CEU Training
ORGANIZER;CN="Oakton College":MAILTO:cehp@oakton.edu
END:VEVENT
BEGIN:VEVENT
DTSTART;TZID=America/Chicago:20251013T090000
DTEND;TZID=America/Chicago:20251015T170000
DTSTAMP:20260419T235235
CREATED:20250403T153925Z
LAST-MODIFIED:20250403T153925Z
UID:3445-1760346000-1760547600@ilcdvp.org
SUMMARY:Healthy Soul Talk Abuser Intervention (PAIP) Facilitator 20-Hour Training
DESCRIPTION:Are you interested in working with aggressors of domestic violence? \n*This training is required to co-facilitate Partner Abuse Intervention Groups that are recognized in Illinois under a protocol established and monitored by the Illinois Department of Human Services.* \n*This training is also a requirement for persons seeking to become certified as CPAIP (Certified Partner Abuse Intervention Professionals) by the ICDVP.* \nExpect to learn: \nThe foundation of the Partner Abuse Intervention Program\nBest practices for facilitating groups with various dynamics\nEvidence-based intervention models\nProtocol of PAIP- Il Administrative Code \nParking: FREE Parking \nHealthy Soul Talk PLLC is an approved and certified training site by the Illinois Domestic Violence Professionals Board (ICDVP). \n**All materials included. Continental breakfast and lunch provided **\nCE Sponsor: LCPC\, LCSW\, CPAIP\, IAODAPCA
URL:https://ilcdvp.org/event/healthy-soul-talk-abuser-intervention-paip-facilitator-20-hour-training-2/
LOCATION:Healthy Soul Talk PLLC\, 1701 S. 1st Ave Suite 208 2nd Fl Conference Room\, Maywood\, Illinois\, 60153
CATEGORIES:20-Hour PAIP Training
ORGANIZER;CN="Dr. Kimberly Thomas":MAILTO:healthysoultalk@gmail.com
END:VEVENT
BEGIN:VEVENT
DTSTART;TZID=America/Chicago:20251003T083000
DTEND;TZID=America/Chicago:20251003T120000
DTSTAMP:20260419T235235
CREATED:20250919T183608Z
LAST-MODIFIED:20250919T183608Z
UID:3853-1759480200-1759492800@ilcdvp.org
SUMMARY:Practicing Cultural Humility with Pregnant and Postpartum Patients
DESCRIPTION:This course will see to provide education on centering cultural\nhumility when working with pregnant and postpartum patients.\nThe course will explore the role that identity and culture plays in\npreparing for and navigating the early stages of parenthood.
URL:https://ilcdvp.org/event/practicing-cultural-humility-with-pregnant-and-postpartum-patients/
CATEGORIES:CEU Training
ORGANIZER;CN="Oakton College":MAILTO:cehp@oakton.edu
END:VEVENT
BEGIN:VEVENT
DTSTART;TZID=America/Chicago:20251001T180000
DTEND;TZID=America/Chicago:20251001T200000
DTSTAMP:20260419T235235
CREATED:20250917T152853Z
LAST-MODIFIED:20250917T152853Z
UID:3837-1759341600-1759348800@ilcdvp.org
SUMMARY:Light Up the Lakefront
DESCRIPTION:Lets start Domestic Violence Awareness Month strong\, by lighting candles on a Chicago beach to honor those who have been impacted by domestic violence this year. Please join us at Ohio Street Beach this year for this powerful vigil. \nEvent Location: \nOhio Street Beach \n600 N. Lakeshore Dr. \nChicago\, IL  60611 \n  \nEvent Cost:  Free \nNo CEUs awarded for this event. \n 
URL:https://ilcdvp.org/event/light-up-the-lakefront/
END:VEVENT
BEGIN:VEVENT
DTSTART;TZID=America/Chicago:20250926T090000
DTEND;TZID=America/Chicago:20250926T120000
DTSTAMP:20260419T235235
CREATED:20250919T183411Z
LAST-MODIFIED:20250919T183411Z
UID:3850-1758877200-1758888000@ilcdvp.org
SUMMARY:Understanding Psychopathology: A Cognitive Interpersonal Approach
DESCRIPTION:Psychopathology is something counselors and therapists need to\ncomprehend in order to direct treatment planning and facilitate\ncollaboration. This workshop will explore how some of the\ncommon psychological disorders present themselves and what\nthe relevant symptoms mean.
URL:https://ilcdvp.org/event/understanding-psychopathology-a-cognitive-interpersonal-approach/
CATEGORIES:CEU Training
ORGANIZER;CN="Oakton College":MAILTO:cehp@oakton.edu
END:VEVENT
BEGIN:VEVENT
DTSTART;TZID=America/Chicago:20250919T090000
DTEND;TZID=America/Chicago:20250919T121500
DTSTAMP:20260419T235235
CREATED:20250403T150611Z
LAST-MODIFIED:20250403T150611Z
UID:3441-1758272400-1758284100@ilcdvp.org
SUMMARY:Betrayal Trauma and Domestic Violence Intervention Pt 1-Abuser Rehabilitation
DESCRIPTION:Ever wondered how you could address betrayal trauma in partner abuse intervention programs? \nThis interactive three-hour workshop will explore when and how to infuse interventions in a PAIP group and individual setting regarding the perpetuation of domestic violence that causes emotional injuries from betrayal trauma. Specific focus will be on physical and sexual abuse that are primary factors preceding betrayal trauma inflicted on intimate partners.
URL:https://ilcdvp.org/event/betrayal-trauma-and-domestic-violence-intervention-pt-1-abuser-rehabilitation/
LOCATION:Healthy Soul Talk PLLC\, 1701 S. 1st Ave Suite 208 2nd Fl Conference Room\, Maywood\, Illinois\, 60153
CATEGORIES:CEU Training
ORGANIZER;CN="Dr. Kimberly Thomas":MAILTO:healthysoultalk@gmail.com
END:VEVENT
BEGIN:VEVENT
DTSTART;TZID=America/Chicago:20250917T083000
DTEND;TZID=America/Chicago:20250919T170000
DTSTAMP:20260419T235235
CREATED:20241120T171446Z
LAST-MODIFIED:20241120T171446Z
UID:2996-1758097800-1758301200@ilcdvp.org
SUMMARY:Center for Prevention of Abuse Partner Abuse Intervention Facilitator Training
DESCRIPTION:Training Dates: \nSept. 17 – Sept. 19 \nClick below for training flyer \nPAIP Training Flyer 2025
URL:https://ilcdvp.org/event/center-for-prevention-of-abuse-partner-abuse-intervention-facilitator-training-3/
LOCATION:CFPA\, Peoria\, IL\, 61614
CATEGORIES:20-Hour PAIP Training
ORGANIZER;CN="Carol J Hennon":MAILTO:chennon@centerforpreventionofabuse.org
END:VEVENT
BEGIN:VEVENT
DTSTART;TZID=America/Chicago:20250909T080000
DTEND;TZID=America/Chicago:20250925T170000
DTSTAMP:20260419T235235
CREATED:20250815T162504Z
LAST-MODIFIED:20250815T162504Z
UID:3728-1757404800-1758819600@ilcdvp.org
SUMMARY:Family Rescue September 40HR Domestic Violence Training- 20 hr virtual/20 hr in person Format
DESCRIPTION:Event Timing: Tuesdays and Thursdays\, September 9th through September 25th. Detailed Schedule. \nEvent Address: First 3 sessions over Zoom. Last 3 sessions at 8811 S Stony Island Ave. Chicago\, IL 60617
URL:https://ilcdvp.org/event/family-rescue-september-40hr-domestic-violence-training-20-hr-virtual-20-hr-in-person-format/
LOCATION:Family Rescue\, 8811 S. Stony Island Ave.\, Chicago\, Illinois\, 60617
CATEGORIES:40-Hour DV Training
END:VEVENT
BEGIN:VEVENT
DTSTART;TZID=America/Chicago:20250908T173000
DTEND;TZID=America/Chicago:20250917T203000
DTSTAMP:20260419T235235
CREATED:20250514T182918Z
LAST-MODIFIED:20250514T183003Z
UID:3568-1757352600-1758141000@ilcdvp.org
SUMMARY:Family Shelter Service of Metropolitan Family Services DuPage 20/20 ICADV online modules/in-person training
DESCRIPTION:20/20 ICADV online modules/in-person. Downers Grove\, IL \nClick below for training information: \nFSS- September-2025-DV-Training-20-20
URL:https://ilcdvp.org/event/family-shelter-service-of-metropolitan-family-services-dupage-20-20-icadv-online-modules-in-person-training-3/
LOCATION:Family Shelter Service Community Center\, 7300 Main Street\, Downers Grove\, IL\, 60516\, United States
CATEGORIES:40-Hour DV Training
ORGANIZER;CN="Alexandra Milkent":MAILTO:milkenta@metrofamily.org
END:VEVENT
BEGIN:VEVENT
DTSTART;TZID=America/Chicago:20250905T080000
DTEND;TZID=America/Chicago:20250905T163000
DTSTAMP:20260419T235235
CREATED:20250610T153159Z
LAST-MODIFIED:20250710T165905Z
UID:3596-1757059200-1757089800@ilcdvp.org
SUMMARY:Peaceful Partners IL Domestic Violence Conference: From Screens to Safety: Navigating Tech Abuse Together
DESCRIPTION:Technology can be a lifeline or a weapon. This dynamic training from NNEDV’s Safety Net Project explores how abusers misuse tech and how advocates\, counselors\, and frontline professionals can respond with survivor-centered strategies. Through real-life scenarios and interactive tools\, you’ll gain practical skills to help survivors stay safe in a digital world. \n6.25 CEUs awarded by Sojourn Shelter & Services \nRegistration is now open through Friday Aug. 15\, 2025.  Use code DV25 at checkout for 50% off the conference fee.  Click below for training flyer: \nRegistration Flyer \n 
URL:https://ilcdvp.org/event/peaceful-partners-il-domestic-violence-conference-from-screens-to-safety-navigating-tech-abuse-together/
LOCATION:Lincoln Land Community College\, Trutter Center\, 5250 Shepherd Road\, Springfield\, IL\, 62703\, United States
CATEGORIES:CEU Training
ORGANIZER;CN="Jamie McCoy":MAILTO:jamie.mccoy@llcc.edu
END:VEVENT
BEGIN:VEVENT
DTSTART;TZID=America/Chicago:20250819T090000
DTEND;TZID=America/Chicago:20250821T170000
DTSTAMP:20260419T235235
CREATED:20250705T125054Z
LAST-MODIFIED:20250705T125054Z
UID:3627-1755594000-1755795600@ilcdvp.org
SUMMARY:ANEW 20/20 Domestic Violence Training
DESCRIPTION:Anew: Building Beyond Violence and Abuse offers a 20-hour in-person domestic violence related training in compliance with the Illinois Domestic Violence Act. Participants MUST complete the 20-hour online modules on the ICADV’s website prior to the first day of the in-person training. Proof of completion will be required. The cost of the online modules is a SEPARATE fee of $250 paid directly on the ICADV website.
URL:https://ilcdvp.org/event/anew-20-20-domestic-violence-training/
LOCATION:Anew: Building Beyond Violence and Abuse Administrative Office\, 18137 Harwood Ave\, Homewood\, IL\, 60430\, United States
CATEGORIES:40-Hour DV Training
ORGANIZER;CN="Susan Soda":MAILTO:susan.s@anewdv.org
END:VEVENT
END:VCALENDAR