BEGIN:VCALENDAR
VERSION:2.0
PRODID:-//Illinois Certified Domestic Violence Professionals - ECPv6.15.20//NONSGML v1.0//EN
CALSCALE:GREGORIAN
METHOD:PUBLISH
X-WR-CALNAME:Illinois Certified Domestic Violence Professionals
X-ORIGINAL-URL:https://ilcdvp.org
X-WR-CALDESC:Events for Illinois Certified Domestic Violence Professionals
REFRESH-INTERVAL;VALUE=DURATION:PT1H
X-Robots-Tag:noindex
X-PUBLISHED-TTL:PT1H
BEGIN:VTIMEZONE
TZID:America/Chicago
BEGIN:DAYLIGHT
TZOFFSETFROM:-0600
TZOFFSETTO:-0500
TZNAME:CDT
DTSTART:20250309T080000
END:DAYLIGHT
BEGIN:STANDARD
TZOFFSETFROM:-0500
TZOFFSETTO:-0600
TZNAME:CST
DTSTART:20251102T070000
END:STANDARD
BEGIN:DAYLIGHT
TZOFFSETFROM:-0600
TZOFFSETTO:-0500
TZNAME:CDT
DTSTART:20260308T080000
END:DAYLIGHT
BEGIN:STANDARD
TZOFFSETFROM:-0500
TZOFFSETTO:-0600
TZNAME:CST
DTSTART:20261101T070000
END:STANDARD
BEGIN:DAYLIGHT
TZOFFSETFROM:-0600
TZOFFSETTO:-0500
TZNAME:CDT
DTSTART:20270314T080000
END:DAYLIGHT
BEGIN:STANDARD
TZOFFSETFROM:-0500
TZOFFSETTO:-0600
TZNAME:CST
DTSTART:20271107T070000
END:STANDARD
END:VTIMEZONE
BEGIN:VEVENT
DTSTART;TZID=America/Chicago:20260223T080000
DTEND;TZID=America/Chicago:20260306T170000
DTSTAMP:20260420T013543
CREATED:20250917T151128Z
LAST-MODIFIED:20250917T152127Z
UID:3825-1771833600-1772816400@ilcdvp.org
SUMMARY:Between Friends 40HR Training Winter 2025
DESCRIPTION:The Domestic Violence 40-hour training provides participants with the movement’s philosophical and political framework and a solid foundation for supporting folks who experience violence. In order for confidential communication to be protected\, the Illinois Domestic Violence Act (IDVA) requires that individuals working directly with survivors have a minimum of 40 hours of domestic violence training. Our training fulfills this requirement. The 40-hour training at Between Friends also fulfills the requirements to become an Illinois Certified Domestic Violence Professional (ICDVP). \nLocation:  TBD \nClick on training flyer below: \nBetween Friends WINTER 2025-2026-40HR-Schedule-Flyer-5
URL:https://ilcdvp.org/event/between-friends-40hr-training-winter-2025/
LOCATION:IL
CATEGORIES:40-Hour DV Training
ORGANIZER;CN="Susan Pieters":MAILTO:spieters@cawc.org
END:VEVENT
BEGIN:VEVENT
DTSTART;TZID=America/Chicago:20260310T090000
DTEND;TZID=America/Chicago:20260326T170000
DTSTAMP:20260420T013543
CREATED:20251215T210040Z
LAST-MODIFIED:20251215T210428Z
UID:4089-1773133200-1774544400@ilcdvp.org
SUMMARY:Family Rescue March DV 40-Hour Training
DESCRIPTION:Click below for training flyer: \nhttps://ilcdvp.org/wp-content/uploads/2025/12/Family-Rescue-March-DV-40-Hour-Training-Flyer-1.pdf \n 
URL:https://ilcdvp.org/event/family-rescue-march-dv-40-hour-training/
LOCATION:Family Rescue\, 8811 S. Stony Island Ave.\, Chicago\, Illinois\, 60617
CATEGORIES:40-Hour DV Training
END:VEVENT
END:VCALENDAR