BEGIN:VCALENDAR
VERSION:2.0
PRODID:-//Illinois Certified Domestic Violence Professionals - ECPv6.15.20//NONSGML v1.0//EN
CALSCALE:GREGORIAN
METHOD:PUBLISH
X-ORIGINAL-URL:https://ilcdvp.org
X-WR-CALDESC:Events for Illinois Certified Domestic Violence Professionals
REFRESH-INTERVAL;VALUE=DURATION:PT1H
X-Robots-Tag:noindex
X-PUBLISHED-TTL:PT1H
BEGIN:VTIMEZONE
TZID:America/Chicago
BEGIN:DAYLIGHT
TZOFFSETFROM:-0600
TZOFFSETTO:-0500
TZNAME:CDT
DTSTART:20250309T080000
END:DAYLIGHT
BEGIN:STANDARD
TZOFFSETFROM:-0500
TZOFFSETTO:-0600
TZNAME:CST
DTSTART:20251102T070000
END:STANDARD
BEGIN:DAYLIGHT
TZOFFSETFROM:-0600
TZOFFSETTO:-0500
TZNAME:CDT
DTSTART:20260308T080000
END:DAYLIGHT
BEGIN:STANDARD
TZOFFSETFROM:-0500
TZOFFSETTO:-0600
TZNAME:CST
DTSTART:20261101T070000
END:STANDARD
BEGIN:DAYLIGHT
TZOFFSETFROM:-0600
TZOFFSETTO:-0500
TZNAME:CDT
DTSTART:20270314T080000
END:DAYLIGHT
BEGIN:STANDARD
TZOFFSETFROM:-0500
TZOFFSETTO:-0600
TZNAME:CST
DTSTART:20271107T070000
END:STANDARD
END:VTIMEZONE
BEGIN:VEVENT
DTSTART;TZID=America/Chicago:20260126T083000
DTEND;TZID=America/Chicago:20260130T170000
DTSTAMP:20260420T042002
CREATED:20251111T171912Z
LAST-MODIFIED:20251111T171912Z
UID:4014-1769416200-1769792400@ilcdvp.org
SUMMARY:Guardian Angel Community Services 40 Hour Domestic Violence Training
DESCRIPTION:Participants will leave with a thorough understanding of domestic violence\, along with the knowledge of best practices for providing safe and effective support to survivors and their families. The 40-hour training at Guardian Angel Community Services also fulfills the requirements to become an Illinois Certified Domestic Violence Professional (ICDVP). \nClick here to register online and submit payment: https://forms.gle/t3d89BWuxu55izkt9
URL:https://ilcdvp.org/event/guardian-angel-community-services-40-hour-domestic-violence-training-4/
LOCATION:Guardian Angel Community Services\, 168 N. Ottawa Street\, Joliet\, IL\, 60432\, United States
CATEGORIES:40-Hour DV Training
END:VEVENT
END:VCALENDAR