BEGIN:VCALENDAR
VERSION:2.0
PRODID:-//Illinois Certified Domestic Violence Professionals - ECPv6.15.20//NONSGML v1.0//EN
CALSCALE:GREGORIAN
METHOD:PUBLISH
X-ORIGINAL-URL:https://ilcdvp.org
X-WR-CALDESC:Events for Illinois Certified Domestic Violence Professionals
REFRESH-INTERVAL;VALUE=DURATION:PT1H
X-Robots-Tag:noindex
X-PUBLISHED-TTL:PT1H
BEGIN:VTIMEZONE
TZID:America/Chicago
BEGIN:DAYLIGHT
TZOFFSETFROM:-0600
TZOFFSETTO:-0500
TZNAME:CDT
DTSTART:20240310T080000
END:DAYLIGHT
BEGIN:STANDARD
TZOFFSETFROM:-0500
TZOFFSETTO:-0600
TZNAME:CST
DTSTART:20241103T070000
END:STANDARD
BEGIN:DAYLIGHT
TZOFFSETFROM:-0600
TZOFFSETTO:-0500
TZNAME:CDT
DTSTART:20250309T080000
END:DAYLIGHT
BEGIN:STANDARD
TZOFFSETFROM:-0500
TZOFFSETTO:-0600
TZNAME:CST
DTSTART:20251102T070000
END:STANDARD
BEGIN:DAYLIGHT
TZOFFSETFROM:-0600
TZOFFSETTO:-0500
TZNAME:CDT
DTSTART:20260308T080000
END:DAYLIGHT
BEGIN:STANDARD
TZOFFSETFROM:-0500
TZOFFSETTO:-0600
TZNAME:CST
DTSTART:20261101T070000
END:STANDARD
END:VTIMEZONE
BEGIN:VEVENT
DTSTART;TZID=America/Chicago:20250107T090000
DTEND;TZID=America/Chicago:20250123T170000
DTSTAMP:20260422T184144
CREATED:20241202T213515Z
LAST-MODIFIED:20241202T213515Z
UID:3019-1736240400-1737651600@ilcdvp.org
SUMMARY:Family Rescue Jan 20V/20 Domestic Violence Training
DESCRIPTION:Family Rescue is offering the 40 Hour Domestic Violence Training in the 20V/20 format. The training will be six sessions total with the first three sessions being facilitated over Zoom and the last three sessions being facilitated in person at our administrative office at 8811 S Stony Island Ave\, Chicago IL 60617. The training will be from 9 AM to 5 PM on Tuesdays and Thursdays from January 7th through the 23rd. \nClick the link below for the training flyer: \nFamily-Rescue-Jan-2025-DV-40-Hour-Training-Flyer-PDF
URL:https://ilcdvp.org/event/family-rescue-jan-20v-20-domestic-violence-training/
LOCATION:Family Rescue\, 8811 S. Stony Island Ave.\, Chicago\, Illinois\, 60617
CATEGORIES:40-Hour DV Training
ORGANIZER;CN="Family Rescue":MAILTO:r.murphy@familyrescueinc.org
END:VEVENT
BEGIN:VEVENT
DTSTART;TZID=America/Chicago:20250113T083000
DTEND;TZID=America/Chicago:20250117T170000
DTSTAMP:20260422T184144
CREATED:20241205T152217Z
LAST-MODIFIED:20241205T152217Z
UID:3028-1736757000-1737133200@ilcdvp.org
SUMMARY:Guardian Angel Community Services 40 Hour Domestic Violence Training
DESCRIPTION:Guardian Angel Community Services (Joliet\, IL) is offering the 40-hour domestic violence training (40 hours are IN-PERSON). Training will take place January 13-17\, 2025\, Monday-Friday from 8:30-5pm. Please see the attached flier for more information. \nClick below for the training flyer: \nGuardian Angel January-40-Hour-Training-Flier-2
URL:https://ilcdvp.org/event/guardian-angel-community-services-40-hour-domestic-violence-training/
LOCATION:Guardian Angel Community Services\, 168 N. Ottawa Street\, Joliet\, IL\, 60432\, United States
CATEGORIES:40-Hour DV Training
ORGANIZER;CN="Brigid Marcoux":MAILTO:bmarcoux@gacsprograms.org
END:VEVENT
BEGIN:VEVENT
DTSTART;TZID=America/Chicago:20250114T173000
DTEND;TZID=America/Chicago:20250124T203000
DTSTAMP:20260422T184144
CREATED:20241120T173020Z
LAST-MODIFIED:20241120T173020Z
UID:2999-1736875800-1737750600@ilcdvp.org
SUMMARY:Family Shelter Service January 40hr Training 20/20
DESCRIPTION:January 2025 DV training 20hr online modules/20hr in-person (Downers Grove\, IL) \nClick on the training flyer below: \nFamily Shelter Service January-2025-DV-Training-20-20
URL:https://ilcdvp.org/event/family-shelter-service-january-40hr-training-20-20/
LOCATION:Family Shelter Service\, 7300 Main St.\, Downers Grove\, Illinois\, 60516
CATEGORIES:40-Hour DV Training
ORGANIZER;CN="Alexandra Milkent":MAILTO:milkenta@metrofamily.org
END:VEVENT
BEGIN:VEVENT
DTSTART;TZID=America/Chicago:20250127T090000
DTEND;TZID=America/Chicago:20250205T170000
DTSTAMP:20260422T184144
CREATED:20241120T165818Z
LAST-MODIFIED:20241120T165818Z
UID:2972-1737968400-1738774800@ilcdvp.org
SUMMARY:Center for Prevention of Abuse 63.5 hour combined DV/SA Training
DESCRIPTION:Training dates: \nJan. 27- Feb 5 \nClick below for the training flyer: \nDVSA Training Flyer 2025
URL:https://ilcdvp.org/event/center-for-prevention-of-abuse-63-5-hour-combined-dv-sa-training-5/
LOCATION:CFPA\, Peoria\, IL\, 61614
CATEGORIES:40-Hour DV Training
ORGANIZER;CN="Carol J Hennon":MAILTO:chennon@centerforpreventionofabuse.org
END:VEVENT
END:VCALENDAR