BEGIN:VCALENDAR
VERSION:2.0
PRODID:-//Illinois Certified Domestic Violence Professionals - ECPv6.15.20//NONSGML v1.0//EN
CALSCALE:GREGORIAN
METHOD:PUBLISH
X-ORIGINAL-URL:https://ilcdvp.org
X-WR-CALDESC:Events for Illinois Certified Domestic Violence Professionals
REFRESH-INTERVAL;VALUE=DURATION:PT1H
X-Robots-Tag:noindex
X-PUBLISHED-TTL:PT1H
BEGIN:VTIMEZONE
TZID:America/Chicago
BEGIN:DAYLIGHT
TZOFFSETFROM:-0600
TZOFFSETTO:-0500
TZNAME:CDT
DTSTART:20230312T080000
END:DAYLIGHT
BEGIN:STANDARD
TZOFFSETFROM:-0500
TZOFFSETTO:-0600
TZNAME:CST
DTSTART:20231105T070000
END:STANDARD
BEGIN:DAYLIGHT
TZOFFSETFROM:-0600
TZOFFSETTO:-0500
TZNAME:CDT
DTSTART:20240310T080000
END:DAYLIGHT
BEGIN:STANDARD
TZOFFSETFROM:-0500
TZOFFSETTO:-0600
TZNAME:CST
DTSTART:20241103T070000
END:STANDARD
BEGIN:DAYLIGHT
TZOFFSETFROM:-0600
TZOFFSETTO:-0500
TZNAME:CDT
DTSTART:20250309T080000
END:DAYLIGHT
BEGIN:STANDARD
TZOFFSETFROM:-0500
TZOFFSETTO:-0600
TZNAME:CST
DTSTART:20251102T070000
END:STANDARD
END:VTIMEZONE
BEGIN:VEVENT
DTSTART;TZID=America/Chicago:20240812T090000
DTEND;TZID=America/Chicago:20240823T170000
DTSTAMP:20260423T021834
CREATED:20240607T145529Z
LAST-MODIFIED:20240607T182040Z
UID:2517-1723453200-1724432400@ilcdvp.org
SUMMARY:Between Friends 40-Hour Domestic Violence Training
DESCRIPTION:The Domestic Violence 40-hour training provides participants with the movement’s philosophical and political framework and a solid foundation for supporting folks who experience violence. In order for confidential communication to be protected\, the Illinois Domestic Violence Act (IDVA) requires that individuals working directly with survivors have a minimum of 40 hours of domestic violence training. Our training fulfills this requirement. The 40-hour training at Between Friends also fulfills the requirements to become an Illinois Certified Domestic Violence Professional (ICDVP). \nWhen will the training happen? \nPlease note: All training days need to be attended in order for participants to receive a certificate. If you recognize that a participant will need to miss any portion of this training\, please find another training opportunity for them by clicking here. \nTraining Day 1 (In-Person at 200 W. Madison):\nMonday\, August 12\, 2024\n9:30am-4:00pm \nTraining Day 2 (via Zoom):\nTuesday\, August 13\, 2024\n9:00am-11:30am and 2:30pm-5:00pm \nTraining Day 3 (In-Person at 200 W. Madison):\nWednesday\, August 14\, 2024\n9:30am-4:00pm \nTraining Day 4 (via Zoom):\nThursday\, August 15\, 2024\n2:30pm-5:00pm \nTraining Day 5 (In-Person at 200 W. Madison):\nFriday\, August 16\, 2024\n9:30am-4:00pm \nTraining Day 6 (via Zoom):\nMonday\, August 19\, 2024\n9:00am-11:30am and 2:30pm-5:00pm \nTraining Day 7 (via Zoom):\nTuesday\, August 20\, 2024\n2:30pm-5:00pm \nTraining Day 8 (via Zoom):\nWednesday\, August 21\, 2024\n2:30pm-5:00pm \nTraining Day 9 (via Zoom):\nThursday\, August 22\, 2024\n2:30pm-5:00pm \nTraining Day 10 (In-Person at 200 W. Madison):\nFriday\, August 23\, 2024\n9:30am-4:00pm \nClick here for training flyer: \nBetween Friends · Between Friends 40-Hour Training Registration \n 
URL:https://ilcdvp.org/event/between-friends-40-hour-domestic-violence-training-10/
LOCATION:Between Friends at World Relief\, 3507 W. Lawrence Ave.\, Chicago\, IL\, 60625
CATEGORIES:40-Hour DV Training
ORGANIZER;CN="Susan Pieters":MAILTO:spieters@cawc.org
END:VEVENT
END:VCALENDAR