BEGIN:VCALENDAR
VERSION:2.0
PRODID:-//Illinois Certified Domestic Violence Professionals - ECPv6.15.20//NONSGML v1.0//EN
CALSCALE:GREGORIAN
METHOD:PUBLISH
X-WR-CALNAME:Illinois Certified Domestic Violence Professionals
X-ORIGINAL-URL:https://ilcdvp.org
X-WR-CALDESC:Events for Illinois Certified Domestic Violence Professionals
REFRESH-INTERVAL;VALUE=DURATION:PT1H
X-Robots-Tag:noindex
X-PUBLISHED-TTL:PT1H
BEGIN:VTIMEZONE
TZID:America/Chicago
BEGIN:DAYLIGHT
TZOFFSETFROM:-0600
TZOFFSETTO:-0500
TZNAME:CDT
DTSTART:20250309T080000
END:DAYLIGHT
BEGIN:STANDARD
TZOFFSETFROM:-0500
TZOFFSETTO:-0600
TZNAME:CST
DTSTART:20251102T070000
END:STANDARD
BEGIN:DAYLIGHT
TZOFFSETFROM:-0600
TZOFFSETTO:-0500
TZNAME:CDT
DTSTART:20260308T080000
END:DAYLIGHT
BEGIN:STANDARD
TZOFFSETFROM:-0500
TZOFFSETTO:-0600
TZNAME:CST
DTSTART:20261101T070000
END:STANDARD
BEGIN:DAYLIGHT
TZOFFSETFROM:-0600
TZOFFSETTO:-0500
TZNAME:CDT
DTSTART:20270314T080000
END:DAYLIGHT
BEGIN:STANDARD
TZOFFSETFROM:-0500
TZOFFSETTO:-0600
TZNAME:CST
DTSTART:20271107T070000
END:STANDARD
END:VTIMEZONE
BEGIN:VEVENT
DTSTART;TZID=America/Chicago:20260414T090000
DTEND;TZID=America/Chicago:20260430T170000
DTSTAMP:20260423T020828
CREATED:20260310T131308Z
LAST-MODIFIED:20260310T131308Z
UID:4401-1776157200-1777568400@ilcdvp.org
SUMMARY:Family Rescue April DV 40-Hour Training
DESCRIPTION:See flyer below for training details: \nFamily-Rescue-April-2026-40HR-DV-Training-Flyer
URL:https://ilcdvp.org/event/family-rescue-april-dv-40-hour-training/
LOCATION:Family Rescue\, 8811 S. Stony Island Ave.\, Chicago\, Illinois\, 60617
CATEGORIES:40-Hour DV Training
END:VEVENT
BEGIN:VEVENT
DTSTART;TZID=America/Chicago:20260423T130000
DTEND;TZID=America/Chicago:20260423T170000
DTSTAMP:20260423T020828
CREATED:20260402T133917Z
LAST-MODIFIED:20260402T152908Z
UID:4499-1776949200-1776963600@ilcdvp.org
SUMMARY:Law Enforcement Training and Technical Assistance Consortium Training - option 1
DESCRIPTION:Thursday\, April 23 1-5pm (check-in begins at 12:30)\nor\nFriday\, April 24 8-12pm (check-in begins at 7:30)\nTraining will be the same on both days\, so you only need to attend 1 training day. \nThe 12th Judicial Family Violence Coordinating Council welcomes leading experts in law enforcement response to gender-based violence from Law Enforcement Training and Technical Assistance Consortium (LETTAC). Funded by the federal Office of Violence Against Women (OVW)\, presenters will provide in depth training on the following topics: \n• Illinois Domestic Violence (750 ILCS 60/)\n• Illinois Domestic Violence Act of 1986\n• Domestic Violence Investigation Fundamentals\n• Build a foundational understanding of the serious nature of domestic violence\n• Map a pathway for effective investigations\n• Understand the importance of trauma-informed investigations\n• Effective report writing\n• Officer-Involved Domestic Violence\n• Officer Involved Domestic Violence Policy Development: Prevention\, Education and Training\, Early Warning and Intervention\, Incident Response\, Victim Safety\, Post Incident Decisions\n• Case Studies of Relevant Domestic Violence Incidents \nIdeal for law enforcement\, police social workers\, advocates\, prosecutors\, medical professionals\, mental health professionals\, partner abuse intervention professionals\, etc. \n4.0 CEUs for Certified Domestic Violence/Partner Abuse Intervention Professionals provided by Guardian Angel Community Services (Free)\n4.0 CEUs for LSW/LCSW\, LPC/LCPC\, and LMFT provided by Illinois Affiliation of Marriage and Family Therapists ($25) \nClick on training flyer below for details and registration: \nyllgwcin1ZIf-4.23-24.26-LETTAC-Training
URL:https://ilcdvp.org/event/law-enforcement-training-and-technical-assistance-consortium-training/
LOCATION:Lewis University – St. Charles Borromeo (North Campus)\, 101 Airport Road\, Romeoville\, IL\, 60446
CATEGORIES:CEU Training
ORGANIZER;CN="12th Judicial Family Violence Coordinating Council":MAILTO:amirrah@il12thcourt.gov
END:VEVENT
END:VCALENDAR